Workbook

Sheet Jan25
A1: The public report burden for this information is estimated to average 5.4 hours | H1: Form Approved OMB No. 2125-0032
H2: STATE
A3: U.S. Department of | H3: Kansas
A4: Transportation | H4: YEAR
E5: MONTHLY MOTOR-FUEL CONSUMPTION | H5: 2025
H6: MONTH OF SALE
A7: Federal Highway | H7: January
A8: Administration | H8: UNITS (check one)
H9: Gallons X
H10: Liters
C11: LI | F11: PRIVATE AND COMMERCIAL
B12: ITEM | C12: NE | D12: GASOLINE | E12: GASOHOL | F12: HWY DIESEL | G12: HWY LPG | H12: TOTAL
C13: # | D13: -1 | E13: -2 | F13: -3 | G13: -4 | H13: -5
A14: 1. Gross | B14: a. Gross Volume Reported | C14: 1 | D14: =D15+D21+D22 -> 6946007 | E14: =E15+E21+E22 -> 95815021 | F14: =F15+F21+F22 -> 43887913 | G14: =G15+G21+G22 -> 565761 | H14: =SUM(D14:G14) -> 147214702
B15: Net After Deduction | D15: 6596396 | E15: 95754268 | F15: 43830051 | G15: 565155
B16: Special Fuel Tax Receipts
B17: Special Fuel Tax Refunds
A18: Volume | B18: b. IFTA | C18: 2 | F18: 657955
A19: 2. Fully | B19: a. Losses - Flat % | C19: 21 | D19: 156766 | E19: 2258294 | H19: =SUM(D19:G19) -> 2415060
A20: Tax | B20: b. Losses - Actual | C20: 22 | H20: =SUM(D20:G20) -> 0
A21: Exempt | B21: c. Federal | C21: 23 | D21: 50188 | E21: 60753 | F21: 57862 | G21: 606 | H21: =SUM(D21:G21) -> 169409
B22: d. Aviation | C22: 24 | D22: 299423 | E22: 0 | H22: =SUM(D22:G22) -> 299423
B23: e. Native American | C23: 25 | H23: =SUM(D23:G23) -> 0
B24: f. Assessments | C24: 26 | D24: 29160.667 | H24: =SUM(D24:G24) -> 29160.667
B25: g. | C25: 27 | H25: =SUM(D25:G25) -> 0
B26: h. | C26: 28 | H26: =SUM(D26:G26) -> 0
B27: i. | C27: 29 | H27: =SUM(D27:G27) -> 0
B28: j. Total (sum a. through e - f.) | C28: 30 | D28: =SUM(D19:D23)-D24 -> 477216.33 | E28: =SUM(E19:E23)-E24 -> 2319047 | F28: =SUM(F19:F23)-F24 -> 57862 | G28: =SUM(G19:G23)-G24 -> 606 | H28: =SUM(H19:H23)-H24 -> 2854731.3
A29: 3. Gross Volume Taxed (1-2j) | C29: 40 | D29: =D14-D28 -> 6468790.7 | E29: =E14-E28 -> 93495974 | F29: =F14+F18-F28 -> 44488006 | G29: =G14-G28 -> 565155 | H29: =H14-H28 -> 1.4435997e+08
A30: 4. Fully | B30: a. Agriculture | C30: 51 | D30: 45295 | E30: 20107 | F30: 82275 | H30: =SUM(D30:G30) -> 147677
A31: Refunded | B31: b. Aviation | C31: 52 | H31: =SUM(D31:G31) -> 0
B32: c. Industrial/Commercial | C32: 53 | H32: =SUM(D32:G32) -> 0
B33: d. Construction | C33: 54 | H33: =SUM(D33:G33) -> 0
B34: e. Marine | C34: 55 | H34: =SUM(D34:G34) -> 0
B35: f. Municipal and Counties | C35: 56 | F35: 98509 | H35: =SUM(D35:G35) -> 98509
B36: g. Other | C36: 57 | D36: 8439 | E36: 487 | F36: 281968 | H36: =SUM(D36:G36) -> 290894
B37: h. | C37: 58 | H37: =SUM(D37:G37) -> 0
B38: i. | C38: 59 | H38: =SUM(D38:G38) -> 0
B39: j. | C39: 60 | H39: =SUM(D39:G39) -> 0
B40: k. | C40: 61
B41: l. | C41: 62
B42: m. | C42: 63
B43: n. | C43: 64
B44: o. | C44: 65
B45: p. | C45: 66
B46: q. | C46: 67
B47: r. Total (a. thru s.) | C47: 70 | D47: =SUM(D30:D41) -> 53734 | E47: =SUM(E30:E41) -> 20594 | F47: =SUM(F30:F41) -> 462752 | G47: =SUM(G30:G41) -> 0 | H47: =SUM(H30:H41) -> 537080
A48: 5. Net | B48: a. At Full Rate | C48: 81 | D48: =D29-D47 -> 6415056.7 | E48: =E29-E47 -> 93475380 | F48: =F29-F47 -> 44025254 | G48: =G29-G47 -> 565155 | H48: =SUM(D48:G48) -> 1.4448085e+08
A49: Volume | B49: b. | C49: 82
A50: Taxed | B50: c. | C50: 83
A51: Taxed at | B51: d. | C51: 84
A52: initial lower | B52: e. | C52: 85
A53: rate, partially | B53: f. | C53: 86
A54: exempt or | B54: g. | C54: 87
A55: partially | B55: h. | C55: 88
A56: refunded | B56: i. | C56: 89
B57: j. Total (a thru i, 3-4t) | C57: 90 | D57: =SUM(D48:D56) -> 6415056.7 | E57: =SUM(E48:E56) -> 93475380 | F57: =SUM(F48:F56) -> 44025254 | G57: =SUM(G48:G56) -> 565155 | H57: =SUM(H48:H56) -> 1.4448085e+08
B58: Calendar Year Cumulation | D58: =D57 -> 6415056.7 | E58: =E57 -> 93475380 | F58: =F57 -> 44025254 | G58: =G57 -> 565155 | H58: =H57 -> 1.4448085e+08
A59: 6. Source | B59: a. Agency Preparing this Report:
B60: Kansas Department of Revenue, Office of Research and Analysis
B61: b. Compiled under Direction of: | G61: c. Date
B62: Mark Burghart, Secretary of Revenue
E63: PREVIOUS EDITIONS OBSOLETE | H63: (Next Page)
E64: 1
H67: =H2 -> STATE
H68: =H3 -> Kansas
D69: NOTES AND TECHNICAL INFORMATION | H69: =H4 -> YEAR
H70: =H5 -> 2025
H71: =H6 -> MONTH OF SALE
H72: =H7 -> January
A73: 1. Rate of tax at end month, in cents-per-gallon/liter. | D73: (If tax is ad valorem, post percentage, and briefly explain application basis below.)
E74: Rate | F74: Effective Date
C75: a. Gasoline | E75: 24¢/gallon | F75: 37803
C76: b. Gasohol | E76: 24¢/gallon | F76: 37803
C77: c. Gasohol E85 | E77: 17¢/gallon | F77: 39083
C78: d. Diesel | E78: 26¢/gallon | F78: 37803
C79: e. LPG | E79: 23¢/gallon | F79: 37803
C80: f. CNG * | E80: 23¢/gallon | F80: 37803
B81: * 120 cubic feet = one gallon
A82: 2. Computation of gross volume reported (page 1, item 1). | F82: Special Fuels
E83: Gasoline and Gasohol | F83: (Diesel and LPG)
B84: Gross sales from wholesaler/retailer returns | E84: =D14+E14 -> 102761028 | F84: =(+F28+F29+G29)-(F85-F86) -> 45111023
B85: Plus: IMC fuel volume used in state | F85: =0/0.26 -> 0
B86: Less: IMC fuel volume purchased tax paid in state
B87: ="= Gross consumption in State (enter on page 1, item 1)" -> = Gross consumption in State (enter on page 1, item 1) | E87: =(E84+E85)-E86 -> 102761028 | F87: =(F84+F85)-F86 -> 45111023
E89: Interstate motor carrier (fuel use tax) fuel volume shown above covers period:
F90: Diesel | G90: LP-Gas | H90: Combined
E91: * page 1, line 1 split | F91: =F14 -> 43887913 | G91: =G14 -> 565761 | H91: =F91+G91 -> 44453674
A92: 3. Stratification of gasohol by blend ratio
B94: The gasohol volume on page 1 column (2) includes: | E94: (show actual/estimated volume or percentage shares)
C96: Percent Alcohol | E96: Volume | F96: Percentage Share
D97: 5.7-7.6%
D98: 7.7-9.9%
D99: 10% or more | F99: 1
A101: 4. Notes and comments
A104: Note that diesel gallons include state, county and municipal government highway use, but does not include use by
A105: school buses.
A106: Line #26 (Assessments) - Assessments, either positive or negative, can be the result of audits, amended returns or
A107: office (KS Dept. of Revenue) assessments or abatements.
A124: Form FHWA-551M (Rev. 11-93) | E124: 2

Sheet Feb25
A1: The public report burden for this information is estimated to average 5.4 hours | H1: Form Approved OMB No. 2125-0032
H2: STATE
A3: U.S. Department of | H3: Kansas
A4: Transportation | H4: YEAR
E5: MONTHLY MOTOR-FUEL CONSUMPTION | H5: 2025
H6: MONTH OF SALE
A7: Federal Highway | H7: February
A8: Administration | H8: UNITS (check one)
H9: Gallons X
H10: Liters
C11: LI | F11: PRIVATE AND COMMERCIAL
B12: ITEM | C12: NE | D12: GASOLINE | E12: GASOHOL | F12: HWY DIESEL | G12: HWY LPG | H12: TOTAL
C13: # | D13: -1 | E13: -2 | F13: -3 | G13: -4 | H13: -5
A14: 1. Gross | B14: a. Gross Volume Reported | C14: 1 | D14: =D15+D21+D22 -> 6149534 | E14: =E15+E21+E22 -> 89934714 | F14: =F15+F21+F22 -> 39494552 | G14: =G15+G21+G22 -> 539022 | H14: =SUM(D14:G14) -> 136117822
B15: Net After Deduction | D15: 5783001 | E15: 89871888 | F15: 39463352 | G15: 538622
B16: Special Fuel Tax Receipts
B17: Special Fuel Tax Refunds
A18: Volume | B18: b. IFTA | C18: 2 | F18: 7474964
A19: 2. Fully | B19: a. Losses - Flat % | C19: 21 | D19: 136382 | E19: 2105734 | H19: =SUM(D19:G19) -> 2242116
A20: Tax | B20: b. Losses - Actual | C20: 22 | F20: 10838 | H20: =SUM(D20:G20) -> 10838
A21: Exempt | B21: c. Federal | C21: 23 | D21: 52967 | E21: 62826 | F21: 31200 | G21: 400 | H21: =SUM(D21:G21) -> 147393
B22: d. Aviation | C22: 24 | D22: 313566 | E22: 0 | F22: 0 | G22: 0 | H22: =SUM(D22:G22) -> 313566
B23: e. Native American | C23: 25 | H23: =SUM(D23:G23) -> 0
B24: f. Assessments | C24: 26 | D24: -7171.9583 | H24: =SUM(D24:G24) -> -7171.9583
B25: g. | C25: 27 | H25: =SUM(D25:G25) -> 0
B26: h. | C26: 28 | H26: =SUM(D26:G26) -> 0
B27: i. | C27: 29 | H27: =SUM(D27:G27) -> 0
B28: j. Total (sum a. through e - f.) | C28: 30 | D28: =SUM(D19:D23)-D24 -> 510086.96 | E28: =SUM(E19:E23)-E24 -> 2168560 | F28: =SUM(F19:F23)-F24 -> 42038 | G28: =SUM(G19:G23)-G24 -> 400 | H28: =SUM(H19:H23)-H24 -> 2721085
A29: 3. Gross Volume Taxed (1-2j) | C29: 40 | D29: =D14-D28 -> 5639447 | E29: =E14-E28 -> 87766154 | F29: =F14+F18-F28 -> 46927478 | G29: =G14-G28 -> 538622 | H29: =H14-H28 -> 1.3339674e+08
A30: 4. Fully | B30: a. Agriculture | C30: 51 | D30: 22269 | E30: 29802 | F30: 92355 | H30: =SUM(D30:G30) -> 144426
A31: Refunded | B31: b. Aviation | C31: 52 | H31: =SUM(D31:G31) -> 0
B32: c. Industrial/Commercial | C32: 53 | H32: =SUM(D32:G32) -> 0
B33: d. Construction | C33: 54 | H33: =SUM(D33:G33) -> 0
B34: e. Marine | C34: 55 | H34: =SUM(D34:G34) -> 0
B35: f. Municipal and Counties | C35: 56 | F35: 121427 | H35: =SUM(D35:G35) -> 121427
B36: g. Other | C36: 57 | D36: 9563 | E36: 88456 | F36: 239243 | H36: =SUM(D36:G36) -> 337262
B37: h. | C37: 58 | H37: =SUM(D37:G37) -> 0
B38: i. | C38: 59 | H38: =SUM(D38:G38) -> 0
B39: j. | C39: 60 | H39: =SUM(D39:G39) -> 0
B40: k. | C40: 61
B41: l. | C41: 62
B42: m. | C42: 63
B43: n. | C43: 64
B44: o. | C44: 65
B45: p. | C45: 66
B46: q. | C46: 67
B47: r. Total (a. thru s.) | C47: 70 | D47: =SUM(D30:D41) -> 31832 | E47: =SUM(E30:E41) -> 118258 | F47: =SUM(F30:F41) -> 453025 | G47: =SUM(G30:G41) -> 0 | H47: =SUM(H30:H41) -> 603115
A48: 5. Net | B48: a. At Full Rate | C48: 81 | D48: =D29-D47 -> 5607615 | E48: =E29-E47 -> 87647896 | F48: =F29-F47 -> 46474453 | G48: =G29-G47 -> 538622 | H48: =SUM(D48:G48) -> 1.4026859e+08
A49: Volume | B49: b. | C49: 82
A50: Taxed | B50: c. | C50: 83
A51: Taxed at | B51: d. | C51: 84
A52: initial lower | B52: e. | C52: 85
A53: rate, partially | B53: f. | C53: 86
A54: exempt or | B54: g. | C54: 87
A55: partially | B55: h. | C55: 88
A56: refunded | B56: i. | C56: 89
B57: j. Total (a thru i, 3-4t) | C57: 90 | D57: =SUM(D48:D56) -> 5607615 | E57: =SUM(E48:E56) -> 87647896 | F57: =SUM(F48:F56) -> 46474453 | G57: =SUM(G48:G56) -> 538622 | H57: =SUM(H48:H56) -> 1.4026859e+08
B58: Calendar Year Cumulation | D58: =D57+'Jan25'!D58 -> 12022672 | E58: =E57+'Jan25'!E58 -> 181123276 | F58: =F57+'Jan25'!F58 -> 90499707 | G58: =G57+'Jan25'!G58 -> 1103777 | H58: =H57+'Jan25'!H58 -> 2.8474943e+08
A59: 6. Source | B59: a. Agency Preparing this Report:
B60: Kansas Department of Revenue, Office of Research and Analysis
B61: b. Compiled under Direction of: | G61: c. Date
B62: Mark Burghart, Secretary of Revenue
E63: PREVIOUS EDITIONS OBSOLETE | H63: (Next Page)
E64: 1
H67: =H2 -> STATE
H68: =H3 -> Kansas
D69: NOTES AND TECHNICAL INFORMATION | H69: =H4 -> YEAR
H70: =H5 -> 2025
H71: =H6 -> MONTH OF SALE
H72: =H7 -> February
A73: 1. Rate of tax at end month, in cents-per-gallon/liter. | D73: (If tax is ad valorem, post percentage, and briefly explain application basis below.)
E74: Rate | F74: Effective Date
C75: a. Gasoline | E75: 24¢/gallon | F75: 37803
C76: b. Gasohol | E76: 24¢/gallon | F76: 37803
C77: c. Gasohol E85 | E77: 17¢/gallon | F77: 39083
C78: d. Diesel | E78: 26¢/gallon | F78: 37803
C79: e. LPG | E79: 23¢/gallon | F79: 37803
C80: f. CNG * | E80: 23¢/gallon | F80: 37803
B81: * 120 cubic feet = one gallon
A82: 2. Computation of gross volume reported (page 1, item 1). | F82: Special Fuels
E83: Gasoline and Gasohol | F83: (Diesel and LPG)
B84: Gross sales from wholesaler/retailer returns | E84: =D14+E14 -> 96084248 | F84: =(+F28+F29+G29)-(F85-F86) -> 47508138
B85: Plus: IMC fuel volume used in state | F85: =0/0.26 -> 0
B86: Less: IMC fuel volume purchased tax paid in state
B87: ="= Gross consumption in State (enter on page 1, item 1)" -> = Gross consumption in State (enter on page 1, item 1) | E87: =(E84+E85)-E86 -> 96084248 | F87: =(F84+F85)-F86 -> 47508138
E89: Interstate motor carrier (fuel use tax) fuel volume shown above covers period:
F90: Diesel | G90: LP-Gas | H90: Combined
E91: * page 1, line 1 split | F91: =F14 -> 39494552 | G91: =G14 -> 539022 | H91: =F91+G91 -> 40033574
A92: 3. Stratification of gasohol by blend ratio
B94: The gasohol volume on page 1 column (2) includes: | E94: (show actual/estimated volume or percentage shares)
C96: Percent Alcohol | E96: Volume | F96: Percentage Share
D97: 5.7-7.6%
D98: 7.7-9.9%
D99: 10% or more | F99: 1
A101: 4. Notes and comments
A104: Note that diesel gallons include state, county and municipal government highway use, but does not include use by
A105: school buses.
A106: Line #26 (Assessments) - Assessments, either positive or negative, can be the result of audits, amended returns or
A107: office (KS Dept. of Revenue) assessments or abatements.
A124: Form FHWA-551M (Rev. 11-93) | E124: 2

Sheet Mar25
A1: The public report burden for this information is estimated to average 5.4 hours | H1: Form Approved OMB No. 2125-0032
H2: STATE
A3: U.S. Department of | H3: Kansas
A4: Transportation | H4: YEAR
E5: MONTHLY MOTOR-FUEL CONSUMPTION | H5: 2025
H6: MONTH OF SALE
A7: Federal Highway | H7: March
A8: Administration | H8: UNITS (check one)
H9: Gallons X
H10: Liters
C11: LI | F11: PRIVATE AND COMMERCIAL
B12: ITEM | C12: NE | D12: GASOLINE | E12: GASOHOL | F12: HWY DIESEL | G12: HWY LPG | H12: TOTAL
C13: # | D13: -1 | E13: -2 | F13: -3 | G13: -4 | H13: -5
A14: 1. Gross | B14: a. Gross Volume Reported | C14: 1 | D14: =D15+D21+D22 -> 8204219 | E14: =E15+E21+E22 -> 105472559 | F14: =F15+F21 -> 47303845 | G14: =G15+G21 -> 645401 | H14: =SUM(D14:G14)+F18 -> 162792240
B15: Net After Deduction | D15: 7564372 | E15: 105402480 | F15: 47265172 | G15: 644579
B16: Special Fuel Tax Receipts
B17: Special Fuel Tax Refunds
A18: Volume | B18: b. IFTA | C18: 2 | F18: 1166216
A19: 2. Fully | B19: a. Losses - Flat % | C19: 21 | D19: 179378 | E19: 2491393 | H19: =SUM(D19:G19) -> 2670771
A20: Tax | B20: b. Losses - Actual | C20: 22 | F20: 5401 | H20: =SUM(D20:G20) -> 5401
A21: Exempt | B21: c. Federal | C21: 23 | D21: 74934 | E21: 70079 | F21: 38673 | G21: 822 | H21: =SUM(D21:G21) -> 184508
B22: d. Aviation | C22: 24 | D22: 564913 | E22: 0 | G22: 0 | H22: =SUM(D22:G22) -> 564913
B23: e. Native American | C23: 25 | H23: =SUM(D23:G23) -> 0
B24: f. Assessments | C24: 26 | D24: 316214.83 | H24: =SUM(D24:G24) -> 316214.83
B25: g. | C25: 27 | H25: =SUM(D25:G25) -> 0
B26: h. | C26: 28 | H26: =SUM(D26:G26) -> 0
B27: i. | C27: 29 | H27: =SUM(D27:G27) -> 0
B28: j. Total (sum a. through e - f.) | C28: 30 | D28: =SUM(D19:D23)-D24 -> 503010.17 | E28: =SUM(E19:E23)-E24 -> 2561472 | F28: =SUM(F19:F23)-F24 -> 44074 | G28: =SUM(G19:G23)-G24 -> 822 | H28: =SUM(H19:H23)-H24 -> 3109378.2
A29: 3. Gross Volume Taxed (1-2j) | C29: 40 | D29: =D14-D28 -> 7701208.8 | E29: =E14-E28 -> 102911087 | F29: =F14+F18-F28 -> 48425987 | G29: =G14-G28 -> 644579 | H29: =H14-H28 -> 1.5968286e+08
A30: 4. Fully | B30: a. Agriculture | C30: 51 | D30: 12475 | E30: 8087 | F30: 29603 | H30: =SUM(D30:G30) -> 50165
A31: Refunded | B31: b. Aviation | C31: 52 | H31: =SUM(D31:G31) -> 0
B32: c. Industrial/Commercial | C32: 53 | H32: =SUM(D32:G32) -> 0
B33: d. Construction | C33: 54 | H33: =SUM(D33:G33) -> 0
B34: e. Marine | C34: 55 | H34: =SUM(D34:G34) -> 0
B35: f. Municipal and Counties | C35: 56 | H35: =SUM(D35:G35) -> 0
B36: g. Other | C36: 57 | D36: 3962 | E36: 11107 | F36: 370983 | H36: =SUM(D36:G36) -> 386052
B37: h. | C37: 58 | H37: =SUM(D37:G37) -> 0
B38: i. | C38: 59 | H38: =SUM(D38:G38) -> 0
B39: j. | C39: 60 | H39: =SUM(D39:G39) -> 0
B40: k. | C40: 61
B41: l. | C41: 62
B42: m. | C42: 63
B43: n. | C43: 64
B44: o. | C44: 65
B45: p. | C45: 66
B46: q. | C46: 67
B47: r. Total (a. thru s.) | C47: 70 | D47: =SUM(D30:D41) -> 16437 | E47: =SUM(E30:E41) -> 19194 | F47: =SUM(F30:F41) -> 400586 | G47: =SUM(G30:G41) -> 0 | H47: =SUM(H30:H41) -> 436217
A48: 5. Net | B48: a. At Full Rate | C48: 81 | D48: =D29-D47 -> 7684771.8 | E48: =E29-E47 -> 102891893 | F48: =F29-F47 -> 48025401 | G48: =G29-G47 -> 644579 | H48: =SUM(D48:G48) -> 1.5924664e+08
A49: Volume | B49: b. | C49: 82
A50: Taxed | B50: c. | C50: 83
A51: Taxed at | B51: d. | C51: 84
A52: initial lower | B52: e. | C52: 85
A53: rate, partially | B53: f. | C53: 86
A54: exempt or | B54: g. | C54: 87
A55: partially | B55: h. | C55: 88
A56: refunded | B56: i. | C56: 89
B57: j. Total (a thru i, 3-4t) | C57: 90 | D57: =SUM(D48:D56) -> 7684771.8 | E57: =SUM(E48:E56) -> 102891893 | F57: =SUM(F48:F56) -> 48025401 | G57: =SUM(G48:G56) -> 644579 | H57: =SUM(H48:H56) -> 1.5924664e+08
B58: Calendar Year Cumulation | D58: =D57+'Feb25'!D58 -> 19707444 | E58: =E57+'Feb25'!E58 -> 284015169 | F58: =F57+'Feb25'!F58 -> 138525108 | G58: =G57+'Feb25'!G58 -> 1748356 | H58: =H57+'Feb25'!H58 -> 4.4399608e+08
A59: 6. Source | B59: a. Agency Preparing this Report:
B60: Kansas Department of Revenue, Office of Research and Analysis
B61: b. Compiled under Direction of: | G61: c. Date
B62: Mark Burghart, Secretary of Revenue
E63: PREVIOUS EDITIONS OBSOLETE | H63: (Next Page)
E64: 1
H67: =H2 -> STATE
H68: =H3 -> Kansas
D69: NOTES AND TECHNICAL INFORMATION | H69: =H4 -> YEAR
H70: =H5 -> 2025
H71: =H6 -> MONTH OF SALE
H72: =H7 -> March
A73: 1. Rate of tax at end month, in cents-per-gallon/liter. | D73: (If tax is ad valorem, post percentage, and briefly explain application basis below.)
E74: Rate | F74: Effective Date
C75: a. Gasoline | E75: 24¢/gallon | F75: 37803
C76: b. Gasohol | E76: 24¢/gallon | F76: 37803
C77: c. Gasohol E85 | E77: 17¢/gallon | F77: 39083
C78: d. Diesel | E78: 26¢/gallon | F78: 37803
C79: e. LPG | E79: 23¢/gallon | F79: 37803
C80: f. CNG * | E80: 23¢/gallon | F80: 37803
B81: * 120 cubic feet = one gallon
A82: 2. Computation of gross volume reported (page 1, item 1). | F82: Special Fuels
E83: Gasoline and Gasohol | F83: (Diesel and LPG)
B84: Gross sales from wholesaler/retailer returns | E84: =D14+E14 -> 113676778 | F84: =(+F28+F29+G29)-(F85-F86) -> 49114640
B85: Plus: IMC fuel volume used in state
B86: Less: IMC fuel volume purchased tax paid in state
B87: ="= Gross consumption in State (enter on page 1, item 1)" -> = Gross consumption in State (enter on page 1, item 1) | E87: =(E84+E85)-E86 -> 113676778 | F87: =(F84+F85)-F86 -> 49114640
E89: Interstate motor carrier (fuel use tax) fuel volume shown above covers period:
F90: Diesel | G90: LP-Gas | H90: Combined
E91: * page 1, line 1 split | F91: =F14 -> 47303845 | G91: =G14 -> 645401 | H91: =F91+G91 -> 47949246
A92: 3. Stratification of gasohol by blend ratio
B94: The gasohol volume on page 1 column (2) includes: | E94: (show actual/estimated volume or percentage shares)
C96: Percent Alcohol | E96: Volume | F96: Percentage Share
D97: 5.7-7.6%
D98: 7.7-9.9%
D99: 10% or more | F99: 1
A101: 4. Notes and comments
A104: Note that diesel gallons include state, county and municipal government highway use, but does not include use by
A105: school buses.
A106: Line #26 (Assessments) - Assessments, either positive or negative, can be the result of audits, amended returns or
A107: office (KS Dept. of Revenue) assessments or abatements.
A124: Form FHWA-551M (Rev. 11-93) | E124: 2

Sheet Apr25
A1: The public report burden for this information is estimated to average 5.4 hours | H1: Form Approved OMB No. 2125-0032
H2: STATE
A3: U.S. Department of | H3: Kansas
A4: Transportation | H4: YEAR
E5: MONTHLY MOTOR-FUEL CONSUMPTION | H5: 2025
H6: MONTH OF SALE
A7: Federal Highway | H7: April
A8: Administration | H8: UNITS (check one)
H9: Gallons X
H10: Liters
C11: LI | F11: PRIVATE AND COMMERCIAL
B12: ITEM | C12: NE | D12: GASOLINE | E12: GASOHOL | F12: HWY DIESEL | G12: HWY LPG | H12: TOTAL
C13: # | D13: -1 | E13: -2 | F13: -3 | G13: -4 | H13: -5
A14: 1. Gross | B14: a. Gross Volume Reported | C14: 1 | D14: =D15+D21+D22 -> 8285229 | E14: =E15+E21+E22 -> 107204687 | F14: =F15+F21 -> 47301561 | G14: =G15+G21 -> 635848 | H14: =SUM(D14:G14) -> 163427325
B15: Net After Deduction | D15: 7705764 | E15: 107134770 | F15: 47252774 | G15: 634891
B16: Special Fuel Tax Receipts ($)
B17: Special Fuel Tax Refunds ($)
A18: Volume | B18: b. IFTA | C18: 2 | F18: 4624694
A19: 2. Fully | B19: a. Losses - Flat % | C19: 21 | D19: 182492 | E19: 2538464 | H19: =SUM(D19:G19) -> 2720956
A20: Tax | B20: b. Losses - Actual | C20: 22 | H20: =SUM(D20:G20) -> 0
A21: Exempt | B21: c. Federal | C21: 23 | D21: 58231 | E21: 69917 | F21: 48787 | G21: 957 | H21: =SUM(D21:G21) -> 177892
B22: d. Aviation | C22: 24 | D22: 521234 | E22: 0 | H22: =SUM(D22:G22) -> 521234
B23: e. Native American | C23: 25 | H23: =SUM(D23:G23) -> 0
B24: f. Assessments | C24: 26 | D24: 4803.88 | H24: =SUM(D24:G24) -> 4803.88
B25: g. | C25: 27 | H25: =SUM(D25:G25) -> 0
B26: h. | C26: 28 | H26: =SUM(D26:G26) -> 0
B27: i. | C27: 29 | H27: =SUM(D27:G27) -> 0
B28: j. Total (sum a. through e - f.) | C28: 30 | D28: =SUM(D19:D23)-D24 -> 757153.12 | E28: =SUM(E19:E23)-E24 -> 2608381 | F28: =SUM(F19:F23)-F24 -> 48787 | G28: =SUM(G19:G23)-G24 -> 957 | H28: =SUM(H19:H23)-H24 -> 3415278.1
A29: 3. Gross Volume Taxed (1-2j) | C29: 40 | D29: =D14-D28 -> 7528075.9 | E29: =E14-E28 -> 104596306 | F29: =F14+F18-F28 -> 51877468 | G29: =G14-G28 -> 634891 | H29: =H14-H28 -> 1.6001205e+08
A30: 4. Fully | B30: a. Agriculture | C30: 51 | D30: 7151 | E30: 12716 | F30: 14916 | H30: =SUM(D30:G30) -> 34783
A31: Refunded | B31: b. Aviation | C31: 52 | H31: =SUM(D31:G31) -> 0
B32: c. Industrial/Commercial | C32: 53 | H32: =SUM(D32:G32) -> 0
B33: d. Construction | C33: 54 | H33: =SUM(D33:G33) -> 0
B34: e. Marine | C34: 55 | H34: =SUM(D34:G34) -> 0
B35: f. Municipal and Counties | C35: 56 | H35: =SUM(D35:G35) -> 0
B36: g. Other | C36: 57 | D36: 10992 | E36: 20808 | F36: 371161 | H36: =SUM(D36:G36) -> 402961
B37: h. | C37: 58 | H37: =SUM(D37:G37) -> 0
B38: i. | C38: 59 | H38: =SUM(D38:G38) -> 0
B39: j. | C39: 60 | H39: =SUM(D39:G39) -> 0
B40: k. | C40: 61
B41: l. | C41: 62
B42: m. | C42: 63
B43: n. | C43: 64
B44: o. | C44: 65
B45: p. | C45: 66
B46: q. | C46: 67
B47: r. Total (a. thru s.) | C47: 70 | D47: =SUM(D30:D41) -> 18143 | E47: =SUM(E30:E41) -> 33524 | F47: =SUM(F30:F41) -> 386077 | G47: =SUM(G30:G41) -> 0 | H47: =SUM(H30:H41) -> 437744
A48: 5. Net | B48: a. At Full Rate | C48: 81 | D48: =D29-D47 -> 7509932.9 | E48: =E29-E47 -> 104562782 | F48: =F29-F47 -> 51491391 | G48: =G29-G47 -> 634891 | H48: =SUM(D48:G48) -> 1.64199e+08
A49: Volume | B49: b. | C49: 82
A50: Taxed | B50: c. | C50: 83
A51: Taxed at | B51: d. | C51: 84
A52: initial lower | B52: e. | C52: 85
A53: rate, partially | B53: f. | C53: 86
A54: exempt or | B54: g. | C54: 87
A55: partially | B55: h. | C55: 88
A56: refunded | B56: i. | C56: 89
B57: j. Total (a thru i, 3-4t) | C57: 90 | D57: =SUM(D48:D56) -> 7509932.9 | E57: =SUM(E48:E56) -> 104562782 | F57: =SUM(F48:F56) -> 51491391 | G57: =SUM(G48:G56) -> 634891 | H57: =SUM(H48:H56) -> 1.64199e+08
B58: Calendar Year Cumulation | D58: =D57+'Mar25'!D58 -> 27217376 | E58: =E57+'Mar25'!E58 -> 388577951 | F58: =F57+'Mar25'!F58 -> 190016499 | G58: =G57+'Mar25'!G58 -> 2383247 | H58: =H57+'Mar25'!H58 -> 6.0819507e+08
A59: 6. Source | B59: a. Agency Preparing this Report:
B60: Kansas Department of Revenue, Office of Research and Analysis
B61: b. Compiled under Direction of: | G61: c. Date
B62: Mark Burghart, Secretary of Revenue
E63: PREVIOUS EDITIONS OBSOLETE | H63: (Next Page)
E64: 1
H67: =H2 -> STATE
H68: =H3 -> Kansas
D69: NOTES AND TECHNICAL INFORMATION | H69: =H4 -> YEAR
H70: =H5 -> 2025
H71: =H6 -> MONTH OF SALE
H72: =H7 -> April
A73: 1. Rate of tax at end month, in cents-per-gallon/liter. | D73: (If tax is ad valorem, post percentage, and briefly explain application basis below.)
E74: Rate | F74: Effective Date
C75: a. Gasoline | E75: 24¢/gallon | F75: 37803
C76: b. Gasohol | E76: 24¢/gallon | F76: 37803
C77: c. Gasohol E85 | E77: 17¢/gallon | F77: 39083
C78: d. Diesel | E78: 26¢/gallon | F78: 37803
C79: e. LPG | E79: 23¢/gallon | F79: 37803
C80: f. CNG * | E80: 23¢/gallon | F80: 37803
B81: * 120 cubic feet = one gallon
A82: 2. Computation of gross volume reported (page 1, item 1). | F82: Special Fuels
E83: Gasoline and Gasohol | F83: (Diesel and LPG)
B84: Gross sales from wholesaler/retailer returns | E84: =D14+E14 -> 115489916 | F84: =(+F28+F29+G29)-(F85-F86) -> 52561146
B85: Plus: IMC fuel volume used in state | F85: =0/0.26 -> 0
B86: Less: IMC fuel volume purchased tax paid in state
B87: ="= Gross consumption in State (enter on page 1, item 1)" -> = Gross consumption in State (enter on page 1, item 1) | E87: =(E84+E85)-E86 -> 115489916 | F87: =(F84+F85)-F86 -> 52561146
E89: Interstate motor carrier (fuel use tax) fuel volume shown above covers period:
F90: Diesel | G90: LP-Gas | H90: Combined
E91: * page 1, line 1 split | F91: =F14 -> 47301561 | G91: =G14 -> 635848 | H91: =F91+G91 -> 47937409
A92: 3. Stratification of gasohol by blend ratio
B94: The gasohol volume on page 1 column (2) includes: | E94: (show actual/estimated volume or percentage shares)
C96: Percent Alcohol | E96: Volume | F96: Percentage Share
D97: 5.7-7.6%
D98: 7.7-9.9%
D99: 10% or more | F99: 1
A101: 4. Notes and comments
A104: Note that diesel gallons include state, county and municipal government highway use, but does not include use by
A105: school buses.
A106: Line #26 (Assessments) - Assessments, either positive or negative, can be the result of audits, amended returns or
A107: office (KS Dept. of Revenue) assessments or abatements.
A124: Form FHWA-551M (Rev. 11-93) | E124: 2

Sheet May25
A1: The public report burden for this information is estimated to average 5.4 hours | H1: Form Approved OMB No. 2125-0032
H2: STATE
A3: U.S. Department of | H3: Kansas
A4: Transportation | H4: YEAR
E5: MONTHLY MOTOR-FUEL CONSUMPTION | H5: 2025
H6: MONTH OF SALE
A7: Federal Highway | H7: May
A8: Administration | H8: UNITS (check one)
H9: Gallons X
H10: Liters
C11: LI | F11: PRIVATE AND COMMERCIAL
B12: ITEM | C12: NE | D12: GASOLINE | E12: GASOHOL | F12: HWY DIESEL | G12: HWY LPG | H12: TOTAL
C13: # | D13: -1 | E13: -2 | F13: -3 | G13: -4 | H13: -5
A14: 1. Gross | B14: a. Gross Volume Reported | C14: 1 | D14: =D15+D21+D22 -> 9342879 | E14: =E15+E21+E22 -> 112503784 | F14: =F15+F21 -> 45775177 | G14: =G15+G21 -> 684765 | H14: =SUM(D14:G14) -> 168306605
B15: Net After Deduction | D15: 8662764 | E15: 112437766 | F15: 45731407 | G15: 683860
B16: Special Fuel Tax Receipts ($)
B17: Special Fuel Tax Refunds ($)
A18: Volume | B18: b. IFTA | C18: 2 | F18: 7408889
A19: 2. Fully | B19: a. Losses - Flat % | C19: 21 | D19: 205681 | E19: 2666840 | H19: =SUM(D19:G19) -> 2872521
A20: Tax | B20: b. Losses - Actual | C20: 22 | H20: =SUM(D20:G20) -> 0
A21: Exempt | B21: c. Federal | C21: 23 | D21: 61310 | E21: 66018 | F21: 43770 | G21: 905 | H21: =SUM(D21:G21) -> 172003
B22: d. Aviation | C22: 24 | D22: 618805 | E22: 0 | H22: =SUM(D22:G22) -> 618805
B23: e. Native American | C23: 25 | H23: =SUM(D23:G23) -> 0
B24: f. Assessments | C24: 26 | D24: -22454.625 | H24: =SUM(D24:G24) -> -22454.625
B25: g. | C25: 27 | H25: =SUM(D25:G25) -> 0
B26: h. | C26: 28 | H26: =SUM(D26:G26) -> 0
B27: i. | C27: 29 | H27: =SUM(D27:G27) -> 0
B28: j. Total (sum a. through e - f.) | C28: 30 | D28: =SUM(D19:D23)-D24 -> 908250.62 | E28: =SUM(E19:E23)-E24 -> 2732858 | F28: =SUM(F19:F23)-F24 -> 43770 | G28: =SUM(G19:G23)-G24 -> 905 | H28: =SUM(H19:H23)-H24 -> 3685783.6
A29: 3. Gross Volume Taxed (1-2j) | C29: 40 | D29: =D14-D28 -> 8434628.4 | E29: =E14-E28 -> 109770926 | F29: =F14+F18-F28 -> 53140296 | G29: =G14-G28 -> 683860 | H29: =H14-H28 -> 1.6462082e+08
A30: 4. Fully | B30: a. Agriculture | C30: 51 | D30: 7010 | E30: 12558 | H30: =SUM(D30:G30) -> 19568
A31: Refunded | B31: b. Aviation | C31: 52 | H31: =SUM(D31:G31) -> 0
B32: c. Industrial/Commercial | C32: 53 | H32: =SUM(D32:G32) -> 0
B33: d. Construction | C33: 54 | H33: =SUM(D33:G33) -> 0
B34: e. Marine | C34: 55 | H34: =SUM(D34:G34) -> 0
B35: f. Municipal and Counties | C35: 56 | H35: =SUM(D35:G35) -> 0
B36: g. Other | C36: 57 | D36: 7537 | E36: 2082 | F36: 522210 | H36: =SUM(D36:G36) -> 531829
B37: h. | C37: 58 | H37: =SUM(D37:G37) -> 0
B38: i. | C38: 59 | H38: =SUM(D38:G38) -> 0
B39: j. | C39: 60 | H39: =SUM(D39:G39) -> 0
B40: k. | C40: 61
B41: l. | C41: 62
B42: m. | C42: 63
B43: n. | C43: 64
B44: o. | C44: 65
B45: p. | C45: 66
B46: q. | C46: 67
B47: r. Total (a. thru s.) | C47: 70 | D47: =SUM(D30:D41) -> 14547 | E47: =SUM(E30:E41) -> 14640 | F47: =SUM(F30:F41) -> 522210 | G47: =SUM(G30:G41) -> 0 | H47: =SUM(H30:H41) -> 551397
A48: 5. Net | B48: a. At Full Rate | C48: 81 | D48: =D29-D47 -> 8420081.4 | E48: =E29-E47 -> 109756286 | F48: =F29-F47 -> 52618086 | G48: =G29-G47 -> 683860 | H48: =SUM(D48:G48) -> 1.7147831e+08
A49: Volume | B49: b. | C49: 82
A50: Taxed | B50: c. | C50: 83
A51: Taxed at | B51: d. | C51: 84
A52: initial lower | B52: e. | C52: 85
A53: rate, partially | B53: f. | C53: 86
A54: exempt or | B54: g. | C54: 87
A55: partially | B55: h. | C55: 88
A56: refunded | B56: i. | C56: 89
B57: j. Total (a thru i, 3-4t) | C57: 90 | D57: =SUM(D48:D56) -> 8420081.4 | E57: =SUM(E48:E56) -> 109756286 | F57: =SUM(F48:F56) -> 52618086 | G57: =SUM(G48:G56) -> 683860 | H57: =SUM(H48:H56) -> 1.7147831e+08
B58: Calendar Year Cumulation | D58: =D57+'Apr25'!D58 -> 35637458 | E58: =E57+'Apr25'!E58 -> 498334237 | F58: =F57+'Apr25'!F58 -> 242634585 | G58: =G57+'Apr25'!G58 -> 3067107 | H58: =H57+'Apr25'!H58 -> 7.7967339e+08
A59: 6. Source | B59: a. Agency Preparing this Report:
B60: Kansas Department of Revenue, Office of Research and Analysis
B61: b. Compiled under Direction of: | G61: c. Date
B62: Mark Burghart, Secretary of Revenue
E63: PREVIOUS EDITIONS OBSOLETE | H63: (Next Page)
E64: 1
H67: =H2 -> STATE
H68: =H3 -> Kansas
D69: NOTES AND TECHNICAL INFORMATION | H69: =H4 -> YEAR
H70: =H5 -> 2025
H71: =H6 -> MONTH OF SALE
H72: =H7 -> May
A73: 1. Rate of tax at end month, in cents-per-gallon/liter. | D73: (If tax is ad valorem, post percentage, and briefly explain application basis below.)
E74: Rate | F74: Effective Date
C75: a. Gasoline | E75: 24¢/gallon | F75: 37803
C76: b. Gasohol | E76: 24¢/gallon | F76: 37803
C77: c. Gasohol E85 | E77: 17¢/gallon | F77: 39083
C78: d. Diesel | E78: 26¢/gallon | F78: 37803
C79: e. LPG | E79: 23¢/gallon | F79: 37803
C80: f. CNG * | E80: 23¢/gallon | F80: 37803
B81: * 120 cubic feet = one gallon
A82: 2. Computation of gross volume reported (page 1, item 1). | F82: Special Fuels
E83: Gasoline and Gasohol | F83: (Diesel and LPG)
B84: Gross sales from wholesaler/retailer returns | E84: =D14+E14 -> 121846663 | F84: =(+F28+F29+G29)-(F85-F86) -> 53867926
B85: Plus: IMC fuel volume used in state | F85: =0/0.26 -> 0
B86: Less: IMC fuel volume purchased tax paid in state
B87: ="= Gross consumption in State (enter on page 1, item 1)" -> = Gross consumption in State (enter on page 1, item 1) | E87: =(E84+E85)-E86 -> 121846663 | F87: =(F84+F85)-F86 -> 53867926
E89: Interstate motor carrier (fuel use tax) fuel volume shown above covers period:
F90: Diesel | G90: LP-Gas | H90: Combined
E91: * page 1, line 1 split | F91: =F14 -> 45775177 | G91: =G14 -> 684765 | H91: =F91+G91 -> 46459942
A92: 3. Stratification of gasohol by blend ratio
B94: The gasohol volume on page 1 column (2) includes: | E94: (show actual/estimated volume or percentage shares)
C96: Percent Alcohol | E96: Volume | F96: Percentage Share
D97: 5.7-7.6%
D98: 7.7-9.9%
D99: 10% or more | F99: 1
A101: 4. Notes and comments
A104: Note that diesel gallons include state, county and municipal government highway use, but does not include use by
A105: school buses.
A106: Line #26 (Assessments) - Assessments, either positive or negative, can be the result of audits, amended returns or
A107: office (KS Dept. of Revenue) assessments or abatements.
A124: Form FHWA-551M (Rev. 11-93) | E124: 2

Sheet June25
A1: The public report burden for this information is estimated to average 5.4 hours | H1: Form Approved OMB No. 2125-0032
H2: STATE
A3: U.S. Department of | H3: Kansas
A4: Transportation | H4: YEAR
E5: MONTHLY MOTOR-FUEL CONSUMPTION | H5: 2025
H6: MONTH OF SALE
A7: Federal Highway | H7: June
A8: Administration | H8: UNITS (check one)
H9: Gallons X
H10: Liters
C11: LI | F11: PRIVATE AND COMMERCIAL
B12: ITEM | C12: NE | D12: GASOLINE | E12: GASOHOL | F12: HWY DIESEL | G12: HWY LPG | H12: TOTAL
C13: # | D13: -1 | E13: -2 | F13: -3 | G13: -4 | H13: -5
A14: 1. Gross | B14: a. Gross Volume Reported | C14: 1 | D14: =D15+D21+D22 -> 9127025 | E14: =E15+E21+E22 -> 108002109 | F14: =F15+F21 -> 47161044 | G14: =G15+G21 -> 613142 | H14: =SUM(D14:G14)+F18 -> 165549139
B15: Net After Deduction | D15: 8534037 | E15: 107937138 | F15: 47121758 | G15: 612164
B16: Special Fuel Tax Receipts ($)
B17: Special Fuel Tax Refunds ($)
A18: Volume | B18: b. IFTA | C18: 2 | F18: 645819
A19: 2. Fully | B19: a. Losses - Flat % | C19: 21 | D19: 202005 | E19: 2559261 | H19: =SUM(D19:G19) -> 2761266
A20: Tax | B20: b. Losses - Actual | C20: 22 | H20: =SUM(D20:G20) -> 0
A21: Exempt | B21: c. Federal | C21: 23 | D21: 60286 | E21: 64971 | F21: 39286 | G21: 978 | H21: =SUM(D21:G21) -> 165521
B22: d. Aviation | C22: 24 | D22: 532702 | E22: 0 | H22: =SUM(D22:G22) -> 532702
B23: e. Native American | C23: 25 | H23: =SUM(D23:G23) -> 0
B24: f. Assessments | C24: 26 | D24: 48861.125 | H24: =SUM(D24:G24) -> 48861.125
B25: g. | C25: 27 | H25: =SUM(D25:G25) -> 0
B26: h. | C26: 28 | H26: =SUM(D26:G26) -> 0
B27: i. | C27: 29 | H27: =SUM(D27:G27) -> 0
B28: j. Total (sum a. through e - f.) | C28: 30 | D28: =SUM(D19:D23)-D24 -> 746131.88 | E28: =SUM(E19:E23)-E24 -> 2624232 | F28: =SUM(F19:F23)-F24 -> 39286 | G28: =SUM(G19:G23)-G24 -> 978 | H28: =SUM(H19:H23)-H24 -> 3410627.9
A29: 3. Gross Volume Taxed (1-2j) | C29: 40 | D29: =D14-D28 -> 8380893.1 | E29: =E14-E28 -> 105377877 | F29: =F14+F18-F28 -> 47767577 | G29: =G14-G28 -> 612164 | H29: =H14-H28 -> 1.6213851e+08
A30: 4. Fully | B30: a. Agriculture | C30: 51 | D30: 3462 | E30: 3432 | H30: =SUM(D30:G30) -> 6894
A31: Refunded | B31: b. Aviation | C31: 52 | H31: =SUM(D31:G31) -> 0
B32: c. Industrial/Commercial | C32: 53 | H32: =SUM(D32:G32) -> 0
B33: d. Construction | C33: 54 | H33: =SUM(D33:G33) -> 0
B34: e. Marine | C34: 55 | H34: =SUM(D34:G34) -> 0
B35: f. Municipal and Counties | C35: 56 | H35: =SUM(D35:G35) -> 0
B36: g. Other | C36: 57 | D36: 23080 | E36: 9633 | F36: 378807 | H36: =SUM(D36:G36) -> 411520
B37: h. | C37: 58 | H37: =SUM(D37:G37) -> 0
B38: i. | C38: 59 | H38: =SUM(D38:G38) -> 0
B39: j. | C39: 60 | H39: =SUM(D39:G39) -> 0
B40: k. | C40: 61
B41: l. | C41: 62
B42: m. | C42: 63
B43: n. | C43: 64
B44: o. | C44: 65
B45: p. | C45: 66
B46: q. | C46: 67
B47: r. Total (a. thru s.) | C47: 70 | D47: =SUM(D30:D41) -> 26542 | E47: =SUM(E30:E41) -> 13065 | F47: =SUM(F30:F41) -> 378807 | G47: =SUM(G30:G41) -> 0 | H47: =SUM(H30:H41) -> 418414
A48: 5. Net | B48: a. At Full Rate | C48: 81 | D48: =D29-D47 -> 8354351.1 | E48: =E29-E47 -> 105364812 | F48: =F29-F47 -> 47388770 | G48: =G29-G47 -> 612164 | H48: =SUM(D48:G48) -> 1.617201e+08
A49: Volume | B49: b. | C49: 82
A50: Taxed | B50: c. | C50: 83
A51: Taxed at | B51: d. | C51: 84
A52: initial lower | B52: e. | C52: 85
A53: rate, partially | B53: f. | C53: 86
A54: exempt or | B54: g. | C54: 87
A55: partially | B55: h. | C55: 88
A56: refunded | B56: i. | C56: 89
B57: j. Total (a thru i, 3-4t) | C57: 90 | D57: =SUM(D48:D56) -> 8354351.1 | E57: =SUM(E48:E56) -> 105364812 | F57: =SUM(F48:F56) -> 47388770 | G57: =SUM(G48:G56) -> 612164 | H57: =SUM(H48:H56) -> 1.617201e+08
B58: Calendar Year Cumulation | D58: =D57+'May25'!D58 -> 43991809 | E58: =E57+'May25'!E58 -> 603699049 | F58: =F57+'May25'!F58 -> 290023355 | G58: =G57+'May25'!G58 -> 3679271 | H58: =H57+'May25'!H58 -> 9.4139348e+08
A59: 6. Source | B59: a. Agency Preparing this Report:
B60: Kansas Department of Revenue, Office of Research and Analysis
B61: b. Compiled under Direction of: | G61: c. Date
B62: Mark Burghart, Secretary of Revenue
E63: PREVIOUS EDITIONS OBSOLETE | H63: (Next Page)
E64: 1
H67: =H2 -> STATE
H68: =H3 -> Kansas
D69: NOTES AND TECHNICAL INFORMATION | H69: =H4 -> YEAR
H70: =H5 -> 2025
H71: =H6 -> MONTH OF SALE
H72: =H7 -> June
A73: 1. Rate of tax at end month, in cents-per-gallon/liter. | D73: (If tax is ad valorem, post percentage, and briefly explain application basis below.)
E74: Rate | F74: Effective Date
C75: a. Gasoline | E75: 24¢/gallon | F75: 37803
C76: b. Gasohol | E76: 24¢/gallon | F76: 37803
C77: c. Gasohol E85 | E77: 17¢/gallon | F77: 39083
C78: d. Diesel | E78: 26¢/gallon | F78: 37803
C79: e. LPG | E79: 23¢/gallon | F79: 37803
C80: f. CNG * | E80: 23¢/gallon | F80: 37803
B81: * 120 cubic feet = one gallon
A82: 2. Computation of gross volume reported (page 1, item 1). | F82: Special Fuels
E83: Gasoline and Gasohol | F83: (Diesel and LPG)
B84: Gross sales from wholesaler/retailer returns | E84: =D14+E14 -> 117129134 | F84: =(+F28+F29+G29)-(F85-F86) -> 40194996
B85: Plus: IMC fuel volume used in state | F85: =2138248/0.26 -> 8224030.8
B86: Less: IMC fuel volume purchased tax paid in state
B87: ="= Gross consumption in State (enter on page 1, item 1)" -> = Gross consumption in State (enter on page 1, item 1) | E87: =(E84+E85)-E86 -> 117129134 | F87: =(F84+F85)-F86 -> 48419027
E89: Interstate motor carrier (fuel use tax) fuel volume shown above covers period:
F90: Diesel | G90: LP-Gas | H90: Combined
E91: * page 1, line 1 split | F91: =F14 -> 47161044 | G91: =G14 -> 613142 | H91: =F91+G91 -> 47774186
A92: 3. Stratification of gasohol by blend ratio
B94: The gasohol volume on page 1 column (2) includes: | E94: (show actual/estimated volume or percentage shares)
C96: Percent Alcohol | E96: Volume | F96: Percentage Share
D97: 5.7-7.6%
D98: 7.7-9.9%
D99: 10% or more | F99: 1
A101: 4. Notes and comments
A104: Note that diesel gallons include state, county and municipal government highway use, but does not include use by
A105: school buses.
A106: Line #26 (Assessments) - Assessments, either positive or negative, can be the result of audits, amended returns or
A107: office (KS Dept. of Revenue) assessments or abatements.
A124: Form FHWA-551M (Rev. 11-93) | E124: 2

Sheet July25
A1: The public report burden for this information is estimated to average 5.4 hours | H1: Form Approved OMB No. 2125-0032
H2: STATE
A3: U.S. Department of | H3: Kansas
A4: Transportation | H4: YEAR
E5: MONTHLY MOTOR-FUEL CONSUMPTION | H5: 2025
H6: MONTH OF SALE
A7: Federal Highway | H7: July
A8: Administration | H8: UNITS (check one)
H9: Gallons X
H10: Liters
C11: LI | F11: PRIVATE AND COMMERCIAL
B12: ITEM | C12: NE | D12: GASOLINE | E12: GASOHOL | F12: HWY DIESEL | G12: HWY LPG | H12: TOTAL
C13: # | D13: -1 | E13: -2 | F13: -3 | G13: -4 | H13: -5
A14: 1. Gross | B14: a. Gross Volume Reported | C14: 1 | D14: =D15+D21+D22 -> 9883250 | E14: =E15+E21+E22 -> 110376192 | F14: =F15+F21 -> 47556219 | G14: =G15+G21 -> 646687 | H14: =SUM(D14:G14) -> 168462348
B15: Net After Deduction | D15: 8958858 | E15: 110301257 | F15: 47533329 | G15: 645954
B16: Special Fuel Tax Receipts ($)
B17: Special Fuel Tax Refunds ($)
A18: Volume | B18: b. IFTA | C18: 2 | F18: 758882
A19: 2. Fully | B19: a. Losses - Flat % | C19: 21 | D19: 211636 | E19: 2616676 | H19: =SUM(D19:G19) -> 2828312
A20: Tax | B20: b. Losses - Actual | C20: 22 | F20: 20141 | H20: =SUM(D20:G20) -> 20141
A21: Exempt | B21: c. Federal | C21: 23 | D21: 68339 | E21: 74935 | F21: 22890 | G21: 733 | H21: =SUM(D21:G21) -> 166897
B22: d. Aviation | C22: 24 | D22: 856053 | E22: 0 | H22: =SUM(D22:G22) -> 856053
B23: e. Native American | C23: 25 | H23: =SUM(D23:G23) -> 0
B24: f. Assessments | C24: 26 | D24: 242046.96 | H24: =SUM(D24:G24) -> 242046.96
B25: g. | C25: 27 | H25: =SUM(D25:G25) -> 0
B26: h. | C26: 28 | H26: =SUM(D26:G26) -> 0
B27: i. | C27: 29 | H27: =SUM(D27:G27) -> 0
B28: j. Total (sum a. through e - f.) | C28: 30 | D28: =SUM(D19:D23)-D24 -> 893981.04 | E28: =SUM(E19:E23)-E24 -> 2691611 | F28: =SUM(F19:F23)-F24 -> 43031 | G28: =SUM(G19:G23)-G24 -> 733 | H28: =SUM(H19:H23)-H24 -> 3629356
A29: 3. Gross Volume Taxed (1-2j) | C29: 40 | D29: =D14-D28 -> 8989269 | E29: =E14-E28 -> 107684581 | F29: =F14+F18-F28 -> 48272070 | G29: =G14-G28 -> 645954 | H29: =H14-H28 -> 1.6483299e+08
A30: 4. Fully | B30: a. Agriculture | C30: 51 | D30: 1919 | E30: 7663 | H30: =SUM(D30:G30) -> 9582
A31: Refunded | B31: b. Aviation | C31: 52 | H31: =SUM(D31:G31) -> 0
B32: c. Industrial/Commercial | C32: 53 | H32: =SUM(D32:G32) -> 0
B33: d. Construction | C33: 54 | H33: =SUM(D33:G33) -> 0
B34: e. Marine | C34: 55 | H34: =SUM(D34:G34) -> 0
B35: f. Municipal and Counties | C35: 56 | H35: =SUM(D35:G35) -> 0
B36: g. Other | C36: 57 | D36: 10301 | E36: 83907 | F36: 709412 | H36: =SUM(D36:G36) -> 803620
B37: h. | C37: 58 | H37: =SUM(D37:G37) -> 0
B38: i. | C38: 59 | H38: =SUM(D38:G38) -> 0
B39: j. | C39: 60 | H39: =SUM(D39:G39) -> 0
B40: k. | C40: 61
B41: l. | C41: 62
B42: m. | C42: 63
B43: n. | C43: 64
B44: o. | C44: 65
B45: p. | C45: 66
B46: q. | C46: 67
B47: r. Total (a. thru s.) | C47: 70 | D47: =SUM(D30:D41) -> 12220 | E47: =SUM(E30:E41) -> 91570 | F47: =SUM(F30:F41) -> 709412 | G47: =SUM(G30:G41) -> 0 | H47: =SUM(H30:H41) -> 813202
A48: 5. Net | B48: a. At Full Rate | C48: 81 | D48: =D29-D47 -> 8977049 | E48: =E29-E47 -> 107593011 | F48: =F29-F47 -> 47562658 | G48: =G29-G47 -> 645954 | H48: =SUM(D48:G48) -> 1.6477867e+08
A49: Volume | B49: b. | C49: 82
A50: Taxed | B50: c. | C50: 83
A51: Taxed at | B51: d. | C51: 84
A52: initial lower | B52: e. | C52: 85
A53: rate, partially | B53: f. | C53: 86
A54: exempt or | B54: g. | C54: 87
A55: partially | B55: h. | C55: 88
A56: refunded | B56: i. | C56: 89
B57: j. Total (a thru i, 3-4t) | C57: 90 | D57: =SUM(D48:D56) -> 8977049 | E57: =SUM(E48:E56) -> 107593011 | F57: =SUM(F48:F56) -> 47562658 | G57: =SUM(G48:G56) -> 645954 | H57: =SUM(H48:H56) -> 1.6477867e+08
B58: Calendar Year Cumulation | D58: =D57+June25!D58 -> 52968858 | E58: =E57+June25!E58 -> 711292060 | F58: =F57+June25!F58 -> 337586013 | G58: =G57+June25!G58 -> 4325225 | H58: =H57+June25!H58 -> 1.1061722e+09
A59: 6. Source | B59: a. Agency Preparing this Report:
B60: Kansas Department of Revenue, Office of Research and Analysis
B61: b. Compiled under Direction of: | G61: c. Date
B62: Mark Burghart, Secretary of Revenue
E63: PREVIOUS EDITIONS OBSOLETE | H63: (Next Page)
E64: 1
H67: =H2 -> STATE
H68: =H3 -> Kansas
D69: NOTES AND TECHNICAL INFORMATION | H69: =H4 -> YEAR
H70: =H5 -> 2025
H71: =H6 -> MONTH OF SALE
H72: =H7 -> July
A73: 1. Rate of tax at end month, in cents-per-gallon/liter. | D73: (If tax is ad valorem, post percentage, and briefly explain application basis below.)
E74: Rate | F74: Effective Date
C75: a. Gasoline | E75: 24¢/gallon | F75: 37803
C76: b. Gasohol | E76: 24¢/gallon | F76: 37803
C77: c. Gasohol E85 | E77: 17¢/gallon | F77: 39083
C78: d. Diesel | E78: 26¢/gallon | F78: 37803
C79: e. LPG | E79: 23¢/gallon | F79: 37803
C80: f. CNG * | E80: 23¢/gallon | F80: 37803
B81: * 120 cubic feet = one gallon
A82: 2. Computation of gross volume reported (page 1, item 1). | F82: Special Fuels
E83: Gasoline and Gasohol | F83: (Diesel and LPG)
B84: Gross sales from wholesaler/retailer returns | E84: =D14+E14 -> 120259442 | F84: =(+F28+F29+G29)-(F85-F86) -> 48961055
B85: Plus: IMC fuel volume used in state | F85: =0/0.26 -> 0
B86: Less: IMC fuel volume purchased tax paid in state
B87: ="= Gross consumption in State (enter on page 1, item 1)" -> = Gross consumption in State (enter on page 1, item 1) | E87: =(E84+E85)-E86 -> 120259442 | F87: =(F84+F85)-F86 -> 48961055
E89: Interstate motor carrier (fuel use tax) fuel volume shown above covers period:
F90: Diesel | G90: LP-Gas | H90: Combined
E91: * page 1, line 1 split | F91: =F14 -> 47556219 | G91: =G14 -> 646687 | H91: =F91+G91 -> 48202906
A92: 3. Stratification of gasohol by blend ratio
B94: The gasohol volume on page 1 column (2) includes: | E94: (show actual/estimated volume or percentage shares)
C96: Percent Alcohol | E96: Volume | F96: Percentage Share
D97: 5.7-7.6%
D98: 7.7-9.9%
D99: 10% or more | F99: 1
A101: 4. Notes and comments
A104: Note that diesel gallons include state, county and municipal government highway use, but does not include use by
A105: school buses.
A106: Line #26 (Assessments) - Assessments, either positive or negative, can be the result of audits, amended returns or
A107: office (KS Dept. of Revenue) assessments or abatements.
A124: Form FHWA-551M (Rev. 11-93) | E124: 2

Sheet Aug25
A1: The public report burden for this information is estimated to average 5.4 hours | H1: Form Approved OMB No. 2125-0032
H2: STATE
A3: U.S. Department of | H3: Kansas
A4: Transportation | H4: YEAR
E5: MONTHLY MOTOR-FUEL CONSUMPTION | H5: 2025
H6: MONTH OF SALE
A7: Federal Highway | H7: August
A8: Administration | H8: UNITS (check one)
H9: Gallons X
H10: Liters
C11: LI | F11: PRIVATE AND COMMERCIAL
B12: ITEM | C12: NE | D12: GASOLINE | E12: GASOHOL | F12: HWY DIESEL | G12: HWY LPG | H12: TOTAL
C13: # | D13: -1 | E13: -2 | F13: -3 | G13: -4 | H13: -5
A14: 1. Gross | B14: a. Gross Volume Reported | C14: 1 | D14: =D15+D21+D22 -> 9474426 | E14: =E15+E21+E22 -> 110151837 | F14: =F15+F21 -> 47483256 | G14: =G15+G21 -> 671785 | H14: =SUM(D14:G14) -> 167781304
B15: Net After Deduction | D15: 8741191 | E15: 110073645 | F15: 47453077 | G15: 665136
B16: Special Fuel Tax Receipts ($)
B17: Special Fuel Tax Refunds ($)
A18: Volume | B18: b. IFTA | C18: 2 | F18: 7714326
A19: 2. Fully | B19: a. Losses - Flat % | C19: 21 | D19: 205833 | E19: 2634309 | H19: =SUM(D19:G19) -> 2840142
A20: Tax | B20: b. Losses - Actual | C20: 22 | H20: =SUM(D20:G20) -> 0
A21: Exempt | B21: c. Federal | C21: 23 | D21: 69845 | E21: 78192 | F21: 30179 | G21: 6649 | H21: =SUM(D21:G21) -> 184865
B22: d. Aviation | C22: 24 | D22: 663390 | E22: 0 | H22: =SUM(D22:G22) -> 663390
B23: e. Native American | C23: 25 | H23: =SUM(D23:G23) -> 0
B24: f. Assessments | C24: 26 | D24: -11051.667 | H24: =SUM(D24:G24) -> -11051.667
B25: g. | C25: 27 | H25: =SUM(D25:G25) -> 0
B26: h. | C26: 28 | H26: =SUM(D26:G26) -> 0
B27: i. | C27: 29 | H27: =SUM(D27:G27) -> 0
B28: j. Total (sum a. through e - f.) | C28: 30 | D28: =SUM(D19:D23)-D24 -> 950119.67 | E28: =SUM(E19:E23)-E24 -> 2712501 | F28: =SUM(F19:F23)-F24 -> 30179 | G28: =SUM(G19:G23)-G24 -> 6649 | H28: =SUM(H19:H23)-H24 -> 3699448.7
A29: 3. Gross Volume Taxed (1-2j) | C29: 40 | D29: =D14-D28 -> 8524306.3 | E29: =E14-E28 -> 107439336 | F29: =F14+F18-F28 -> 55167403 | G29: =G14-G28 -> 665136 | H29: =H14-H28 -> 1.6408186e+08
A30: 4. Fully | B30: a. Agriculture | C30: 51 | D30: 5982 | E30: 4555 | F30: 54838 | H30: =SUM(D30:G30) -> 65375
A31: Refunded | B31: b. Aviation | C31: 52 | H31: =SUM(D31:G31) -> 0
B32: c. Industrial/Commercial | C32: 53 | H32: =SUM(D32:G32) -> 0
B33: d. Construction | C33: 54 | H33: =SUM(D33:G33) -> 0
B34: e. Marine | C34: 55 | H34: =SUM(D34:G34) -> 0
B35: f. Municipal and Counties | C35: 56 | H35: =SUM(D35:G35) -> 0
B36: g. Other | C36: 57 | D36: 64845 | E36: 6376 | F36: 683088 | H36: =SUM(D36:G36) -> 754309
B37: h. | C37: 58 | H37: =SUM(D37:G37) -> 0
B38: i. | C38: 59 | H38: =SUM(D38:G38) -> 0
B39: j. | C39: 60 | H39: =SUM(D39:G39) -> 0
B40: k. | C40: 61
B41: l. | C41: 62
B42: m. | C42: 63
B43: n. | C43: 64
B44: o. | C44: 65
B45: p. | C45: 66
B46: q. | C46: 67
B47: r. Total (a. thru s.) | C47: 70 | D47: =SUM(D30:D41) -> 70827 | E47: =SUM(E30:E41) -> 10931 | F47: =SUM(F30:F41) -> 737926 | G47: =SUM(G30:G41) -> 0 | H47: =SUM(H30:H41) -> 819684
A48: 5. Net | B48: a. At Full Rate | C48: 81 | D48: =D29-D47 -> 8453479.3 | E48: =E29-E47 -> 107428405 | F48: =F29-F47 -> 54429477 | G48: =G29-G47 -> 665136 | H48: =SUM(D48:G48) -> 1.709765e+08
A49: Volume | B49: b. | C49: 82
A50: Taxed | B50: c. | C50: 83
A51: Taxed at | B51: d. | C51: 84
A52: initial lower | B52: e. | C52: 85
A53: rate, partially | B53: f. | C53: 86
A54: exempt or | B54: g. | C54: 87
A55: partially | B55: h. | C55: 88
A56: refunded | B56: i. | C56: 89
B57: j. Total (a thru i, 3-4t) | C57: 90 | D57: =SUM(D48:D56) -> 8453479.3 | E57: =SUM(E48:E56) -> 107428405 | F57: =SUM(F48:F56) -> 54429477 | G57: =SUM(G48:G56) -> 665136 | H57: =SUM(H48:H56) -> 1.709765e+08
B58: Calendar Year Cumulation | D58: =D57+July25!D58 -> 61422337 | E58: =E57+July25!E58 -> 818720465 | F58: =F57+July25!F58 -> 392015490 | G58: =G57+July25!G58 -> 4990361 | H58: =H57+July25!H58 -> 1.2771487e+09
A59: 6. Source | B59: a. Agency Preparing this Report:
B60: Kansas Department of Revenue, Office of Research and Analysis
B61: b. Compiled under Direction of: | G61: c. Date
B62: Mark Burghart, Secretary of Revenue
E63: PREVIOUS EDITIONS OBSOLETE | H63: (Next Page)
E64: 1
H67: =H2 -> STATE
H68: =H3 -> Kansas
D69: NOTES AND TECHNICAL INFORMATION | H69: =H4 -> YEAR
H70: =H5 -> 2025
H71: =H6 -> MONTH OF SALE
H72: =H7 -> August
A73: 1. Rate of tax at end month, in cents-per-gallon/liter. | D73: (If tax is ad valorem, post percentage, and briefly explain application basis below.)
E74: Rate | F74: Effective Date
C75: a. Gasoline | E75: 24¢/gallon | F75: 37803
C76: b. Gasohol | E76: 24¢/gallon | F76: 37803
C77: c. Gasohol E85 | E77: 17¢/gallon | F77: 39083
C78: d. Diesel | E78: 26¢/gallon | F78: 37803
C79: e. LPG | E79: 23¢/gallon | F79: 37803
C80: f. CNG * | E80: 23¢/gallon | F80: 37803
B81: * 120 cubic feet = one gallon
A82: 2. Computation of gross volume reported (page 1, item 1). | F82: Special Fuels
E83: Gasoline and Gasohol | F83: (Diesel and LPG)
B84: Gross sales from wholesaler/retailer returns | E84: =D14+E14 -> 119626263 | F84: =(+F28+F29+G29)-(F85-F86) -> 55862718
B85: Plus: IMC fuel volume used in state | F85: =0/0.26 -> 0
B86: Less: IMC fuel volume purchased tax paid in state
B87: ="= Gross consumption in State (enter on page 1, item 1)" -> = Gross consumption in State (enter on page 1, item 1) | E87: =(E84+E85)-E86 -> 119626263 | F87: =(F84+F85)-F86 -> 55862718
E89: Interstate motor carrier (fuel use tax) fuel volume shown above covers period:
F90: Diesel | G90: LP-Gas | H90: Combined
E91: * page 1, line 1 split | F91: =F14 -> 47483256 | G91: =G14 -> 671785 | H91: =F91+G91 -> 48155041
A92: 3. Stratification of gasohol by blend ratio
B94: The gasohol volume on page 1 column (2) includes: | E94: (show actual/estimated volume or percentage shares)
C96: Percent Alcohol | E96: Volume | F96: Percentage Share
D97: 5.7-7.6%
D98: 7.7-9.9%
D99: 10% or more | F99: 1
A101: 4. Notes and comments
A104: Note that diesel gallons include state, county and municipal government highway use, but does not include use by
A105: school buses.
A106: Line #26 (Assessments) - Assessments, either positive or negative, can be the result of audits, amended returns or
A107: office (KS Dept. of Revenue) assessments or abatements.
A124: Form FHWA-551M (Rev. 11-93) | E124: 2

Sheet Sep25
A1: The public report burden for this information is estimated to average 5.4 hours | H1: Form Approved OMB No. 2125-0032
H2: STATE
A3: U.S. Department of | H3: Kansas
A4: Transportation | H4: YEAR
E5: MONTHLY MOTOR-FUEL CONSUMPTION | H5: 2025
H6: MONTH OF SALE
A7: Federal Highway | H7: September
A8: Administration | H8: UNITS (check one)
H9: Gallons X
H10: Liters
C11: LI | F11: PRIVATE AND COMMERCIAL
B12: ITEM | C12: NE | D12: GASOLINE | E12: GASOHOL | F12: HWY DIESEL | G12: HWY LPG | H12: TOTAL
C13: # | D13: -1 | E13: -2 | F13: -3 | G13: -4 | H13: -5
A14: 1. Gross | B14: a. Gross Volume Reported | C14: 1 | D14: =D15+D21+D22 -> 7685492 | E14: =E15+E21+E22 -> 98708551 | F14: =F15+F21 -> 43030686 | G14: =G15+G21 -> 642099 | H14: =SUM(D14:G14) -> 150066828
B15: Net After Deduction | D15: 7048593 | E15: 98644417 | F15: 43001139 | G15: 641376
B16: Special Fuel Tax Receipts ($)
B17: Special Fuel Tax Refunds ($)
A18: Volume | B18: b. IFTA | C18: 2 | F18: 496487
A19: 2. Fully | B19: a. Losses - Flat % | C19: 21 | D19: 170594 | E19: 2356582 | H19: =SUM(D19:G19) -> 2527176
A20: Tax | B20: b. Losses - Actual | C20: 22 | H20: =SUM(D20:G20) -> 0
A21: Exempt | B21: c. Federal | C21: 23 | D21: 53517 | E21: 64134 | F21: 29547 | G21: 723 | H21: =SUM(D21:G21) -> 147921
B22: d. Aviation | C22: 24 | D22: 583382 | H22: =SUM(D22:G22) -> 583382
B23: e. Native American | C23: 25 | H23: =SUM(D23:G23) -> 0
B24: f. Assessments | C24: 26 | D24: 628731.92 | H24: =SUM(D24:G24) -> 628731.92
B25: g. | C25: 27 | H25: =SUM(D25:G25) -> 0
B26: h. | C26: 28 | H26: =SUM(D26:G26) -> 0
B27: i. | C27: 29 | H27: =SUM(D27:G27) -> 0
B28: j. Total (sum a. through e - f.) | C28: 30 | D28: =SUM(D19:D23)-D24 -> 178761.08 | E28: =SUM(E19:E23)-E24 -> 2420716 | F28: =SUM(F19:F23)-F24 -> 29547 | G28: =SUM(G19:G23)-G24 -> 723 | H28: =SUM(H19:H23)-H24 -> 2629747.1
A29: 3. Gross Volume Taxed (1-2j) | C29: 40 | D29: =D14-D28 -> 7506730.9 | E29: =E14-E28 -> 96287835 | F29: =F14+F18-F28 -> 43497626 | G29: =G14-G28 -> 641376 | H29: =H14-H28 -> 1.4743708e+08
A30: 4. Fully | B30: a. Agriculture | C30: 51 | D30: 1338 | H30: =SUM(D30:G30) -> 1338
A31: Refunded | B31: b. Aviation | C31: 52 | H31: =SUM(D31:G31) -> 0
B32: c. Industrial/Commercial | C32: 53 | H32: =SUM(D32:G32) -> 0
B33: d. Construction | C33: 54 | H33: =SUM(D33:G33) -> 0
B34: e. Marine | C34: 55 | H34: =SUM(D34:G34) -> 0
B35: f. Municipal and Counties | C35: 56 | H35: =SUM(D35:G35) -> 0
B36: g. Other | C36: 57 | D36: 5300 | E36: 3371 | F36: 599037 | H36: =SUM(D36:G36) -> 607708
B37: h. | C37: 58 | H37: =SUM(D37:G37) -> 0
B38: i. | C38: 59 | H38: =SUM(D38:G38) -> 0
B39: j. | C39: 60 | H39: =SUM(D39:G39) -> 0
B40: k. | C40: 61
B41: l. | C41: 62
B42: m. | C42: 63
B43: n. | C43: 64
B44: o. | C44: 65
B45: p. | C45: 66
B46: q. | C46: 67
B47: r. Total (a. thru s.) | C47: 70 | D47: =SUM(D30:D41) -> 6638 | E47: =SUM(E30:E41) -> 3371 | F47: =SUM(F30:F41) -> 599037 | G47: =SUM(G30:G41) -> 0 | H47: =SUM(H30:H41) -> 609046
A48: 5. Net | B48: a. At Full Rate | C48: 81 | D48: =D29-D47 -> 7500092.9 | E48: =E29-E47 -> 96284464 | F48: =F29-F47 -> 42898589 | G48: =G29-G47 -> 641376 | H48: =SUM(D48:G48) -> 1.4732452e+08
A49: Volume | B49: b. | C49: 82
A50: Taxed | B50: c. | C50: 83
A51: Taxed at | B51: d. | C51: 84
A52: initial lower | B52: e. | C52: 85
A53: rate, partially | B53: f. | C53: 86
A54: exempt or | B54: g. | C54: 87
A55: partially | B55: h. | C55: 88
A56: refunded | B56: i. | C56: 89
B57: j. Total (a thru i, 3-4t) | C57: 90 | D57: =SUM(D48:D56) -> 7500092.9 | E57: =SUM(E48:E56) -> 96284464 | F57: =SUM(F48:F56) -> 42898589 | G57: =SUM(G48:G56) -> 641376 | H57: =SUM(H48:H56) -> 1.4732452e+08
B58: Calendar Year Cumulation | D58: =D57+'Aug25'!D58 -> 68922430 | E58: =E57+'Aug25'!E58 -> 915004929 | F58: =F57+'Aug25'!F58 -> 434914079 | G58: =G57+'Aug25'!G58 -> 5631737 | H58: =H57+'Aug25'!H58 -> 1.4244732e+09
A59: 6. Source | B59: a. Agency Preparing this Report:
B60: Kansas Department of Revenue, Office of Research and Analysis
B61: b. Compiled under Direction of: | G61: c. Date
B62: Mark Burghart, Secretary of Revenue
E63: PREVIOUS EDITIONS OBSOLETE | H63: (Next Page)
E64: 1
H67: =H2 -> STATE
H68: =H3 -> Kansas
D69: NOTES AND TECHNICAL INFORMATION | H69: =H4 -> YEAR
H70: =H5 -> 2025
H71: =H6 -> MONTH OF SALE
H72: =H7 -> September
A73: 1. Rate of tax at end month, in cents-per-gallon/liter. | D73: (If tax is ad valorem, post percentage, and briefly explain application basis below.)
E74: Rate | F74: Effective Date
C75: a. Gasoline | E75: 24¢/gallon | F75: 37803
C76: b. Gasohol | E76: 24¢/gallon | F76: 37803
C77: c. Gasohol E85 | E77: 17¢/gallon | F77: 39083
C78: d. Diesel | E78: 26¢/gallon | F78: 37803
C79: e. LPG | E79: 23¢/gallon | F79: 37803
C80: f. CNG * | E80: 23¢/gallon | F80: 37803
B81: * 120 cubic feet = one gallon
A82: 2. Computation of gross volume reported (page 1, item 1). | F82: Special Fuels
E83: Gasoline and Gasohol | F83: (Diesel and LPG)
B84: Gross sales from wholesaler/retailer returns | E84: =D14+E14 -> 106394043 | F84: =(+F28+F29+G29)-(F85-F86) -> 32807849
B85: Plus: IMC fuel volume used in state | F85: =2953782/0.26 -> 11360700
B86: Less: IMC fuel volume purchased tax paid in state
B87: ="= Gross consumption in State (enter on page 1, item 1)" -> = Gross consumption in State (enter on page 1, item 1) | E87: =(E84+E85)-E86 -> 106394043 | F87: =(F84+F85)-F86 -> 44168549
E89: Interstate motor carrier (fuel use tax) fuel volume shown above covers period:
F90: Diesel | G90: LP-Gas | H90: Combined
E91: * page 1, line 1 split | F91: =F14 -> 43030686 | G91: =G14 -> 642099 | H91: =F91+G91 -> 43672785
A92: 3. Stratification of gasohol by blend ratio
B94: The gasohol volume on page 1 column (2) includes: | E94: (show actual/estimated volume or percentage shares)
C96: Percent Alcohol | E96: Volume | F96: Percentage Share
D97: 5.7-7.6%
D98: 7.7-9.9%
D99: 10% or more | F99: 1
A101: 4. Notes and comments
A104: Note that diesel gallons include state, county and municipal government highway use, but does not include use by
A105: school buses.
A106: Line #26 (Assessments) - Assessments, either positive or negative, can be the result of audits, amended returns or
A107: office (KS Dept. of Revenue) assessments or abatements.
A124: Form FHWA-551M (Rev. 11-93) | E124: 2

Sheet Oct25
A1: The public report burden for this information is estimated to average 5.4 hours | H1: Form Approved OMB No. 2125-0032
H2: STATE
A3: U.S. Department of | H3: Kansas
A4: Transportation | H4: YEAR
E5: MONTHLY MOTOR-FUEL CONSUMPTION | H5: 2025
H6: MONTH OF SALE
A7: Federal Highway | H7: October
A8: Administration | H8: UNITS (check one)
H9: Gallons X
H10: Liters
C11: LI | F11: PRIVATE AND COMMERCIAL
B12: ITEM | C12: NE | D12: GASOLINE | E12: GASOHOL | F12: HWY DIESEL | G12: HWY LPG | H12: TOTAL
C13: # | D13: -1 | E13: -2 | F13: -3 | G13: -4 | H13: -5
A14: 1. Gross | B14: a. Gross Volume Reported | C14: 1 | D14: =D15+D21+D22 -> 8551432 | E14: =E15+E21+E22 -> 106898195 | F14: =F15+F21 -> 49792337 | G14: =G15+G21 -> 466088 | H14: =SUM(D14:G14) -> 165708052
B15: Net After Deduction | D15: 7858386 | E15: 106838460 | F15: 49769284 | G15: 465768
B16: Special Fuel Tax Receipts ($)
B17: Special Fuel Tax Refunds ($)
A18: Volume | B18: b. IFTA | C18: 2 | F18: 646564
A19: 2. Fully | B19: a. Losses - Flat % | C19: 21 | D19: 189380 | E19: 2536234 | H19: =SUM(D19:G19) -> 2725614
A20: Tax | B20: b. Losses - Actual | C20: 22 | H20: =SUM(D20:G20) -> 0
A21: Exempt | B21: c. Federal | C21: 23 | D21: 100415 | E21: 59645 | F21: 23053 | G21: 320 | H21: =SUM(D21:G21) -> 183433
B22: d. Aviation | C22: 24 | D22: 592631 | E22: 90 | H22: =SUM(D22:G22) -> 592721
B23: e. Native American | C23: 25 | H23: =SUM(D23:G23) -> 0
B24: f. Assessments | C24: 26 | D24: 33349.167 | H24: =SUM(D24:G24) -> 33349.167
B25: g. | C25: 27 | H25: =SUM(D25:G25) -> 0
B26: h. | C26: 28 | H26: =SUM(D26:G26) -> 0
B27: i. | C27: 29 | H27: =SUM(D27:G27) -> 0
B28: j. Total (sum a. through e - f.) | C28: 30 | D28: =SUM(D19:D23)-D24 -> 849076.83 | E28: =SUM(E19:E23)-E24 -> 2595969 | F28: =SUM(F19:F23)-F24 -> 23053 | G28: =SUM(G19:G23)-G24 -> 320 | H28: =SUM(H19:H23)-H24 -> 3468418.8
A29: 3. Gross Volume Taxed (1-2j) | C29: 40 | D29: =D14-D28 -> 7702355.2 | E29: =E14-E28 -> 104302226 | F29: =F14+F18-F28 -> 50415848 | G29: =G14-G28 -> 465768 | H29: =H14-H28 -> 1.6223963e+08
A30: 4. Fully | B30: a. Agriculture | C30: 51 | H30: =SUM(D30:G30) -> 0
A31: Refunded | B31: b. Aviation | C31: 52 | H31: =SUM(D31:G31) -> 0
B32: c. Industrial/Commercial | C32: 53 | H32: =SUM(D32:G32) -> 0
B33: d. Construction | C33: 54 | H33: =SUM(D33:G33) -> 0
B34: e. Marine | C34: 55 | H34: =SUM(D34:G34) -> 0
B35: f. Municipal and Counties | C35: 56 | H35: =SUM(D35:G35) -> 0
B36: g. Other | C36: 57 | D36: 8253 | E36: 3899 | F36: 277839 | H36: =SUM(D36:G36) -> 289991
B37: h. | C37: 58 | H37: =SUM(D37:G37) -> 0
B38: i. | C38: 59 | H38: =SUM(D38:G38) -> 0
B39: j. | C39: 60 | H39: =SUM(D39:G39) -> 0
B40: k. | C40: 61
B41: l. | C41: 62
B42: m. | C42: 63
B43: n. | C43: 64
B44: o. | C44: 65
B45: p. | C45: 66
B46: q. | C46: 67
B47: r. Total (a. thru s.) | C47: 70 | D47: =SUM(D30:D41) -> 8253 | E47: =SUM(E30:E41) -> 3899 | F47: =SUM(F30:F41) -> 277839 | G47: =SUM(G30:G41) -> 0 | H47: =SUM(H30:H41) -> 289991
A48: 5. Net | B48: a. At Full Rate | C48: 81 | D48: =D29-D47 -> 7694102.2 | E48: =E29-E47 -> 104298327 | F48: =F29-F47 -> 50138009 | G48: =G29-G47 -> 465768 | H48: =SUM(D48:G48) -> 1.6259621e+08
A49: Volume | B49: b. | C49: 82
A50: Taxed | B50: c. | C50: 83
A51: Taxed at | B51: d. | C51: 84
A52: initial lower | B52: e. | C52: 85
A53: rate, partially | B53: f. | C53: 86
A54: exempt or | B54: g. | C54: 87
A55: partially | B55: h. | C55: 88
A56: refunded | B56: i. | C56: 89
B57: j. Total (a thru i, 3-4t) | C57: 90 | D57: =SUM(D48:D56) -> 7694102.2 | E57: =SUM(E48:E56) -> 104298327 | F57: =SUM(F48:F56) -> 50138009 | G57: =SUM(G48:G56) -> 465768 | H57: =SUM(H48:H56) -> 1.6259621e+08
B58: Calendar Year Cumulation | D58: =D57+'Sep25'!D58 -> 76616532 | E58: =E57+'Sep25'!E58 -> 1019303256 | F58: =F57+'Sep25'!F58 -> 485052088 | G58: =G57+'Sep25'!G58 -> 6097505 | H58: =H57+'Sep25'!H58 -> 1.5870694e+09
A59: 6. Source | B59: a. Agency Preparing this Report:
B60: Kansas Department of Revenue, Office of Research and Analysis
B61: b. Compiled under Direction of: | G61: c. Date
B62: Mark Burghart, Secretary of Revenue
E63: PREVIOUS EDITIONS OBSOLETE | H63: (Next Page)
E64: 1
H67: =H2 -> STATE
H68: =H3 -> Kansas
D69: NOTES AND TECHNICAL INFORMATION | H69: =H4 -> YEAR
H70: =H5 -> 2025
H71: =H6 -> MONTH OF SALE
H72: =H7 -> October
A73: 1. Rate of tax at end month, in cents-per-gallon/liter. | D73: (If tax is ad valorem, post percentage, and briefly explain application basis below.)
E74: Rate | F74: Effective Date
C75: a. Gasoline | E75: 24¢/gallon | F75: 37803
C76: b. Gasohol | E76: 24¢/gallon | F76: 37803
C77: c. Gasohol E85 | E77: 17¢/gallon | F77: 39083
C78: d. Diesel | E78: 26¢/gallon | F78: 37803
C79: e. LPG | E79: 23¢/gallon | F79: 37803
C80: f. CNG * | E80: 23¢/gallon | F80: 37803
B81: * 120 cubic feet = one gallon
A82: 2. Computation of gross volume reported (page 1, item 1). | F82: Special Fuels
E83: Gasoline and Gasohol | F83: (Diesel and LPG)
B84: Gross sales from wholesaler/retailer returns | E84: =D14+E14 -> 115449627 | F84: =(+F28+F29+G29)-(F85-F86) -> 42643573
B85: Plus: IMC fuel volume used in state | F85: =2147885/0.26 -> 8261096.2
B86: Less: IMC fuel volume purchased tax paid in state
B87: ="= Gross consumption in State (enter on page 1, item 1)" -> = Gross consumption in State (enter on page 1, item 1) | E87: =(E84+E85)-E86 -> 115449627 | F87: =(F84+F85)-F86 -> 50904669
E89: Interstate motor carrier (fuel use tax) fuel volume shown above covers period:
F90: Diesel | G90: LP-Gas | H90: Combined
E91: * page 1, line 1 split | F91: =F14 -> 49792337 | G91: =G14 -> 466088 | H91: =F91+G91 -> 50258425
A92: 3. Stratification of gasohol by blend ratio
B94: The gasohol volume on page 1 column (2) includes: | E94: (show actual/estimated volume or percentage shares)
C96: Percent Alcohol | E96: Volume | F96: Percentage Share
D97: 5.7-7.6%
D98: 7.7-9.9%
D99: 10% or more | F99: 1
A101: 4. Notes and comments
A104: Note that diesel gallons include state, county and municipal government highway use, but does not include use by
A105: school buses.
A106: Line #26 (Assessments) - Assessments, either positive or negative, can be the result of audits, amended returns or
A107: office (KS Dept. of Revenue) assessments or abatements.
A124: Form FHWA-551M (Rev. 11-93) | E124: 2

Sheet Nov25
A1: The public report burden for this information is estimated to average 5.4 hours | H1: Form Approved OMB No. 2125-0032
H2: STATE
A3: U.S. Department of | H3: Kansas
A4: Transportation | H4: YEAR
E5: MONTHLY MOTOR-FUEL CONSUMPTION | H5: 2025
H6: MONTH OF SALE
A7: Federal Highway | H7: November
A8: Administration | H8: UNITS (check one)
H9: Gallons X
H10: Liters
C11: LI | F11: PRIVATE AND COMMERCIAL
B12: ITEM | C12: NE | D12: GASOLINE | E12: GASOHOL | F12: HWY DIESEL | G12: HWY LPG | H12: TOTAL
C13: # | D13: -1 | E13: -2 | F13: -3 | G13: -4 | H13: -5
A14: 1. Gross | B14: a. Gross Volume Reported | C14: 1 | D14: =D15+D21+D22 -> 7167845 | E14: =E15+E21+E22 -> 99709694 | F14: =F15+F21 -> 40664140 | G14: =G15+G21 -> 626491 | H14: =SUM(D14:G14) -> 148168170
B15: Net After Deduction | D15: 6609280 | E15: 99645335 | F15: 40627808 | G15: 626149
B16: Special Fuel Tax Receipts ($)
B17: Special Fuel Tax Refunds ($)
A18: Volume | B18: b. IFTA | C18: 2 | F18: 6414192
A19: 2. Fully | B19: a. Losses - Flat % | C19: 21 | D19: 160042 | E19: 2404435 | H19: =SUM(D19:G19) -> 2564477
A20: Tax | B20: b. Losses - Actual | C20: 22 | H20: =SUM(D20:G20) -> 0
A21: Exempt | B21: c. Federal | C21: 23 | D21: 57334 | E21: 61237 | F21: 36332 | G21: 342 | H21: =SUM(D21:G21) -> 155245
B22: d. Aviation | C22: 24 | D22: 501231 | E22: 3122 | H22: =SUM(D22:G22) -> 504353
B23: e. Native American | C23: 25 | H23: =SUM(D23:G23) -> 0
B24: f. Assessments | C24: 26 | D24: 241402.5 | H24: =SUM(D24:G24) -> 241402.5
B25: g. | C25: 27 | H25: =SUM(D25:G25) -> 0
B26: h. | C26: 28 | H26: =SUM(D26:G26) -> 0
B27: i. | C27: 29 | H27: =SUM(D27:G27) -> 0
B28: j. Total (sum a. through e - f.) | C28: 30 | D28: =SUM(D19:D23)-D24 -> 477204.5 | E28: =SUM(E19:E23)-E24 -> 2468794 | F28: =SUM(F19:F23)-F24 -> 36332 | G28: =SUM(G19:G23)-G24 -> 342 | H28: =SUM(H19:H23)-H24 -> 2982672.5
A29: 3. Gross Volume Taxed (1-2j) | C29: 40 | D29: =D14-D28 -> 6690640.5 | E29: =E14-E28 -> 97240900 | F29: =F14+F18-F28 -> 47042000 | G29: =G14-G28 -> 626149 | H29: =H14-H28 -> 1.451855e+08
A30: 4. Fully | B30: a. Agriculture | C30: 51 | D30: 4716 | E30: 1903 | H30: =SUM(D30:G30) -> 6619
A31: Refunded | B31: b. Aviation | C31: 52 | H31: =SUM(D31:G31) -> 0
B32: c. Industrial/Commercial | C32: 53 | H32: =SUM(D32:G32) -> 0
B33: d. Construction | C33: 54 | H33: =SUM(D33:G33) -> 0
B34: e. Marine | C34: 55 | H34: =SUM(D34:G34) -> 0
B35: f. Municipal and Counties | C35: 56 | H35: =SUM(D35:G35) -> 0
B36: g. Other | C36: 57 | D36: 5123 | E36: 1382 | F36: 340324 | H36: =SUM(D36:G36) -> 346829
B37: h. | C37: 58 | H37: =SUM(D37:G37) -> 0
B38: i. | C38: 59 | H38: =SUM(D38:G38) -> 0
B39: j. | C39: 60 | H39: =SUM(D39:G39) -> 0
B40: k. | C40: 61
B41: l. | C41: 62
B42: m. | C42: 63
B43: n. | C43: 64
B44: o. | C44: 65
B45: p. | C45: 66
B46: q. | C46: 67
B47: r. Total (a. thru s.) | C47: 70 | D47: =SUM(D30:D41) -> 9839 | E47: =SUM(E30:E41) -> 3285 | F47: =SUM(F30:F41) -> 340324 | G47: =SUM(G30:G41) -> 0 | H47: =SUM(H30:H41) -> 353448
A48: 5. Net | B48: a. At Full Rate | C48: 81 | D48: =D29-D47 -> 6680801.5 | E48: =E29-E47 -> 97237615 | F48: =F29-F47 -> 46701676 | G48: =G29-G47 -> 626149 | H48: =SUM(D48:G48) -> 1.5124624e+08
A49: Volume | B49: b. | C49: 82
A50: Taxed | B50: c. | C50: 83
A51: Taxed at | B51: d. | C51: 84
A52: initial lower | B52: e. | C52: 85
A53: rate, partially | B53: f. | C53: 86
A54: exempt or | B54: g. | C54: 87
A55: partially | B55: h. | C55: 88
A56: refunded | B56: i. | C56: 89
B57: j. Total (a thru i, 3-4t) | C57: 90 | D57: =SUM(D48:D56) -> 6680801.5 | E57: =SUM(E48:E56) -> 97237615 | F57: =SUM(F48:F56) -> 46701676 | G57: =SUM(G48:G56) -> 626149 | H57: =SUM(H48:H56) -> 1.5124624e+08
B58: Calendar Year Cumulation | D58: =D57+'Oct25'!D58 -> 83297334 | E58: =E57+'Oct25'!E58 -> 1116540871 | F58: =F57+'Oct25'!F58 -> 531753764 | G58: =G57+'Oct25'!G58 -> 6723654 | H58: =H57+'Oct25'!H58 -> 1.7383156e+09
A59: 6. Source | B59: a. Agency Preparing this Report:
B60: Kansas Department of Revenue, Office of Research and Analysis
B61: b. Compiled under Direction of: | G61: c. Date
B62: Mark Burghart, Secretary of Revenue
E63: PREVIOUS EDITIONS OBSOLETE | H63: (Next Page)
E64: 1
H67: =H2 -> STATE
H68: =H3 -> Kansas
D69: NOTES AND TECHNICAL INFORMATION | H69: =H4 -> YEAR
H70: =H5 -> 2025
H71: =H6 -> MONTH OF SALE
H72: =H7 -> November
A73: 1. Rate of tax at end month, in cents-per-gallon/liter. | D73: (If tax is ad valorem, post percentage, and briefly explain application basis below.)
E74: Rate | F74: Effective Date
C75: a. Gasoline | E75: 24¢/gallon | F75: 37803
C76: b. Gasohol | E76: 24¢/gallon | F76: 37803
C77: c. Gasohol E85 | E77: 17¢/gallon | F77: 39083
C78: d. Diesel | E78: 26¢/gallon | F78: 37803
C79: e. LPG | E79: 23¢/gallon | F79: 37803
C80: f. CNG * | E80: 23¢/gallon | F80: 37803
B81: * 120 cubic feet = one gallon
A82: 2. Computation of gross volume reported (page 1, item 1). | F82: Special Fuels
E83: Gasoline and Gasohol | F83: (Diesel and LPG)
B84: Gross sales from wholesaler/retailer returns | E84: =D14+E14 -> 106877539 | F84: =(+F28+F29+G29)-(F85-F86) -> 39443385
B85: Plus: IMC fuel volume used in state | F85: =2147885/0.26 -> 8261096.2
B86: Less: IMC fuel volume purchased tax paid in state
B87: ="= Gross consumption in State (enter on page 1, item 1)" -> = Gross consumption in State (enter on page 1, item 1) | E87: =(E84+E85)-E86 -> 106877539 | F87: =(F84+F85)-F86 -> 47704481
E89: Interstate motor carrier (fuel use tax) fuel volume shown above covers period:
F90: Diesel | G90: LP-Gas | H90: Combined
E91: * page 1, line 1 split | F91: =F14 -> 40664140 | G91: =G14 -> 626491 | H91: =F91+G91 -> 41290631
A92: 3. Stratification of gasohol by blend ratio
B94: The gasohol volume on page 1 column (2) includes: | E94: (show actual/estimated volume or percentage shares)
C96: Percent Alcohol | E96: Volume | F96: Percentage Share
D97: 5.7-7.6%
D98: 7.7-9.9%
D99: 10% or more | F99: 1
A101: 4. Notes and comments
A104: Note that diesel gallons include state, county and municipal government highway use, but does not include use by
A105: school buses.
A106: Line #26 (Assessments) - Assessments, either positive or negative, can be the result of audits, amended returns or
A107: office (KS Dept. of Revenue) assessments or abatements.
A124: Form FHWA-551M (Rev. 11-93) | E124: 2

Sheet Dec25
A1: The public report burden for this information is estimated to average 5.4 hours | H1: Form Approved OMB No. 2125-0032
H2: STATE
A3: U.S. Department of | H3: Kansas
A4: Transportation | H4: YEAR
E5: MONTHLY MOTOR-FUEL CONSUMPTION | H5: 2025
H6: MONTH OF SALE
A7: Federal Highway | H7: December
A8: Administration | H8: UNITS (check one)
H9: Gallons X
H10: Liters
C11: LI | F11: PRIVATE AND COMMERCIAL
B12: ITEM | C12: NE | D12: GASOLINE | E12: GASOHOL | F12: HWY DIESEL | G12: HWY LPG | H12: TOTAL
C13: # | D13: -1 | E13: -2 | F13: -3 | G13: -4 | H13: -5
A14: 1. Gross | B14: a. Gross Volume Reported | C14: 1 | D14: =D15+D21+D22 -> 7737150 | E14: =E15+E21+E22 -> 103884150 | F14: =F15+F21 -> 43261171 | G14: =G15+G21 -> 654598 | H14: =SUM(D14:G14) -> 155537069
B15: Net After Deduction | D15: 7285493 | E15: 103816876 | F15: 43235276 | G15: 654302
B16: Special Fuel Tax Receipts ($)
B17: Special Fuel Tax Refunds ($)
A18: Volume | B18: b. IFTA | C18: 2 | F18: 644496
A19: 2. Fully | B19: a. Losses - Flat % | C19: 21 | D19: 176540 | E19: 2483898 | H19: =SUM(D19:G19) -> 2660438
A20: Tax | B20: b. Losses - Actual | C20: 22 | H20: =SUM(D20:G20) -> 0
A21: Exempt | B21: c. Federal | C21: 23 | D21: 63988 | E21: 67274 | F21: 25895 | G21: 296 | H21: =SUM(D21:G21) -> 157453
B22: d. Aviation | C22: 24 | D22: 387669 | H22: =SUM(D22:G22) -> 387669
B23: e. Native American | C23: 25 | H23: =SUM(D23:G23) -> 0
B24: f. Assessments | C24: 26 | D24: 59458.167 | H24: =SUM(D24:G24) -> 59458.167
B25: g. | C25: 27 | H25: =SUM(D25:G25) -> 0
B26: h. | C26: 28 | H26: =SUM(D26:G26) -> 0
B27: i. | C27: 29 | H27: =SUM(D27:G27) -> 0
B28: j. Total (sum a. through e - f.) | C28: 30 | D28: =SUM(D19:D23)-D24 -> 568738.83 | E28: =SUM(E19:E23)-E24 -> 2551172 | F28: =SUM(F19:F23)-F24 -> 25895 | G28: =SUM(G19:G23)-G24 -> 296 | H28: =SUM(H19:H23)-H24 -> 3146101.8
A29: 3. Gross Volume Taxed (1-2j) | C29: 40 | D29: =D14-D28 -> 7168411.2 | E29: =E14-E28 -> 101332978 | F29: =F14+F18-F28 -> 43879772 | G29: =G14-G28 -> 654302 | H29: =H14-H28 -> 1.5239097e+08
A30: 4. Fully | B30: a. Agriculture | C30: 51 | D30: 29635 | E30: 26732 | H30: =SUM(D30:G30) -> 56367
A31: Refunded | B31: b. Aviation | C31: 52 | H31: =SUM(D31:G31) -> 0
B32: c. Industrial/Commercial | C32: 53 | H32: =SUM(D32:G32) -> 0
B33: d. Construction | C33: 54 | H33: =SUM(D33:G33) -> 0
B34: e. Marine | C34: 55 | H34: =SUM(D34:G34) -> 0
B35: f. Municipal and Counties | C35: 56 | H35: =SUM(D35:G35) -> 0
B36: g. Other | C36: 57 | D36: 37617 | E36: 40127 | F36: 802734 | H36: =SUM(D36:G36) -> 880478
B37: h. | C37: 58 | H37: =SUM(D37:G37) -> 0
B38: i. | C38: 59 | H38: =SUM(D38:G38) -> 0
B39: j. | C39: 60 | H39: =SUM(D39:G39) -> 0
B40: k. | C40: 61
B41: l. | C41: 62
B42: m. | C42: 63
B43: n. | C43: 64
B44: o. | C44: 65
B45: p. | C45: 66
B46: q. | C46: 67
B47: r. Total (a. thru s.) | C47: 70 | D47: =SUM(D30:D41) -> 67252 | E47: =SUM(E30:E41) -> 66859 | F47: =SUM(F30:F41) -> 802734 | G47: =SUM(G30:G41) -> 0 | H47: =SUM(H30:H41) -> 936845
A48: 5. Net | B48: a. At Full Rate | C48: 81 | D48: =D29-D47 -> 7101159.2 | E48: =E29-E47 -> 101266119 | F48: =F29-F47 -> 43077038 | G48: =G29-G47 -> 654302 | H48: =SUM(D48:G48) -> 1.5209862e+08
A49: Volume | B49: b. | C49: 82
A50: Taxed | B50: c. | C50: 83
A51: Taxed at | B51: d. | C51: 84
A52: initial lower | B52: e. | C52: 85
A53: rate, partially | B53: f. | C53: 86
A54: exempt or | B54: g. | C54: 87
A55: partially | B55: h. | C55: 88
A56: refunded | B56: i. | C56: 89
B57: j. Total (a thru i, 3-4t) | C57: 90 | D57: =SUM(D48:D56) -> 7101159.2 | E57: =SUM(E48:E56) -> 101266119 | F57: =SUM(F48:F56) -> 43077038 | G57: =SUM(G48:G56) -> 654302 | H57: =SUM(H48:H56) -> 1.5209862e+08
B58: Calendar Year Cumulation | D58: =D57+'Nov25'!D58 -> 90398493 | E58: =E57+'Nov25'!E58 -> 1217806990 | F58: =F57+'Nov25'!F58 -> 574830802 | G58: =G57+'Nov25'!G58 -> 7377956 | H58: =H57+'Nov25'!H58 -> 1.8904142e+09
A59: 6. Source | B59: a. Agency Preparing this Report:
B60: Kansas Department of Revenue, Office of Research and Analysis
B61: b. Compiled under Direction of: | G61: c. Date
B62: Mark Burghart, Secretary of Revenue
E63: PREVIOUS EDITIONS OBSOLETE | H63: (Next Page)
E64: 1
H67: =H2 -> STATE
H68: =H3 -> Kansas
D69: NOTES AND TECHNICAL INFORMATION | H69: =H4 -> YEAR
H70: =H5 -> 2025
H71: =H6 -> MONTH OF SALE
H72: =H7 -> December
A73: 1. Rate of tax at end month, in cents-per-gallon/liter. | D73: (If tax is ad valorem, post percentage, and briefly explain application basis below.)
E74: Rate | F74: Effective Date
C75: a. Gasoline | E75: 24¢/gallon | F75: 37803
C76: b. Gasohol | E76: 24¢/gallon | F76: 37803
C77: c. Gasohol E85 | E77: 17¢/gallon | F77: 39083
C78: d. Diesel | E78: 26¢/gallon | F78: 37803
C79: e. LPG | E79: 23¢/gallon | F79: 37803
C80: f. CNG * | E80: 23¢/gallon | F80: 37803
B81: * 120 cubic feet = one gallon
A82: 2. Computation of gross volume reported (page 1, item 1). | F82: Special Fuels
E83: Gasoline and Gasohol | F83: (Diesel and LPG)
B84: Gross sales from wholesaler/retailer returns | E84: =D14+E14 -> 111621300 | F84: =(+F28+F29+G29)-(F85-F86) -> 36817442
B85: Plus: IMC fuel volume used in state | F85: =2013057/0.26 -> 7742526.9
B86: Less: IMC fuel volume purchased tax paid in state
B87: ="= Gross consumption in State (enter on page 1, item 1)" -> = Gross consumption in State (enter on page 1, item 1) | E87: =(E84+E85)-E86 -> 111621300 | F87: =(F84+F85)-F86 -> 44559969
E89: Interstate motor carrier (fuel use tax) fuel volume shown above covers period:
F90: Diesel | G90: LP-Gas | H90: Combined
E91: * page 1, line 1 split | F91: =F14 -> 43261171 | G91: =G14 -> 654598 | H91: =F91+G91 -> 43915769
A92: 3. Stratification of gasohol by blend ratio
B94: The gasohol volume on page 1 column (2) includes: | E94: (show actual/estimated volume or percentage shares)
C96: Percent Alcohol | E96: Volume | F96: Percentage Share
D97: 5.7-7.6%
D98: 7.7-9.9%
D99: 10% or more | F99: 1
A101: 4. Notes and comments
A104: Note that diesel gallons include state, county and municipal government highway use, but does not include use by
A105: school buses.
A106: Line #26 (Assessments) - Assessments, either positive or negative, can be the result of audits, amended returns or
A107: office (KS Dept. of Revenue) assessments or abatements.
A124: Form FHWA-551M (Rev. 11-93) | E124: 2

Sheet 551m2025
A1: The public report burden for this information is estimated to average 5.4 hours | H1: Form Approved OMB No. 2125-0032
H2: STATE
A3: U.S. Department of | H3: Kansas
A4: Transportation | H4: YEAR
E5: MONTHLY MOTOR-FUEL CONSUMPTION | H5: 2025
H6: MONTH OF SALE
A7: Federal Highway | H7: December
A8: Administration | H8: UNITS (check one)
H9: Gallons X
H10: Liters
C11: LI | F11: PRIVATE AND COMMERCIAL
B12: ITEM | C12: NE | D12: GASOLINE | E12: GASOHOL | F12: HWY DIESEL | G12: HWY LPG | H12: TOTAL
C13: # | D13: -1 | E13: -2 | F13: -3 | G13: -4 | H13: -5
A14: 1. Gross | B14: a. Gross Volume Reported | C14: 1 | D14: ='Jan25'!D14+'Feb25'!D14+'Mar25'!D14+'Apr25'!D14+'May25'!D14+June25!D14+July25!D14+'Aug25'!D14+'Sep25'!D14+'Oct25'!D14+'Nov25'!D14+'Dec25'!D14 -> 98554488 | E14: ='Jan25'!E14+'Feb25'!E14+'Mar25'!E14+'Apr25'!E14+'May25'!E14+June25!E14+July25!E14+'Aug25'!E14+'Sep25'!E14+'Oct25'!E14+'Nov25'!E14+'Dec25'!E14 -> 1248661493 | F14: ='Jan25'!F14+'Feb25'!F14+'Mar25'!F14+'Apr25'!F14+'May25'!F14+June25!F14+July25!F14+'Aug25'!F14+'Sep25'!F14+'Oct25'!F14+'Nov25'!F14+'Dec25'!F14 -> 542711901 | G14: ='Jan25'!G14+'Feb25'!G14+'Mar25'!G14+'Apr25'!G14+'May25'!G14+June25!G14+July25!G14+'Aug25'!G14+'Sep25'!G14+'Oct25'!G14+'Nov25'!G14+'Dec25'!G14 -> 7391687 | H14: ='Jan25'!H14+'Feb25'!H14+'Mar25'!H14+'Apr25'!H14+'May25'!H14+June25!H14+July25!H14+'Aug25'!H14+'Sep25'!H14+'Oct25'!H14+'Nov25'!H14+'Dec25'!H14 -> 1899131604
B15: Net After Deduction | D15: ='Jan25'!D15+'Feb25'!D15+'Mar25'!D15+'Apr25'!D15+'May25'!D15+June25!D15+July25!D15+'Aug25'!D15+'Sep25'!D15+'Oct25'!D15+'Nov25'!D15+'Dec25'!D15 -> 91348135 | E15: ='Jan25'!E15+'Feb25'!E15+'Mar25'!E15+'Apr25'!E15+'May25'!E15+June25!E15+July25!E15+'Aug25'!E15+'Sep25'!E15+'Oct25'!E15+'Nov25'!E15+'Dec25'!E15 -> 1247858300 | F15: ='Jan25'!F15+'Feb25'!F15+'Mar25'!F15+'Apr25'!F15+'May25'!F15+June25!F15+July25!F15+'Aug25'!F15+'Sep25'!F15+'Oct25'!F15+'Nov25'!F15+'Dec25'!F15 -> 542284427 | G15: ='Jan25'!G15+'Feb25'!G15+'Mar25'!G15+'Apr25'!G15+'May25'!G15+June25!G15+July25!G15+'Aug25'!G15+'Sep25'!G15+'Oct25'!G15+'Nov25'!G15+'Dec25'!G15 -> 7377956 | H15: ='Jan25'!H15+'Feb25'!H15+'Mar25'!H15+'Apr25'!H15+'May25'!H15+June25!H15+July25!H15+'Aug25'!H15+'Sep25'!H15+'Oct25'!H15+'Nov25'!H15+'Dec25'!H15 -> 0
B16: Special Fuel Tax Receipts ($) | D16: ='Jan25'!D16+'Feb25'!D16+'Mar25'!D16+'Apr25'!D16+'May25'!D16+June25!D16+July25!D16+'Aug25'!D16+'Sep25'!D16+'Oct25'!D16+'Nov25'!D16+'Dec25'!D16 -> 0 | E16: ='Jan25'!E16+'Feb25'!E16+'Mar25'!E16+'Apr25'!E16+'May25'!E16+June25!E16+July25!E16+'Aug25'!E16+'Sep25'!E16+'Oct25'!E16+'Nov25'!E16+'Dec25'!E16 -> 0 | F16: ='Jan25'!F16+'Feb25'!F16+'Mar25'!F16+'Apr25'!F16+'May25'!F16+June25!F16+July25!F16+'Aug25'!F16+'Sep25'!F16+'Oct25'!F16+'Nov25'!F16+'Dec25'!F16 -> 0 | G16: ='Jan25'!G16+'Feb25'!G16+'Mar25'!G16+'Apr25'!G16+'May25'!G16+June25!G16+July25!G16+'Aug25'!G16+'Sep25'!G16+'Oct25'!G16+'Nov25'!G16+'Dec25'!G16 -> 0 | H16: ='Jan25'!H16+'Feb25'!H16+'Mar25'!H16+'Apr25'!H16+'May25'!H16+June25!H16+July25!H16+'Aug25'!H16+'Sep25'!H16+'Oct25'!H16+'Nov25'!H16+'Dec25'!H16 -> 0
B17: Special Fuel Tax Refunds ($) | D17: ='Jan25'!D17+'Feb25'!D17+'Mar25'!D17+'Apr25'!D17+'May25'!D17+June25!D17+July25!D17+'Aug25'!D17+'Sep25'!D17+'Oct25'!D17+'Nov25'!D17+'Dec25'!D17 -> 0 | E17: ='Jan25'!E17+'Feb25'!E17+'Mar25'!E17+'Apr25'!E17+'May25'!E17+June25!E17+July25!E17+'Aug25'!E17+'Sep25'!E17+'Oct25'!E17+'Nov25'!E17+'Dec25'!E17 -> 0 | F17: ='Jan25'!F17+'Feb25'!F17+'Mar25'!F17+'Apr25'!F17+'May25'!F17+June25!F17+July25!F17+'Aug25'!F17+'Sep25'!F17+'Oct25'!F17+'Nov25'!F17+'Dec25'!F17 -> 0 | G17: ='Jan25'!G17+'Feb25'!G17+'Mar25'!G17+'Apr25'!G17+'May25'!G17+June25!G17+July25!G17+'Aug25'!G17+'Sep25'!G17+'Oct25'!G17+'Nov25'!G17+'Dec25'!G17 -> 0 | H17: ='Jan25'!H17+'Feb25'!H17+'Mar25'!H17+'Apr25'!H17+'May25'!H17+June25!H17+July25!H17+'Aug25'!H17+'Sep25'!H17+'Oct25'!H17+'Nov25'!H17+'Dec25'!H17 -> 0
A18: Volume | B18: b. IFTA | C18: 2 | D18: ='Jan25'!D18+'Feb25'!D18+'Mar25'!D18+'Apr25'!D18+'May25'!D18+June25!D18+July25!D18+'Aug25'!D18+'Sep25'!D18+'Oct25'!D18+'Nov25'!D18+'Dec25'!D18 -> 0 | E18: ='Jan25'!E18+'Feb25'!E18+'Mar25'!E18+'Apr25'!E18+'May25'!E18+June25!E18+July25!E18+'Aug25'!E18+'Sep25'!E18+'Oct25'!E18+'Nov25'!E18+'Dec25'!E18 -> 0 | F18: ='Jan25'!F18+'Feb25'!F18+'Mar25'!F18+'Apr25'!F18+'May25'!F18+June25!F18+July25!F18+'Aug25'!F18+'Sep25'!F18+'Oct25'!F18+'Nov25'!F18+'Dec25'!F18 -> 38653484 | G18: ='Jan25'!G18+'Feb25'!G18+'Mar25'!G18+'Apr25'!G18+'May25'!G18+June25!G18+July25!G18+'Aug25'!G18+'Sep25'!G18+'Oct25'!G18+'Nov25'!G18+'Dec25'!G18 -> 0 | H18: ='Jan25'!H18+'Feb25'!H18+'Mar25'!H18+'Apr25'!H18+'May25'!H18+June25!H18+July25!H18+'Aug25'!H18+'Sep25'!H18+'Oct25'!H18+'Nov25'!H18+'Dec25'!H18 -> 0
A19: 2. Fully | B19: a. Losses - Flat % | C19: 21 | D19: ='Jan25'!D19+'Feb25'!D19+'Mar25'!D19+'Apr25'!D19+'May25'!D19+June25!D19+July25!D19+'Aug25'!D19+'Sep25'!D19+'Oct25'!D19+'Nov25'!D19+'Dec25'!D19 -> 2176729 | E19: ='Jan25'!E19+'Feb25'!E19+'Mar25'!E19+'Apr25'!E19+'May25'!E19+June25!E19+July25!E19+'Aug25'!E19+'Sep25'!E19+'Oct25'!E19+'Nov25'!E19+'Dec25'!E19 -> 29652120 | F19: ='Jan25'!F19+'Feb25'!F19+'Mar25'!F19+'Apr25'!F19+'May25'!F19+June25!F19+July25!F19+'Aug25'!F19+'Sep25'!F19+'Oct25'!F19+'Nov25'!F19+'Dec25'!F19 -> 0 | G19: ='Jan25'!G19+'Feb25'!G19+'Mar25'!G19+'Apr25'!G19+'May25'!G19+June25!G19+July25!G19+'Aug25'!G19+'Sep25'!G19+'Oct25'!G19+'Nov25'!G19+'Dec25'!G19 -> 0 | H19: ='Jan25'!H19+'Feb25'!H19+'Mar25'!H19+'Apr25'!H19+'May25'!H19+June25!H19+July25!H19+'Aug25'!H19+'Sep25'!H19+'Oct25'!H19+'Nov25'!H19+'Dec25'!H19 -> 31828849
A20: Tax | B20: b. Losses - Actual | C20: 22 | D20: ='Jan25'!D20+'Feb25'!D20+'Mar25'!D20+'Apr25'!D20+'May25'!D20+June25!D20+July25!D20+'Aug25'!D20+'Sep25'!D20+'Oct25'!D20+'Nov25'!D20+'Dec25'!D20 -> 0 | E20: ='Jan25'!E20+'Feb25'!E20+'Mar25'!E20+'Apr25'!E20+'May25'!E20+June25!E20+July25!E20+'Aug25'!E20+'Sep25'!E20+'Oct25'!E20+'Nov25'!E20+'Dec25'!E20 -> 0 | F20: ='Jan25'!F20+'Feb25'!F20+'Mar25'!F20+'Apr25'!F20+'May25'!F20+June25!F20+July25!F20+'Aug25'!F20+'Sep25'!F20+'Oct25'!F20+'Nov25'!F20+'Dec25'!F20 -> 36380 | G20: ='Jan25'!G20+'Feb25'!G20+'Mar25'!G20+'Apr25'!G20+'May25'!G20+June25!G20+July25!G20+'Aug25'!G20+'Sep25'!G20+'Oct25'!G20+'Nov25'!G20+'Dec25'!G20 -> 0 | H20: ='Jan25'!H20+'Feb25'!H20+'Mar25'!H20+'Apr25'!H20+'May25'!H20+June25!H20+July25!H20+'Aug25'!H20+'Sep25'!H20+'Oct25'!H20+'Nov25'!H20+'Dec25'!H20 -> 36380
A21: Exempt | B21: c. Federal | C21: 23 | D21: ='Jan25'!D21+'Feb25'!D21+'Mar25'!D21+'Apr25'!D21+'May25'!D21+June25!D21+July25!D21+'Aug25'!D21+'Sep25'!D21+'Oct25'!D21+'Nov25'!D21+'Dec25'!D21 -> 771354 | E21: ='Jan25'!E21+'Feb25'!E21+'Mar25'!E21+'Apr25'!E21+'May25'!E21+June25!E21+July25!E21+'Aug25'!E21+'Sep25'!E21+'Oct25'!E21+'Nov25'!E21+'Dec25'!E21 -> 799981 | F21: ='Jan25'!F21+'Feb25'!F21+'Mar25'!F21+'Apr25'!F21+'May25'!F21+June25!F21+July25!F21+'Aug25'!F21+'Sep25'!F21+'Oct25'!F21+'Nov25'!F21+'Dec25'!F21 -> 427474 | G21: ='Jan25'!G21+'Feb25'!G21+'Mar25'!G21+'Apr25'!G21+'May25'!G21+June25!G21+July25!G21+'Aug25'!G21+'Sep25'!G21+'Oct25'!G21+'Nov25'!G21+'Dec25'!G21 -> 13731 | H21: ='Jan25'!H21+'Feb25'!H21+'Mar25'!H21+'Apr25'!H21+'May25'!H21+June25!H21+July25!H21+'Aug25'!H21+'Sep25'!H21+'Oct25'!H21+'Nov25'!H21+'Dec25'!H21 -> 2012540
B22: d. Aviation | C22: 24 | D22: ='Jan25'!D22+'Feb25'!D22+'Mar25'!D22+'Apr25'!D22+'May25'!D22+June25!D22+July25!D22+'Aug25'!D22+'Sep25'!D22+'Oct25'!D22+'Nov25'!D22+'Dec25'!D22 -> 6434999 | E22: ='Jan25'!E22+'Feb25'!E22+'Mar25'!E22+'Apr25'!E22+'May25'!E22+June25!E22+July25!E22+'Aug25'!E22+'Sep25'!E22+'Oct25'!E22+'Nov25'!E22+'Dec25'!E22 -> 3212 | F22: ='Jan25'!F22+'Feb25'!F22+'Mar25'!F22+'Apr25'!F22+'May25'!F22+June25!F22+July25!F22+'Aug25'!F22+'Sep25'!F22+'Oct25'!F22+'Nov25'!F22+'Dec25'!F22 -> 0 | G22: ='Jan25'!G22+'Feb25'!G22+'Mar25'!G22+'Apr25'!G22+'May25'!G22+June25!G22+July25!G22+'Aug25'!G22+'Sep25'!G22+'Oct25'!G22+'Nov25'!G22+'Dec25'!G22 -> 0 | H22: ='Jan25'!H22+'Feb25'!H22+'Mar25'!H22+'Apr25'!H22+'May25'!H22+June25!H22+July25!H22+'Aug25'!H22+'Sep25'!H22+'Oct25'!H22+'Nov25'!H22+'Dec25'!H22 -> 6438211
B23: e. Native American | C23: 25 | D23: ='Jan25'!D23+'Feb25'!D23+'Mar25'!D23+'Apr25'!D23+'May25'!D23+June25!D23+July25!D23+'Aug25'!D23+'Sep25'!D23+'Oct25'!D23+'Nov25'!D23+'Dec25'!D23 -> 0 | E23: ='Jan25'!E23+'Feb25'!E23+'Mar25'!E23+'Apr25'!E23+'May25'!E23+June25!E23+July25!E23+'Aug25'!E23+'Sep25'!E23+'Oct25'!E23+'Nov25'!E23+'Dec25'!E23 -> 0 | F23: ='Jan25'!F23+'Feb25'!F23+'Mar25'!F23+'Apr25'!F23+'May25'!F23+June25!F23+July25!F23+'Aug25'!F23+'Sep25'!F23+'Oct25'!F23+'Nov25'!F23+'Dec25'!F23 -> 0 | G23: ='Jan25'!G23+'Feb25'!G23+'Mar25'!G23+'Apr25'!G23+'May25'!G23+June25!G23+July25!G23+'Aug25'!G23+'Sep25'!G23+'Oct25'!G23+'Nov25'!G23+'Dec25'!G23 -> 0 | H23: ='Jan25'!H23+'Feb25'!H23+'Mar25'!H23+'Apr25'!H23+'May25'!H23+June25!H23+July25!H23+'Aug25'!H23+'Sep25'!H23+'Oct25'!H23+'Nov25'!H23+'Dec25'!H23 -> 0
B24: f. Assessments | C24: 26 | D24: ='Jan25'!D24+'Feb25'!D24+'Mar25'!D24+'Apr25'!D24+'May25'!D24+June25!D24+July25!D24+'Aug25'!D24+'Sep25'!D24+'Oct25'!D24+'Nov25'!D24+'Dec25'!D24 -> 1563351 | E24: ='Jan25'!E24+'Feb25'!E24+'Mar25'!E24+'Apr25'!E24+'May25'!E24+June25!E24+July25!E24+'Aug25'!E24+'Sep25'!E24+'Oct25'!E24+'Nov25'!E24+'Dec25'!E24 -> 0 | F24: ='Jan25'!F24+'Feb25'!F24+'Mar25'!F24+'Apr25'!F24+'May25'!F24+June25!F24+July25!F24+'Aug25'!F24+'Sep25'!F24+'Oct25'!F24+'Nov25'!F24+'Dec25'!F24 -> 0 | G24: ='Jan25'!G24+'Feb25'!G24+'Mar25'!G24+'Apr25'!G24+'May25'!G24+June25!G24+July25!G24+'Aug25'!G24+'Sep25'!G24+'Oct25'!G24+'Nov25'!G24+'Dec25'!G24 -> 0 | H24: ='Jan25'!H24+'Feb25'!H24+'Mar25'!H24+'Apr25'!H24+'May25'!H24+June25!H24+July25!H24+'Aug25'!H24+'Sep25'!H24+'Oct25'!H24+'Nov25'!H24+'Dec25'!H24 -> 1563351
B25: g. | C25: 27
B26: h. | C26: 28
B27: i. | C27: 29
B28: j. Total (sum a. through e - f.) | C28: 30 | D28: ='Jan25'!D28+'Feb25'!D28+'Mar25'!D28+'Apr25'!D28+'May25'!D28+June25!D28+July25!D28+'Aug25'!D28+'Sep25'!D28+'Oct25'!D28+'Nov25'!D28+'Dec25'!D28 -> 7819731 | E28: ='Jan25'!E28+'Feb25'!E28+'Mar25'!E28+'Apr25'!E28+'May25'!E28+June25!E28+July25!E28+'Aug25'!E28+'Sep25'!E28+'Oct25'!E28+'Nov25'!E28+'Dec25'!E28 -> 30455313 | F28: ='Jan25'!F28+'Feb25'!F28+'Mar25'!F28+'Apr25'!F28+'May25'!F28+June25!F28+July25!F28+'Aug25'!F28+'Sep25'!F28+'Oct25'!F28+'Nov25'!F28+'Dec25'!F28 -> 463854 | G28: ='Jan25'!G28+'Feb25'!G28+'Mar25'!G28+'Apr25'!G28+'May25'!G28+June25!G28+July25!G28+'Aug25'!G28+'Sep25'!G28+'Oct25'!G28+'Nov25'!G28+'Dec25'!G28 -> 13731 | H28: ='Jan25'!H28+'Feb25'!H28+'Mar25'!H28+'Apr25'!H28+'May25'!H28+June25!H28+July25!H28+'Aug25'!H28+'Sep25'!H28+'Oct25'!H28+'Nov25'!H28+'Dec25'!H28 -> 38752629
A29: 3. Gross Volume Taxed (1-2j) | C29: 40 | D29: ='Jan25'!D29+'Feb25'!D29+'Mar25'!D29+'Apr25'!D29+'May25'!D29+June25!D29+July25!D29+'Aug25'!D29+'Sep25'!D29+'Oct25'!D29+'Nov25'!D29+'Dec25'!D29 -> 90734757 | E29: ='Jan25'!E29+'Feb25'!E29+'Mar25'!E29+'Apr25'!E29+'May25'!E29+June25!E29+July25!E29+'Aug25'!E29+'Sep25'!E29+'Oct25'!E29+'Nov25'!E29+'Dec25'!E29 -> 1218206180 | F29: ='Jan25'!F29+'Feb25'!F29+'Mar25'!F29+'Apr25'!F29+'May25'!F29+June25!F29+July25!F29+'Aug25'!F29+'Sep25'!F29+'Oct25'!F29+'Nov25'!F29+'Dec25'!F29 -> 580901531 | G29: ='Jan25'!G29+'Feb25'!G29+'Mar25'!G29+'Apr25'!G29+'May25'!G29+June25!G29+July25!G29+'Aug25'!G29+'Sep25'!G29+'Oct25'!G29+'Nov25'!G29+'Dec25'!G29 -> 7377956 | H29: ='Jan25'!H29+'Feb25'!H29+'Mar25'!H29+'Apr25'!H29+'May25'!H29+June25!H29+July25!H29+'Aug25'!H29+'Sep25'!H29+'Oct25'!H29+'Nov25'!H29+'Dec25'!H29 -> 1.860379e+09
A30: 4. Fully | B30: a. Agriculture | C30: 51 | D30: ='Jan25'!D30+'Feb25'!D30+'Mar25'!D30+'Apr25'!D30+'May25'!D30+June25!D30+July25!D30+'Aug25'!D30+'Sep25'!D30+'Oct25'!D30+'Nov25'!D30+'Dec25'!D30 -> 141252 | E30: ='Jan25'!E30+'Feb25'!E30+'Mar25'!E30+'Apr25'!E30+'May25'!E30+June25!E30+July25!E30+'Aug25'!E30+'Sep25'!E30+'Oct25'!E30+'Nov25'!E30+'Dec25'!E30 -> 127555 | F30: ='Jan25'!F30+'Feb25'!F30+'Mar25'!F30+'Apr25'!F30+'May25'!F30+June25!F30+July25!F30+'Aug25'!F30+'Sep25'!F30+'Oct25'!F30+'Nov25'!F30+'Dec25'!F30 -> 273987 | G30: ='Jan25'!G30+'Feb25'!G30+'Mar25'!G30+'Apr25'!G30+'May25'!G30+June25!G30+July25!G30+'Aug25'!G30+'Sep25'!G30+'Oct25'!G30+'Nov25'!G30+'Dec25'!G30 -> 0 | H30: ='Jan25'!H30+'Feb25'!H30+'Mar25'!H30+'Apr25'!H30+'May25'!H30+June25!H30+July25!H30+'Aug25'!H30+'Sep25'!H30+'Oct25'!H30+'Nov25'!H30+'Dec25'!H30 -> 542794
A31: Refunded | B31: b. Aviation | C31: 52 | D31: ='Jan25'!D31+'Feb25'!D31+'Mar25'!D31+'Apr25'!D31+'May25'!D31+June25!D31+July25!D31+'Aug25'!D31+'Sep25'!D31+'Oct25'!D31+'Nov25'!D31+'Dec25'!D31 -> 0 | E31: ='Jan25'!E31+'Feb25'!E31+'Mar25'!E31+'Apr25'!E31+'May25'!E31+June25!E31+July25!E31+'Aug25'!E31+'Sep25'!E31+'Oct25'!E31+'Nov25'!E31+'Dec25'!E31 -> 0 | F31: ='Jan25'!F31+'Feb25'!F31+'Mar25'!F31+'Apr25'!F31+'May25'!F31+June25!F31+July25!F31+'Aug25'!F31+'Sep25'!F31+'Oct25'!F31+'Nov25'!F31+'Dec25'!F31 -> 0 | G31: ='Jan25'!G31+'Feb25'!G31+'Mar25'!G31+'Apr25'!G31+'May25'!G31+June25!G31+July25!G31+'Aug25'!G31+'Sep25'!G31+'Oct25'!G31+'Nov25'!G31+'Dec25'!G31 -> 0 | H31: ='Jan25'!H31+'Feb25'!H31+'Mar25'!H31+'Apr25'!H31+'May25'!H31+June25!H31+July25!H31+'Aug25'!H31+'Sep25'!H31+'Oct25'!H31+'Nov25'!H31+'Dec25'!H31 -> 0
B32: c. Industrial/Commercial | C32: 53 | D32: ='Jan25'!D32+'Feb25'!D32+'Mar25'!D32+'Apr25'!D32+'May25'!D32+June25!D32+July25!D32+'Aug25'!D32+'Sep25'!D32+'Oct25'!D32+'Nov25'!D32+'Dec25'!D32 -> 0 | E32: ='Jan25'!E32+'Feb25'!E32+'Mar25'!E32+'Apr25'!E32+'May25'!E32+June25!E32+July25!E32+'Aug25'!E32+'Sep25'!E32+'Oct25'!E32+'Nov25'!E32+'Dec25'!E32 -> 0 | F32: ='Jan25'!F32+'Feb25'!F32+'Mar25'!F32+'Apr25'!F32+'May25'!F32+June25!F32+July25!F32+'Aug25'!F32+'Sep25'!F32+'Oct25'!F32+'Nov25'!F32+'Dec25'!F32 -> 0 | G32: ='Jan25'!G32+'Feb25'!G32+'Mar25'!G32+'Apr25'!G32+'May25'!G32+June25!G32+July25!G32+'Aug25'!G32+'Sep25'!G32+'Oct25'!G32+'Nov25'!G32+'Dec25'!G32 -> 0 | H32: ='Jan25'!H32+'Feb25'!H32+'Mar25'!H32+'Apr25'!H32+'May25'!H32+June25!H32+July25!H32+'Aug25'!H32+'Sep25'!H32+'Oct25'!H32+'Nov25'!H32+'Dec25'!H32 -> 0
B33: d. Construction | C33: 54 | D33: ='Jan25'!D33+'Feb25'!D33+'Mar25'!D33+'Apr25'!D33+'May25'!D33+June25!D33+July25!D33+'Aug25'!D33+'Sep25'!D33+'Oct25'!D33+'Nov25'!D33+'Dec25'!D33 -> 0 | E33: ='Jan25'!E33+'Feb25'!E33+'Mar25'!E33+'Apr25'!E33+'May25'!E33+June25!E33+July25!E33+'Aug25'!E33+'Sep25'!E33+'Oct25'!E33+'Nov25'!E33+'Dec25'!E33 -> 0 | F33: ='Jan25'!F33+'Feb25'!F33+'Mar25'!F33+'Apr25'!F33+'May25'!F33+June25!F33+July25!F33+'Aug25'!F33+'Sep25'!F33+'Oct25'!F33+'Nov25'!F33+'Dec25'!F33 -> 0 | G33: ='Jan25'!G33+'Feb25'!G33+'Mar25'!G33+'Apr25'!G33+'May25'!G33+June25!G33+July25!G33+'Aug25'!G33+'Sep25'!G33+'Oct25'!G33+'Nov25'!G33+'Dec25'!G33 -> 0 | H33: ='Jan25'!H33+'Feb25'!H33+'Mar25'!H33+'Apr25'!H33+'May25'!H33+June25!H33+July25!H33+'Aug25'!H33+'Sep25'!H33+'Oct25'!H33+'Nov25'!H33+'Dec25'!H33 -> 0
B34: e. Marine | C34: 55 | D34: ='Jan25'!D34+'Feb25'!D34+'Mar25'!D34+'Apr25'!D34+'May25'!D34+June25!D34+July25!D34+'Aug25'!D34+'Sep25'!D34+'Oct25'!D34+'Nov25'!D34+'Dec25'!D34 -> 0 | E34: ='Jan25'!E34+'Feb25'!E34+'Mar25'!E34+'Apr25'!E34+'May25'!E34+June25!E34+July25!E34+'Aug25'!E34+'Sep25'!E34+'Oct25'!E34+'Nov25'!E34+'Dec25'!E34 -> 0 | F34: ='Jan25'!F34+'Feb25'!F34+'Mar25'!F34+'Apr25'!F34+'May25'!F34+June25!F34+July25!F34+'Aug25'!F34+'Sep25'!F34+'Oct25'!F34+'Nov25'!F34+'Dec25'!F34 -> 0 | G34: ='Jan25'!G34+'Feb25'!G34+'Mar25'!G34+'Apr25'!G34+'May25'!G34+June25!G34+July25!G34+'Aug25'!G34+'Sep25'!G34+'Oct25'!G34+'Nov25'!G34+'Dec25'!G34 -> 0 | H34: ='Jan25'!H34+'Feb25'!H34+'Mar25'!H34+'Apr25'!H34+'May25'!H34+June25!H34+July25!H34+'Aug25'!H34+'Sep25'!H34+'Oct25'!H34+'Nov25'!H34+'Dec25'!H34 -> 0
B35: f. Municipal and Counties | C35: 56 | D35: ='Jan25'!D35+'Feb25'!D35+'Mar25'!D35+'Apr25'!D35+'May25'!D35+June25!D35+July25!D35+'Aug25'!D35+'Sep25'!D35+'Oct25'!D35+'Nov25'!D35+'Dec25'!D35 -> 0 | E35: ='Jan25'!E35+'Feb25'!E35+'Mar25'!E35+'Apr25'!E35+'May25'!E35+June25!E35+July25!E35+'Aug25'!E35+'Sep25'!E35+'Oct25'!E35+'Nov25'!E35+'Dec25'!E35 -> 0 | F35: ='Jan25'!F35+'Feb25'!F35+'Mar25'!F35+'Apr25'!F35+'May25'!F35+June25!F35+July25!F35+'Aug25'!F35+'Sep25'!F35+'Oct25'!F35+'Nov25'!F35+'Dec25'!F35 -> 219936 | G35: ='Jan25'!G35+'Feb25'!G35+'Mar25'!G35+'Apr25'!G35+'May25'!G35+June25!G35+July25!G35+'Aug25'!G35+'Sep25'!G35+'Oct25'!G35+'Nov25'!G35+'Dec25'!G35 -> 0 | H35: ='Jan25'!H35+'Feb25'!H35+'Mar25'!H35+'Apr25'!H35+'May25'!H35+June25!H35+July25!H35+'Aug25'!H35+'Sep25'!H35+'Oct25'!H35+'Nov25'!H35+'Dec25'!H35 -> 219936
B36: g. Other | C36: 57 | D36: ='Jan25'!D36+'Feb25'!D36+'Mar25'!D36+'Apr25'!D36+'May25'!D36+June25!D36+July25!D36+'Aug25'!D36+'Sep25'!D36+'Oct25'!D36+'Nov25'!D36+'Dec25'!D36 -> 195012 | E36: ='Jan25'!E36+'Feb25'!E36+'Mar25'!E36+'Apr25'!E36+'May25'!E36+June25!E36+July25!E36+'Aug25'!E36+'Sep25'!E36+'Oct25'!E36+'Nov25'!E36+'Dec25'!E36 -> 271635 | F36: ='Jan25'!F36+'Feb25'!F36+'Mar25'!F36+'Apr25'!F36+'May25'!F36+June25!F36+July25!F36+'Aug25'!F36+'Sep25'!F36+'Oct25'!F36+'Nov25'!F36+'Dec25'!F36 -> 5576806 | G36: ='Jan25'!G36+'Feb25'!G36+'Mar25'!G36+'Apr25'!G36+'May25'!G36+June25!G36+July25!G36+'Aug25'!G36+'Sep25'!G36+'Oct25'!G36+'Nov25'!G36+'Dec25'!G36 -> 0 | H36: ='Jan25'!H36+'Feb25'!H36+'Mar25'!H36+'Apr25'!H36+'May25'!H36+June25!H36+July25!H36+'Aug25'!H36+'Sep25'!H36+'Oct25'!H36+'Nov25'!H36+'Dec25'!H36 -> 6043453
B37: h. | C37: 58
B38: i. | C38: 59
B39: j. | C39: 60
B40: k. | C40: 61
B41: l. | C41: 62
B42: m. | C42: 63
B43: n. | C43: 64
B44: o. | C44: 65
B45: p. | C45: 66
B46: q. | C46: 67
B47: r. Total (a. thru s.) | C47: 70 | D47: ='Jan25'!D47+'Feb25'!D47+'Mar25'!D47+'Apr25'!D47+'May25'!D47+June25!D47+July25!D47+'Aug25'!D47+'Sep25'!D47+'Oct25'!D47+'Nov25'!D47+'Dec25'!D47 -> 336264 | E47: ='Jan25'!E47+'Feb25'!E47+'Mar25'!E47+'Apr25'!E47+'May25'!E47+June25!E47+July25!E47+'Aug25'!E47+'Sep25'!E47+'Oct25'!E47+'Nov25'!E47+'Dec25'!E47 -> 399190 | F47: ='Jan25'!F47+'Feb25'!F47+'Mar25'!F47+'Apr25'!F47+'May25'!F47+June25!F47+July25!F47+'Aug25'!F47+'Sep25'!F47+'Oct25'!F47+'Nov25'!F47+'Dec25'!F47 -> 6070729 | G47: ='Jan25'!G47+'Feb25'!G47+'Mar25'!G47+'Apr25'!G47+'May25'!G47+June25!G47+July25!G47+'Aug25'!G47+'Sep25'!G47+'Oct25'!G47+'Nov25'!G47+'Dec25'!G47 -> 0 | H47: ='Jan25'!H47+'Feb25'!H47+'Mar25'!H47+'Apr25'!H47+'May25'!H47+June25!H47+July25!H47+'Aug25'!H47+'Sep25'!H47+'Oct25'!H47+'Nov25'!H47+'Dec25'!H47 -> 6806183
A48: 5. Net | B48: a. At Full Rate | D48: ='Jan25'!D48+'Feb25'!D48+'Mar25'!D48+'Apr25'!D48+'May25'!D48+June25!D48+July25!D48+'Aug25'!D48+'Sep25'!D48+'Oct25'!D48+'Nov25'!D48+'Dec25'!D48 -> 90398493 | E48: ='Jan25'!E48+'Feb25'!E48+'Mar25'!E48+'Apr25'!E48+'May25'!E48+June25!E48+July25!E48+'Aug25'!E48+'Sep25'!E48+'Oct25'!E48+'Nov25'!E48+'Dec25'!E48 -> 1217806990 | F48: ='Jan25'!F48+'Feb25'!F48+'Mar25'!F48+'Apr25'!F48+'May25'!F48+June25!F48+July25!F48+'Aug25'!F48+'Sep25'!F48+'Oct25'!F48+'Nov25'!F48+'Dec25'!F48 -> 574830802 | G48: ='Jan25'!G48+'Feb25'!G48+'Mar25'!G48+'Apr25'!G48+'May25'!G48+June25!G48+July25!G48+'Aug25'!G48+'Sep25'!G48+'Oct25'!G48+'Nov25'!G48+'Dec25'!G48 -> 7377956 | H48: ='Jan25'!H48+'Feb25'!H48+'Mar25'!H48+'Apr25'!H48+'May25'!H48+June25!H48+July25!H48+'Aug25'!H48+'Sep25'!H48+'Oct25'!H48+'Nov25'!H48+'Dec25'!H48 -> 1.8904142e+09
A49: Volume
A50: Taxed | B50: IMC fuel volume used in state | F50: =F18 -> 38653484
B51: IMC fuel volume purchased in state | F51: 0
B52: Net IMC | F52: =F50-F51 -> 38653484
