Workbook

Sheet Jan24
A1: The public report burden for this information is estimated to average 5.4 hours | H1: Form Approved OMB No. 2125-0032
H2: STATE
A3: U.S. Department of | H3: Kansas
A4: Transportation | H4: YEAR
E5: MONTHLY MOTOR-FUEL CONSUMPTION | H5: 2024
H6: MONTH OF SALE
A7: Federal Highway | H7: January
A8: Administration | H8: UNITS (check one)
H9: Gallons X
H10: Liters
C11: LI | F11: PRIVATE AND COMMERCIAL
B12: ITEM | C12: NE | D12: GASOLINE | E12: GASOHOL | F12: HWY DIESEL | G12: HWY LPG | H12: TOTAL
C13: # | D13: -1 | E13: -2 | F13: -3 | G13: -4 | H13: -5
A14: 1. Gross | B14: a. Gross Volume Reported | C14: 1 | D14: =D15+D21+D22 -> 6775285 | E14: =E15+E21+E22 -> 95400507 | F14: =F15+F21 -> 43031933 | G14: =G15+G21+G22 -> 419877 | H14: =SUM(D14:G14)+F18 -> 146367535
B15: Net After Deduction | D15: 6526862 | E15: 95288154 | F15: 42958062 | G15: 418624
B16: Special Fuel Tax Receipts
B17: Special Fuel Tax Refunds
A18: Volume | B18: b. IFTA | C18: 2 | F18: 739933
A19: 2. Fully | B19: a. Losses - Flat % | C19: 21 | D19: 156345 | E19: 2259934 | H19: =SUM(D19:G19) -> 2416279
A20: Tax | B20: b. Losses - Actual | C20: 22 | H20: =SUM(D20:G20) -> 0
A21: Exempt | B21: c. Federal | C21: 23 | D21: 80566 | E21: 112353 | F21: 73871 | G21: 1253 | H21: =SUM(D21:G21) -> 268043
B22: d. Aviation | C22: 24 | D22: 167857 | E22: 0 | H22: =SUM(D22:G22) -> 167857
B23: e. Native American | C23: 25 | H23: =SUM(D23:G23) -> 0
B24: f. Assessments | C24: 26 | D24: 103903.75 | H24: =SUM(D24:G24) -> 103903.75
B25: g. | C25: 27 | H25: =SUM(D25:G25) -> 0
B26: h. | C26: 28 | H26: =SUM(D26:G26) -> 0
B27: i. | C27: 29 | H27: =SUM(D27:G27) -> 0
B28: j. Total (sum a. through e - f.) | C28: 30 | D28: =SUM(D19:D23)-D24 -> 300864.25 | E28: =SUM(E19:E23)-E24 -> 2372287 | F28: =SUM(F19:F23)-F24 -> 73871 | G28: =SUM(G19:G23)-G24 -> 1253 | H28: =SUM(H19:H23)-H24 -> 2748275.2
A29: 3. Gross Volume Taxed (1-2j) | C29: 40 | D29: =D14-D28 -> 6474420.8 | E29: =E14-E28 -> 93028220 | F29: =F14+F18-F28 -> 43697995 | G29: =G14-G28 -> 418624 | H29: =H14-H28 -> 1.4361926e+08
A30: 4. Fully | B30: a. Agriculture | C30: 51 | D30: 46379 | E30: 33466 | F30: 57077 | H30: =SUM(D30:G30) -> 136922
A31: Refunded | B31: b. Aviation | C31: 52 | H31: =SUM(D31:G31) -> 0
B32: c. Industrial/Commercial | C32: 53 | H32: =SUM(D32:G32) -> 0
B33: d. Construction | C33: 54 | H33: =SUM(D33:G33) -> 0
B34: e. Marine | C34: 55 | H34: =SUM(D34:G34) -> 0
B35: f. Municipal and Counties | C35: 56 | H35: =SUM(D35:G35) -> 0
B36: g. Other | C36: 57 | D36: 8498 | E36: 44147 | F36: 452039 | H36: =SUM(D36:G36) -> 504684
B37: h. | C37: 58 | H37: =SUM(D37:G37) -> 0
B38: i. | C38: 59 | H38: =SUM(D38:G38) -> 0
B39: j. | C39: 60 | H39: =SUM(D39:G39) -> 0
B40: k. | C40: 61
B41: l. | C41: 62
B42: m. | C42: 63
B43: n. | C43: 64
B44: o. | C44: 65
B45: p. | C45: 66
B46: q. | C46: 67
B47: r. Total (a. thru s.) | C47: 70 | D47: =SUM(D30:D41) -> 54877 | E47: =SUM(E30:E41) -> 77613 | F47: =SUM(F30:F41) -> 509116 | G47: =SUM(G30:G41) -> 0 | H47: =SUM(H30:H41) -> 641606
A48: 5. Net | B48: a. At Full Rate | C48: 81 | D48: =D29-D47 -> 6419543.8 | E48: =E29-E47 -> 92950607 | F48: =F29-F47 -> 43188879 | G48: =G29-G47 -> 418624 | H48: =SUM(D48:G48) -> 1.4297765e+08
A49: Volume | B49: b. | C49: 82
A50: Taxed | B50: c. | C50: 83
A51: Taxed at | B51: d. | C51: 84
A52: initial lower | B52: e. | C52: 85
A53: rate, partially | B53: f. | C53: 86
A54: exempt or | B54: g. | C54: 87
A55: partially | B55: h. | C55: 88
A56: refunded | B56: i. | C56: 89
B57: j. Total (a thru i, 3-4t) | C57: 90 | D57: =SUM(D48:D56) -> 6419543.8 | E57: =SUM(E48:E56) -> 92950607 | F57: =SUM(F48:F56) -> 43188879 | G57: =SUM(G48:G56) -> 418624 | H57: =SUM(H48:H56) -> 1.4297765e+08
B58: Calendar Year Cumulation | D58: =D57 -> 6419543.8 | E58: =E57 -> 92950607 | F58: =F57 -> 43188879 | G58: =G57 -> 418624 | H58: =H57 -> 1.4297765e+08
A59: 6. Source | B59: a. Agency Preparing this Report:
B60: Kansas Department of Revenue, Office of Research and Analysis
B61: b. Compiled under Direction of: | G61: c. Date
B62: Mark Burghart, Secretary of Revenue
E63: PREVIOUS EDITIONS OBSOLETE | H63: (Next Page)
E64: 1
H67: =H2 -> STATE
H68: =H3 -> Kansas
D69: NOTES AND TECHNICAL INFORMATION | H69: =H4 -> YEAR
H70: =H5 -> 2024
H71: =H6 -> MONTH OF SALE
H72: =H7 -> January
A73: 1. Rate of tax at end month, in cents-per-gallon/liter. | D73: (If tax is ad valorem, post percentage, and briefly explain application basis below.)
E74: Rate | F74: Effective Date
C75: a. Gasoline | E75: 24¢/gallon | F75: 37803
C76: b. Gasohol | E76: 24¢/gallon | F76: 37803
C77: c. Gasohol E85 | E77: 17¢/gallon | F77: 39083
C78: d. Diesel | E78: 26¢/gallon | F78: 37803
C79: e. LPG | E79: 23¢/gallon | F79: 37803
C80: f. CNG * | E80: 23¢/gallon | F80: 37803
B81: * 120 cubic feet = one gallon
A82: 2. Computation of gross volume reported (page 1, item 1). | F82: Special Fuels
E83: Gasoline and Gasohol | F83: (Diesel and LPG)
B84: Gross sales from wholesaler/retailer returns | E84: =D14+E14 -> 102175792 | F84: =(+F28+F29+G29)-(F85-F86) -> 44190490
B85: Plus: IMC fuel volume used in state | F85: =0/0.26 -> 0
B86: Less: IMC fuel volume purchased tax paid in state
B87: ="= Gross consumption in State (enter on page 1, item 1)" -> = Gross consumption in State (enter on page 1, item 1) | E87: =(E84+E85)-E86 -> 102175792 | F87: =(F84+F85)-F86 -> 44190490
E89: Interstate motor carrier (fuel use tax) fuel volume shown above covers period:
F90: Diesel | G90: LP-Gas | H90: Combined
E91: * page 1, line 1 split | F91: =F14 -> 43031933 | G91: =G14 -> 419877 | H91: =F91+G91 -> 43451810
A92: 3. Stratification of gasohol by blend ratio
B94: The gasohol volume on page 1 column (2) includes: | E94: (show actual/estimated volume or percentage shares)
C96: Percent Alcohol | E96: Volume | F96: Percentage Share
D97: 5.7-7.6%
D98: 7.7-9.9%
D99: 10% or more | F99: 1
A101: 4. Notes and comments
A104: Note that diesel gallons include state, county and municipal government highway use, but does not include use by
A105: school buses.
A106: Line #26 (Assessments) - Assessments, either positive or negative, can be the result of audits, amended returns or
A107: office (KS Dept. of Revenue) assessments or abatements.
A124: Form FHWA-551M (Rev. 11-93) | E124: 2

Sheet Feb24
A1: The public report burden for this information is estimated to average 5.4 hours | H1: Form Approved OMB No. 2125-0032
H2: STATE
A3: U.S. Department of | H3: Kansas
A4: Transportation | H4: YEAR
E5: MONTHLY MOTOR-FUEL CONSUMPTION | H5: 2024
H6: MONTH OF SALE
A7: Federal Highway | H7: February
A8: Administration | H8: UNITS (check one)
H9: Gallons X
H10: Liters
C11: LI | F11: PRIVATE AND COMMERCIAL
B12: ITEM | C12: NE | D12: GASOLINE | E12: GASOHOL | F12: HWY DIESEL | G12: HWY LPG | H12: TOTAL
C13: # | D13: -1 | E13: -2 | F13: -3 | G13: -4 | H13: -5
A14: 1. Gross | B14: a. Gross Volume Reported | C14: 1 | D14: =D15+D21+D22 -> 7047146 | E14: =E15+E21+E22 -> 94695902 | F14: =F15+F21+F22 -> 43414749 | G14: =G15+G21+G22 -> 489158 | H14: =SUM(D14:G14)+F18 -> 153253823
B15: Net After Deduction | D15: 6565566 | E15: 94602019 | F15: 43373708 | G15: 478081
B16: Special Fuel Tax Receipts
B17: Special Fuel Tax Refunds
A18: Volume | B18: b. IFTA | C18: 2 | F18: 7606868
A19: 2. Fully | B19: a. Losses - Flat % | C19: 21 | D19: 156708 | E19: 2235596 | H19: =SUM(D19:G19) -> 2392304
A20: Tax | B20: b. Losses - Actual | C20: 22 | H20: =SUM(D20:G20) -> 0
A21: Exempt | B21: c. Federal | C21: 23 | D21: 55301 | E21: 93883 | F21: 41041 | G21: 11077 | H21: =SUM(D21:G21) -> 201302
B22: d. Aviation | C22: 24 | D22: 426279 | E22: 0 | H22: =SUM(D22:G22) -> 426279
B23: e. Native American | C23: 25 | H23: =SUM(D23:G23) -> 0
B24: f. Assessments | C24: 26 | D24: 26752.917 | H24: =SUM(D24:G24) -> 26752.917
B25: g. | C25: 27 | H25: =SUM(D25:G25) -> 0
B26: h. | C26: 28 | H26: =SUM(D26:G26) -> 0
B27: i. | C27: 29 | H27: =SUM(D27:G27) -> 0
B28: j. Total (sum a. through e - f.) | C28: 30 | D28: =SUM(D19:D23)-D24 -> 611535.08 | E28: =SUM(E19:E23)-E24 -> 2329479 | F28: =SUM(F19:F23)-F24 -> 41041 | G28: =SUM(G19:G23)-G24 -> 11077 | H28: =SUM(H19:H23)-H24 -> 2993132.1
A29: 3. Gross Volume Taxed (1-2j) | C29: 40 | D29: =D14-D28 -> 6435610.9 | E29: =E14-E28 -> 92366423 | F29: =F14+F18-F28 -> 50980576 | G29: =G14-G28 -> 478081 | H29: =H14-H28 -> 1.5026069e+08
A30: 4. Fully | B30: a. Agriculture | C30: 51 | D30: 28063 | E30: 37298 | F30: 89382 | H30: =SUM(D30:G30) -> 154743
A31: Refunded | B31: b. Aviation | C31: 52 | H31: =SUM(D31:G31) -> 0
B32: c. Industrial/Commercial | C32: 53 | H32: =SUM(D32:G32) -> 0
B33: d. Construction | C33: 54 | H33: =SUM(D33:G33) -> 0
B34: e. Marine | C34: 55 | H34: =SUM(D34:G34) -> 0
B35: f. Municipal and Counties | C35: 56 | H35: =SUM(D35:G35) -> 0
B36: g. Other | C36: 57 | D36: 12267 | E36: 15863 | F36: 523259 | H36: =SUM(D36:G36) -> 551389
B37: h. | C37: 58 | H37: =SUM(D37:G37) -> 0
B38: i. | C38: 59 | H38: =SUM(D38:G38) -> 0
B39: j. | C39: 60 | H39: =SUM(D39:G39) -> 0
B40: k. | C40: 61
B41: l. | C41: 62
B42: m. | C42: 63
B43: n. | C43: 64
B44: o. | C44: 65
B45: p. | C45: 66
B46: q. | C46: 67
B47: r. Total (a. thru s.) | C47: 70 | D47: =SUM(D30:D41) -> 40330 | E47: =SUM(E30:E41) -> 53161 | F47: =SUM(F30:F41) -> 612641 | G47: =SUM(G30:G41) -> 0 | H47: =SUM(H30:H41) -> 706132
A48: 5. Net | B48: a. At Full Rate | C48: 81 | D48: =D29-D47 -> 6395280.9 | E48: =E29-E47 -> 92313262 | F48: =F29-F47 -> 50367935 | G48: =G29-G47 -> 478081 | H48: =SUM(D48:G48) -> 1.4955456e+08
A49: Volume | B49: b. | C49: 82
A50: Taxed | B50: c. | C50: 83
A51: Taxed at | B51: d. | C51: 84
A52: initial lower | B52: e. | C52: 85
A53: rate, partially | B53: f. | C53: 86
A54: exempt or | B54: g. | C54: 87
A55: partially | B55: h. | C55: 88
A56: refunded | B56: i. | C56: 89
B57: j. Total (a thru i, 3-4t) | C57: 90 | D57: =SUM(D48:D56) -> 6395280.9 | E57: =SUM(E48:E56) -> 92313262 | F57: =SUM(F48:F56) -> 50367935 | G57: =SUM(G48:G56) -> 478081 | H57: =SUM(H48:H56) -> 1.4955456e+08
B58: Calendar Year Cumulation | D58: =D57+'Jan24'!D58 -> 12814825 | E58: =E57+'Jan24'!E58 -> 185263869 | F58: =F57+'Jan24'!F58 -> 93556814 | G58: =G57+'Jan24'!G58 -> 896705 | H58: =H57+'Jan24'!H58 -> 2.9253221e+08
A59: 6. Source | B59: a. Agency Preparing this Report:
B60: Kansas Department of Revenue, Office of Research and Analysis
B61: b. Compiled under Direction of: | G61: c. Date
B62: Mark Burghart, Secretary of Revenue
E63: PREVIOUS EDITIONS OBSOLETE | H63: (Next Page)
E64: 1
H67: =H2 -> STATE
H68: =H3 -> Kansas
D69: NOTES AND TECHNICAL INFORMATION | H69: =H4 -> YEAR
H70: =H5 -> 2024
H71: =H6 -> MONTH OF SALE
H72: =H7 -> February
A73: 1. Rate of tax at end month, in cents-per-gallon/liter. | D73: (If tax is ad valorem, post percentage, and briefly explain application basis below.)
E74: Rate | F74: Effective Date
C75: a. Gasoline | E75: 24¢/gallon | F75: 37803
C76: b. Gasohol | E76: 24¢/gallon | F76: 37803
C77: c. Gasohol E85 | E77: 17¢/gallon | F77: 39083
C78: d. Diesel | E78: 26¢/gallon | F78: 37803
C79: e. LPG | E79: 23¢/gallon | F79: 37803
C80: f. CNG * | E80: 23¢/gallon | F80: 37803
B81: * 120 cubic feet = one gallon
A82: 2. Computation of gross volume reported (page 1, item 1). | F82: Special Fuels
E83: Gasoline and Gasohol | F83: (Diesel and LPG)
B84: Gross sales from wholesaler/retailer returns | E84: =D14+E14 -> 101743048 | F84: =(+F28+F29+G29)-(F85-F86) -> 51499698
B85: Plus: IMC fuel volume used in state | F85: =0/0.26 -> 0
B86: Less: IMC fuel volume purchased tax paid in state
B87: ="= Gross consumption in State (enter on page 1, item 1)" -> = Gross consumption in State (enter on page 1, item 1) | E87: =(E84+E85)-E86 -> 101743048 | F87: =(F84+F85)-F86 -> 51499698
E89: Interstate motor carrier (fuel use tax) fuel volume shown above covers period:
F90: Diesel | G90: LP-Gas | H90: Combined
E91: * page 1, line 1 split | F91: =F14 -> 43414749 | G91: =G14 -> 489158 | H91: =F91+G91 -> 43903907
A92: 3. Stratification of gasohol by blend ratio
B94: The gasohol volume on page 1 column (2) includes: | E94: (show actual/estimated volume or percentage shares)
C96: Percent Alcohol | E96: Volume | F96: Percentage Share
D97: 5.7-7.6%
D98: 7.7-9.9%
D99: 10% or more | F99: 1
A101: 4. Notes and comments
A104: Note that diesel gallons include state, county and municipal government highway use, but does not include use by
A105: school buses.
A106: Line #26 (Assessments) - Assessments, either positive or negative, can be the result of audits, amended returns or
A107: office (KS Dept. of Revenue) assessments or abatements.
A124: Form FHWA-551M (Rev. 11-93) | E124: 2

Sheet Mar24
A1: The public report burden for this information is estimated to average 5.4 hours | H1: Form Approved OMB No. 2125-0032
H2: STATE
A3: U.S. Department of | H3: Kansas
A4: Transportation | H4: YEAR
E5: MONTHLY MOTOR-FUEL CONSUMPTION | H5: 2024
H6: MONTH OF SALE
A7: Federal Highway | H7: March
A8: Administration | H8: UNITS (check one)
H9: Gallons X
H10: Liters
C11: LI | F11: PRIVATE AND COMMERCIAL
B12: ITEM | C12: NE | D12: GASOLINE | E12: GASOHOL | F12: HWY DIESEL | G12: HWY LPG | H12: TOTAL
C13: # | D13: -1 | E13: -2 | F13: -3 | G13: -4 | H13: -5
A14: 1. Gross | B14: a. Gross Volume Reported | C14: 1 | D14: =D15+D21+D22 -> 8041337 | E14: =E15+E21+E22 -> 104356631 | F14: =F15+F21+F22 -> 47528474 | G14: =G15+G21+G22 -> 527122 | H14: =SUM(D14:G14) -> 160453564
B15: Net After Deduction | D15: 7562217 | E15: 104232298 | F15: 47483739 | G15: 515962
B16: Special Fuel Tax Receipts
B17: Special Fuel Tax Refunds
A18: Volume | B18: b. IFTA | C18: 2 | F18: 716108
A19: 2. Fully | B19: a. Losses - Flat % | C19: 21 | D19: 180364 | E19: 2470643 | H19: =SUM(D19:G19) -> 2651007
A20: Tax | B20: b. Losses - Actual | C20: 22 | H20: =SUM(D20:G20) -> 0
A21: Exempt | B21: c. Federal | C21: 23 | D21: 82099 | E21: 124333 | F21: 44735 | G21: 11160 | H21: =SUM(D21:G21) -> 262327
B22: d. Aviation | C22: 24 | D22: 397021 | E22: 0 | H22: =SUM(D22:G22) -> 397021
B23: e. Native American | C23: 25 | H23: =SUM(D23:G23) -> 0
B24: f. Assessments | C24: 26 | D24: 13369.542 | H24: =SUM(D24:G24) -> 13369.542
B25: g. | C25: 27 | H25: =SUM(D25:G25) -> 0
B26: h. | C26: 28 | H26: =SUM(D26:G26) -> 0
B27: i. | C27: 29 | H27: =SUM(D27:G27) -> 0
B28: j. Total (sum a. through e - f.) | C28: 30 | D28: =SUM(D19:D23)-D24 -> 646114.46 | E28: =SUM(E19:E23)-E24 -> 2594976 | F28: =SUM(F19:F23)-F24 -> 44735 | G28: =SUM(G19:G23)-G24 -> 11160 | H28: =SUM(H19:H23)-H24 -> 3296985.5
A29: 3. Gross Volume Taxed (1-2j) | C29: 40 | D29: =D14-D28 -> 7395222.5 | E29: =E14-E28 -> 101761655 | F29: =F14+F18-F28 -> 48199847 | G29: =G14-G28 -> 515962 | H29: =H14-H28 -> 1.5715658e+08
A30: 4. Fully | B30: a. Agriculture | C30: 51 | D30: 4750 | E30: 19655 | F30: 55479 | H30: =SUM(D30:G30) -> 79884
A31: Refunded | B31: b. Aviation | C31: 52 | H31: =SUM(D31:G31) -> 0
B32: c. Industrial/Commercial | C32: 53 | H32: =SUM(D32:G32) -> 0
B33: d. Construction | C33: 54 | H33: =SUM(D33:G33) -> 0
B34: e. Marine | C34: 55 | H34: =SUM(D34:G34) -> 0
B35: f. Municipal and Counties | C35: 56 | H35: =SUM(D35:G35) -> 0
B36: g. Other | C36: 57 | D36: 15544 | E36: 18867 | F36: 223193 | H36: =SUM(D36:G36) -> 257604
B37: h. | C37: 58 | H37: =SUM(D37:G37) -> 0
B38: i. | C38: 59 | H38: =SUM(D38:G38) -> 0
B39: j. | C39: 60 | H39: =SUM(D39:G39) -> 0
B40: k. | C40: 61
B41: l. | C41: 62
B42: m. | C42: 63
B43: n. | C43: 64
B44: o. | C44: 65
B45: p. | C45: 66
B46: q. | C46: 67
B47: r. Total (a. thru s.) | C47: 70 | D47: =SUM(D30:D41) -> 20294 | E47: =SUM(E30:E41) -> 38522 | F47: =SUM(F30:F41) -> 278672 | G47: =SUM(G30:G41) -> 0 | H47: =SUM(H30:H41) -> 337488
A48: 5. Net | B48: a. At Full Rate | C48: 81 | D48: =D29-D47 -> 7374928.5 | E48: =E29-E47 -> 101723133 | F48: =F29-F47 -> 47921175 | G48: =G29-G47 -> 515962 | H48: =SUM(D48:G48) -> 1.575352e+08
A49: Volume | B49: b. | C49: 82
A50: Taxed | B50: c. | C50: 83
A51: Taxed at | B51: d. | C51: 84
A52: initial lower | B52: e. | C52: 85
A53: rate, partially | B53: f. | C53: 86
A54: exempt or | B54: g. | C54: 87
A55: partially | B55: h. | C55: 88
A56: refunded | B56: i. | C56: 89
B57: j. Total (a thru i, 3-4t) | C57: 90 | D57: =SUM(D48:D56) -> 7374928.5 | E57: =SUM(E48:E56) -> 101723133 | F57: =SUM(F48:F56) -> 47921175 | G57: =SUM(G48:G56) -> 515962 | H57: =SUM(H48:H56) -> 1.575352e+08
B58: Calendar Year Cumulation | D58: =D57+'Feb24'!D58 -> 20189753 | E58: =E57+'Feb24'!E58 -> 286987002 | F58: =F57+'Feb24'!F58 -> 141477989 | G58: =G57+'Feb24'!G58 -> 1412667 | H58: =H57+'Feb24'!H58 -> 4.5006741e+08
A59: 6. Source | B59: a. Agency Preparing this Report:
B60: Kansas Department of Revenue, Office of Research and Analysis
B61: b. Compiled under Direction of: | G61: c. Date
B62: Mark Burghart, Secretary of Revenue
E63: PREVIOUS EDITIONS OBSOLETE | H63: (Next Page)
E64: 1
H67: =H2 -> STATE
H68: =H3 -> Kansas
D69: NOTES AND TECHNICAL INFORMATION | H69: =H4 -> YEAR
H70: =H5 -> 2024
H71: =H6 -> MONTH OF SALE
H72: =H7 -> March
A73: 1. Rate of tax at end month, in cents-per-gallon/liter. | D73: (If tax is ad valorem, post percentage, and briefly explain application basis below.)
E74: Rate | F74: Effective Date
C75: a. Gasoline | E75: 24¢/gallon | F75: 37803
C76: b. Gasohol | E76: 24¢/gallon | F76: 37803
C77: c. Gasohol E85 | E77: 17¢/gallon | F77: 39083
C78: d. Diesel | E78: 26¢/gallon | F78: 37803
C79: e. LPG | E79: 23¢/gallon | F79: 37803
C80: f. CNG * | E80: 23¢/gallon | F80: 37803
B81: * 120 cubic feet = one gallon
A82: 2. Computation of gross volume reported (page 1, item 1). | F82: Special Fuels
E83: Gasoline and Gasohol | F83: (Diesel and LPG)
B84: Gross sales from wholesaler/retailer returns | E84: =D14+E14 -> 112397968 | F84: =(+F28+F29+G29)-(F85-F86) -> 39493086
B85: Plus: IMC fuel volume used in state | F85: =2409539/0.26 -> 9267457.7
B86: Less: IMC fuel volume purchased tax paid in state
B87: ="= Gross consumption in State (enter on page 1, item 1)" -> = Gross consumption in State (enter on page 1, item 1) | E87: =(E84+E85)-E86 -> 112397968 | F87: =(F84+F85)-F86 -> 48760544
E89: Interstate motor carrier (fuel use tax) fuel volume shown above covers period:
F90: Diesel | G90: LP-Gas | H90: Combined
E91: * page 1, line 1 split | F91: =F14 -> 47528474 | G91: =G14 -> 527122 | H91: =F91+G91 -> 48055596
A92: 3. Stratification of gasohol by blend ratio
B94: The gasohol volume on page 1 column (2) includes: | E94: (show actual/estimated volume or percentage shares)
C96: Percent Alcohol | E96: Volume | F96: Percentage Share
D97: 5.7-7.6%
D98: 7.7-9.9%
D99: 10% or more | F99: 1
A101: 4. Notes and comments
A104: Note that diesel gallons include state, county and municipal government highway use, but does not include use by
A105: school buses.
A106: Line #26 (Assessments) - Assessments, either positive or negative, can be the result of audits, amended returns or
A107: office (KS Dept. of Revenue) assessments or abatements.
A124: Form FHWA-551M (Rev. 11-93) | E124: 2

Sheet Apr24
A1: The public report burden for this information is estimated to average 5.4 hours | H1: Form Approved OMB No. 2125-0032
H2: STATE
A3: U.S. Department of | H3: Kansas
A4: Transportation | H4: YEAR
E5: MONTHLY MOTOR-FUEL CONSUMPTION | H5: 2024
H6: MONTH OF SALE
A7: Federal Highway | H7: April
A8: Administration | H8: UNITS (check one)
H9: Gallons X
H10: Liters
C11: LI | F11: PRIVATE AND COMMERCIAL
B12: ITEM | C12: NE | D12: GASOLINE | E12: GASOHOL | F12: HWY DIESEL | G12: HWY LPG | H12: TOTAL
C13: # | D13: -1 | E13: -2 | F13: -3 | G13: -4 | H13: -5
A14: 1. Gross | B14: a. Gross Volume Reported | C14: 1 | D14: =D15+D21+D22 -> 8439269 | E14: =E15+E21+E22 -> 105140706 | F14: =F15+F21+F22 -> 45022991 | G14: =G15+G21+G22 -> 590989 | H14: =SUM(D14:G14) -> 159193955
B15: Net After Deduction | D15: 7905709 | E15: 105026631 | F15: 44943818 | G15: 589316
B16: Special Fuel Tax Receipts ($)
B17: Special Fuel Tax Refunds ($)
A18: Volume | B18: b. IFTA | C18: 2 | F18: 1030311
A19: 2. Fully | B19: a. Losses - Flat % | C19: 21 | D19: 187936 | E19: 2489853 | H19: =SUM(D19:G19) -> 2677789
A20: Tax | B20: b. Losses - Actual | C20: 22 | H20: =SUM(D20:G20) -> 0
A21: Exempt | B21: c. Federal | C21: 23 | D21: 65873 | E21: 112699 | F21: 79173 | G21: 1673 | H21: =SUM(D21:G21) -> 259418
B22: d. Aviation | C22: 24 | D22: 467687 | E22: 1376 | H22: =SUM(D22:G22) -> 469063
B23: e. Native American | C23: 25 | H23: =SUM(D23:G23) -> 0
B24: f. Assessments | C24: 26 | D24: 104750.38 | H24: =SUM(D24:G24) -> 104750.38
B25: g. | C25: 27 | H25: =SUM(D25:G25) -> 0
B26: h. | C26: 28 | H26: =SUM(D26:G26) -> 0
B27: i. | C27: 29 | H27: =SUM(D27:G27) -> 0
B28: j. Total (sum a. through e - f.) | C28: 30 | D28: =SUM(D19:D23)-D24 -> 616745.62 | E28: =SUM(E19:E23)-E24 -> 2603928 | F28: =SUM(F19:F23)-F24 -> 79173 | G28: =SUM(G19:G23)-G24 -> 1673 | H28: =SUM(H19:H23)-H24 -> 3301519.6
A29: 3. Gross Volume Taxed (1-2j) | C29: 40 | D29: =D14-D28 -> 7822523.4 | E29: =E14-E28 -> 102536778 | F29: =F14+F18-F28 -> 45974129 | G29: =G14-G28 -> 589316 | H29: =H14-H28 -> 1.5589244e+08
A30: 4. Fully | B30: a. Agriculture | C30: 51 | D30: 8216 | E30: 7983 | F30: 60960 | H30: =SUM(D30:G30) -> 77159
A31: Refunded | B31: b. Aviation | C31: 52 | H31: =SUM(D31:G31) -> 0
B32: c. Industrial/Commercial | C32: 53 | H32: =SUM(D32:G32) -> 0
B33: d. Construction | C33: 54 | H33: =SUM(D33:G33) -> 0
B34: e. Marine | C34: 55 | H34: =SUM(D34:G34) -> 0
B35: f. Municipal and Counties | C35: 56 | H35: =SUM(D35:G35) -> 0
B36: g. Other | C36: 57 | D36: 41144 | E36: 6171 | F36: 403373 | H36: =SUM(D36:G36) -> 450688
B37: h. | C37: 58 | H37: =SUM(D37:G37) -> 0
B38: i. | C38: 59 | H38: =SUM(D38:G38) -> 0
B39: j. | C39: 60 | H39: =SUM(D39:G39) -> 0
B40: k. | C40: 61
B41: l. | C41: 62
B42: m. | C42: 63
B43: n. | C43: 64
B44: o. | C44: 65
B45: p. | C45: 66
B46: q. | C46: 67
B47: r. Total (a. thru s.) | C47: 70 | D47: =SUM(D30:D41) -> 49360 | E47: =SUM(E30:E41) -> 14154 | F47: =SUM(F30:F41) -> 464333 | G47: =SUM(G30:G41) -> 0 | H47: =SUM(H30:H41) -> 527847
A48: 5. Net | B48: a. At Full Rate | C48: 81 | D48: =D29-D47 -> 7773163.4 | E48: =E29-E47 -> 102522624 | F48: =F29-F47 -> 45509796 | G48: =G29-G47 -> 589316 | H48: =SUM(D48:G48) -> 1.563949e+08
A49: Volume | B49: b. | C49: 82
A50: Taxed | B50: c. | C50: 83
A51: Taxed at | B51: d. | C51: 84
A52: initial lower | B52: e. | C52: 85
A53: rate, partially | B53: f. | C53: 86
A54: exempt or | B54: g. | C54: 87
A55: partially | B55: h. | C55: 88
A56: refunded | B56: i. | C56: 89
B57: j. Total (a thru i, 3-4t) | C57: 90 | D57: =SUM(D48:D56) -> 7773163.4 | E57: =SUM(E48:E56) -> 102522624 | F57: =SUM(F48:F56) -> 45509796 | G57: =SUM(G48:G56) -> 589316 | H57: =SUM(H48:H56) -> 1.563949e+08
B58: Calendar Year Cumulation | D58: =D57+'Mar24'!D58 -> 27962917 | E58: =E57+'Mar24'!E58 -> 389509626 | F58: =F57+'Mar24'!F58 -> 186987785 | G58: =G57+'Mar24'!G58 -> 2001983 | H58: =H57+'Mar24'!H58 -> 6.0646231e+08
A59: 6. Source | B59: a. Agency Preparing this Report:
B60: Kansas Department of Revenue, Office of Research and Analysis
B61: b. Compiled under Direction of: | G61: c. Date
B62: Mark Burghart, Secretary of Revenue
E63: PREVIOUS EDITIONS OBSOLETE | H63: (Next Page)
E64: 1
H67: =H2 -> STATE
H68: =H3 -> Kansas
D69: NOTES AND TECHNICAL INFORMATION | H69: =H4 -> YEAR
H70: =H5 -> 2024
H71: =H6 -> MONTH OF SALE
H72: =H7 -> April
A73: 1. Rate of tax at end month, in cents-per-gallon/liter. | D73: (If tax is ad valorem, post percentage, and briefly explain application basis below.)
E74: Rate | F74: Effective Date
C75: a. Gasoline | E75: 24¢/gallon | F75: 37803
C76: b. Gasohol | E76: 24¢/gallon | F76: 37803
C77: c. Gasohol E85 | E77: 17¢/gallon | F77: 39083
C78: d. Diesel | E78: 26¢/gallon | F78: 37803
C79: e. LPG | E79: 23¢/gallon | F79: 37803
C80: f. CNG * | E80: 23¢/gallon | F80: 37803
B81: * 120 cubic feet = one gallon
A82: 2. Computation of gross volume reported (page 1, item 1). | F82: Special Fuels
E83: Gasoline and Gasohol | F83: (Diesel and LPG)
B84: Gross sales from wholesaler/retailer returns | E84: =D14+E14 -> 113579975 | F84: =(+F28+F29+G29)-(F85-F86) -> 46642618
B85: Plus: IMC fuel volume used in state | F85: =0/0.26 -> 0
B86: Less: IMC fuel volume purchased tax paid in state
B87: ="= Gross consumption in State (enter on page 1, item 1)" -> = Gross consumption in State (enter on page 1, item 1) | E87: =(E84+E85)-E86 -> 113579975 | F87: =(F84+F85)-F86 -> 46642618
E89: Interstate motor carrier (fuel use tax) fuel volume shown above covers period:
F90: Diesel | G90: LP-Gas | H90: Combined
E91: * page 1, line 1 split | F91: =F14 -> 45022991 | G91: =G14 -> 590989 | H91: =F91+G91 -> 45613980
A92: 3. Stratification of gasohol by blend ratio
B94: The gasohol volume on page 1 column (2) includes: | E94: (show actual/estimated volume or percentage shares)
C96: Percent Alcohol | E96: Volume | F96: Percentage Share
D97: 5.7-7.6%
D98: 7.7-9.9%
D99: 10% or more | F99: 1
A101: 4. Notes and comments
A104: Note that diesel gallons include state, county and municipal government highway use, but does not include use by
A105: school buses.
A106: Line #26 (Assessments) - Assessments, either positive or negative, can be the result of audits, amended returns or
A107: office (KS Dept. of Revenue) assessments or abatements.
A124: Form FHWA-551M (Rev. 11-93) | E124: 2

Sheet May24
A1: The public report burden for this information is estimated to average 5.4 hours | H1: Form Approved OMB No. 2125-0032
H2: STATE
A3: U.S. Department of | H3: Kansas
A4: Transportation | H4: YEAR
E5: MONTHLY MOTOR-FUEL CONSUMPTION | H5: 2024
H6: MONTH OF SALE
A7: Federal Highway | H7: May
A8: Administration | H8: UNITS (check one)
H9: Gallons X
H10: Liters
C11: LI | F11: PRIVATE AND COMMERCIAL
B12: ITEM | C12: NE | D12: GASOLINE | E12: GASOHOL | F12: HWY DIESEL | G12: HWY LPG | H12: TOTAL
C13: # | D13: -1 | E13: -2 | F13: -3 | G13: -4 | H13: -5
A14: 1. Gross | B14: a. Gross Volume Reported | C14: 1 | D14: =D15+D21+D22 -> 10022044 | E14: =E15+E21+E22 -> 157159617 | F14: =F15+F21+F22 -> 49216103 | G14: =G15+G21+G22 -> 572014 | H14: =SUM(D14:G14) -> 216969778
B15: Net After Deduction | D15: 9332362 | E15: 157090024 | F15: 49182836 | G15: 565347
B16: Special Fuel Tax Receipts ($)
B17: Special Fuel Tax Refunds ($)
A18: Volume | B18: b. IFTA | C18: 2 | F18: 7836816
A19: 2. Fully | B19: a. Losses - Flat % | C19: 21 | D19: 222630 | E19: 3774979 | H19: =SUM(D19:G19) -> 3997609
A20: Tax | B20: b. Losses - Actual | C20: 22 | H20: =SUM(D20:G20) -> 0
A21: Exempt | B21: c. Federal | C21: 23 | D21: 71692 | E21: 69593 | F21: 33267 | G21: 6667 | H21: =SUM(D21:G21) -> 181219
B22: d. Aviation | C22: 24 | D22: 617990 | E22: 0 | H22: =SUM(D22:G22) -> 617990
B23: e. Native American | C23: 25 | H23: =SUM(D23:G23) -> 0
B24: f. Assessments | C24: 26 | D24: 61015.458 | H24: =SUM(D24:G24) -> 61015.458
B25: g. | C25: 27 | H25: =SUM(D25:G25) -> 0
B26: h. | C26: 28 | H26: =SUM(D26:G26) -> 0
B27: i. | C27: 29 | H27: =SUM(D27:G27) -> 0
B28: j. Total (sum a. through e - f.) | C28: 30 | D28: =SUM(D19:D23)-D24 -> 851296.54 | E28: =SUM(E19:E23)-E24 -> 3844572 | F28: =SUM(F19:F23)-F24 -> 33267 | G28: =SUM(G19:G23)-G24 -> 6667 | H28: =SUM(H19:H23)-H24 -> 4735802.5
A29: 3. Gross Volume Taxed (1-2j) | C29: 40 | D29: =D14-D28 -> 9170747.5 | E29: =E14-E28 -> 153315045 | F29: =F14+F18-F28 -> 57019652 | G29: =G14-G28 -> 565347 | H29: =H14-H28 -> 2.1223398e+08
A30: 4. Fully | B30: a. Agriculture | C30: 51 | E30: 3328 | H30: =SUM(D30:G30) -> 3328
A31: Refunded | B31: b. Aviation | C31: 52 | H31: =SUM(D31:G31) -> 0
B32: c. Industrial/Commercial | C32: 53 | H32: =SUM(D32:G32) -> 0
B33: d. Construction | C33: 54 | H33: =SUM(D33:G33) -> 0
B34: e. Marine | C34: 55 | H34: =SUM(D34:G34) -> 0
B35: f. Municipal and Counties | C35: 56 | H35: =SUM(D35:G35) -> 0
B36: g. Other | C36: 57 | D36: 30652 | E36: 11888 | F36: 179389 | H36: =SUM(D36:G36) -> 221929
B37: h. | C37: 58 | H37: =SUM(D37:G37) -> 0
B38: i. | C38: 59 | H38: =SUM(D38:G38) -> 0
B39: j. | C39: 60 | H39: =SUM(D39:G39) -> 0
B40: k. | C40: 61
B41: l. | C41: 62
B42: m. | C42: 63
B43: n. | C43: 64
B44: o. | C44: 65
B45: p. | C45: 66
B46: q. | C46: 67
B47: r. Total (a. thru s.) | C47: 70 | D47: =SUM(D30:D41) -> 30652 | E47: =SUM(E30:E41) -> 15216 | F47: =SUM(F30:F41) -> 179389 | G47: =SUM(G30:G41) -> 0 | H47: =SUM(H30:H41) -> 225257
A48: 5. Net | B48: a. At Full Rate | C48: 81 | D48: =D29-D47 -> 9140095.5 | E48: =E29-E47 -> 153299829 | F48: =F29-F47 -> 56840263 | G48: =G29-G47 -> 565347 | H48: =SUM(D48:G48) -> 2.1984553e+08
A49: Volume | B49: b. | C49: 82
A50: Taxed | B50: c. | C50: 83
A51: Taxed at | B51: d. | C51: 84
A52: initial lower | B52: e. | C52: 85
A53: rate, partially | B53: f. | C53: 86
A54: exempt or | B54: g. | C54: 87
A55: partially | B55: h. | C55: 88
A56: refunded | B56: i. | C56: 89
B57: j. Total (a thru i, 3-4t) | C57: 90 | D57: =SUM(D48:D56) -> 9140095.5 | E57: =SUM(E48:E56) -> 153299829 | F57: =SUM(F48:F56) -> 56840263 | G57: =SUM(G48:G56) -> 565347 | H57: =SUM(H48:H56) -> 2.1984553e+08
B58: Calendar Year Cumulation | D58: =D57+'Apr24'!D58 -> 37103012 | E58: =E57+'Apr24'!E58 -> 542809455 | F58: =F57+'Apr24'!F58 -> 243828048 | G58: =G57+'Apr24'!G58 -> 2567330 | H58: =H57+'Apr24'!H58 -> 8.2630785e+08
A59: 6. Source | B59: a. Agency Preparing this Report:
B60: Kansas Department of Revenue, Office of Research and Analysis
B61: b. Compiled under Direction of: | G61: c. Date
B62: Mark Burghart, Secretary of Revenue
E63: PREVIOUS EDITIONS OBSOLETE | H63: (Next Page)
E64: 1
H67: =H2 -> STATE
H68: =H3 -> Kansas
D69: NOTES AND TECHNICAL INFORMATION | H69: =H4 -> YEAR
H70: =H5 -> 2024
H71: =H6 -> MONTH OF SALE
H72: =H7 -> May
A73: 1. Rate of tax at end month, in cents-per-gallon/liter. | D73: (If tax is ad valorem, post percentage, and briefly explain application basis below.)
E74: Rate | F74: Effective Date
C75: a. Gasoline | E75: 24¢/gallon | F75: 37803
C76: b. Gasohol | E76: 24¢/gallon | F76: 37803
C77: c. Gasohol E85 | E77: 17¢/gallon | F77: 39083
C78: d. Diesel | E78: 26¢/gallon | F78: 37803
C79: e. LPG | E79: 23¢/gallon | F79: 37803
C80: f. CNG * | E80: 23¢/gallon | F80: 37803
B81: * 120 cubic feet = one gallon
A82: 2. Computation of gross volume reported (page 1, item 1). | F82: Special Fuels
E83: Gasoline and Gasohol | F83: (Diesel and LPG)
B84: Gross sales from wholesaler/retailer returns | E84: =D14+E14 -> 167181661 | F84: =(+F28+F29+G29)-(F85-F86) -> 57618266
B85: Plus: IMC fuel volume used in state | F85: =0/0.26 -> 0
B86: Less: IMC fuel volume purchased tax paid in state
B87: ="= Gross consumption in State (enter on page 1, item 1)" -> = Gross consumption in State (enter on page 1, item 1) | E87: =(E84+E85)-E86 -> 167181661 | F87: =(F84+F85)-F86 -> 57618266
E89: Interstate motor carrier (fuel use tax) fuel volume shown above covers period:
F90: Diesel | G90: LP-Gas | H90: Combined
E91: * page 1, line 1 split | F91: =F14 -> 49216103 | G91: =G14 -> 572014 | H91: =F91+G91 -> 49788117
A92: 3. Stratification of gasohol by blend ratio
B94: The gasohol volume on page 1 column (2) includes: | E94: (show actual/estimated volume or percentage shares)
C96: Percent Alcohol | E96: Volume | F96: Percentage Share
D97: 5.7-7.6%
D98: 7.7-9.9%
D99: 10% or more | F99: 1
A101: 4. Notes and comments
A104: Note that diesel gallons include state, county and municipal government highway use, but does not include use by
A105: school buses.
A106: Line #26 (Assessments) - Assessments, either positive or negative, can be the result of audits, amended returns or
A107: office (KS Dept. of Revenue) assessments or abatements.
A124: Form FHWA-551M (Rev. 11-93) | E124: 2

Sheet June24
A1: The public report burden for this information is estimated to average 5.4 hours | H1: Form Approved OMB No. 2125-0032
H2: STATE
A3: U.S. Department of | H3: Kansas
A4: Transportation | H4: YEAR
E5: MONTHLY MOTOR-FUEL CONSUMPTION | H5: 2024
H6: MONTH OF SALE
A7: Federal Highway | H7: June
A8: Administration | H8: UNITS (check one)
H9: Gallons X
H10: Liters
C11: LI | F11: PRIVATE AND COMMERCIAL
B12: ITEM | C12: NE | D12: GASOLINE | E12: GASOHOL | F12: HWY DIESEL | G12: HWY LPG | H12: TOTAL
C13: # | D13: -1 | E13: -2 | F13: -3 | G13: -4 | H13: -5
A14: 1. Gross | B14: a. Gross Volume Reported | C14: 1 | D14: =D15+D21+D22 -> 9245905 | E14: =E15+E21+E22 -> 108023622 | F14: =F15+F21+F22 -> 43515470 | G14: =G15+G21+G22 -> 540052 | H14: =SUM(D14:G14) -> 161325049
B15: Net After Deduction | D15: 8582837 | E15: 107960835 | F15: 43483956 | G15: 539066
B16: Special Fuel Tax Receipts ($)
B17: Special Fuel Tax Refunds ($)
A18: Volume | B18: b. IFTA | C18: 2 | F18: 927637
A19: 2. Fully | B19: a. Losses - Flat % | C19: 21 | D19: 206056 | E19: 2566483 | H19: =SUM(D19:G19) -> 2772539
A20: Tax | B20: b. Losses - Actual | C20: 22 | H20: =SUM(D20:G20) -> 0
A21: Exempt | B21: c. Federal | C21: 23 | D21: 64994 | E21: 62787 | F21: 31514 | G21: 986 | H21: =SUM(D21:G21) -> 160281
B22: d. Aviation | C22: 24 | D22: 598074 | E22: 0 | H22: =SUM(D22:G22) -> 598074
B23: e. Native American | C23: 25 | H23: =SUM(D23:G23) -> 0
B24: f. Assessments | C24: 26 | D24: 32183 | H24: =SUM(D24:G24) -> 32183
B25: g. | C25: 27 | H25: =SUM(D25:G25) -> 0
B26: h. | C26: 28 | H26: =SUM(D26:G26) -> 0
B27: i. | C27: 29 | H27: =SUM(D27:G27) -> 0
B28: j. Total (sum a. through e - f.) | C28: 30 | D28: =SUM(D19:D23)-D24 -> 836941 | E28: =SUM(E19:E23)-E24 -> 2629270 | F28: =SUM(F19:F23)-F24 -> 31514 | G28: =SUM(G19:G23)-G24 -> 986 | H28: =SUM(H19:H23)-H24 -> 3498711
A29: 3. Gross Volume Taxed (1-2j) | C29: 40 | D29: =D14-D28 -> 8408964 | E29: =E14-E28 -> 105394352 | F29: =F14+F18-F28 -> 44411593 | G29: =G14-G28 -> 539066 | H29: =H14-H28 -> 157826338
A30: 4. Fully | B30: a. Agriculture | C30: 51 | D30: 6105 | E30: 2367 | H30: =SUM(D30:G30) -> 8472
A31: Refunded | B31: b. Aviation | C31: 52 | H31: =SUM(D31:G31) -> 0
B32: c. Industrial/Commercial | C32: 53 | H32: =SUM(D32:G32) -> 0
B33: d. Construction | C33: 54 | H33: =SUM(D33:G33) -> 0
B34: e. Marine | C34: 55 | H34: =SUM(D34:G34) -> 0
B35: f. Municipal and Counties | C35: 56 | H35: =SUM(D35:G35) -> 0
B36: g. Other | C36: 57 | D36: 8209 | E36: 51426 | F36: 287813 | H36: =SUM(D36:G36) -> 347448
B37: h. | C37: 58 | H37: =SUM(D37:G37) -> 0
B38: i. | C38: 59 | H38: =SUM(D38:G38) -> 0
B39: j. | C39: 60 | H39: =SUM(D39:G39) -> 0
B40: k. | C40: 61
B41: l. | C41: 62
B42: m. | C42: 63
B43: n. | C43: 64
B44: o. | C44: 65
B45: p. | C45: 66
B46: q. | C46: 67
B47: r. Total (a. thru s.) | C47: 70 | D47: =SUM(D30:D41) -> 14314 | E47: =SUM(E30:E41) -> 53793 | F47: =SUM(F30:F41) -> 287813 | G47: =SUM(G30:G41) -> 0 | H47: =SUM(H30:H41) -> 355920
A48: 5. Net | B48: a. At Full Rate | C48: 81 | D48: =D29-D47 -> 8394650 | E48: =E29-E47 -> 105340559 | F48: =F29-F47 -> 44123780 | G48: =G29-G47 -> 539066 | H48: =SUM(D48:G48) -> 158398055
A49: Volume | B49: b. | C49: 82
A50: Taxed | B50: c. | C50: 83
A51: Taxed at | B51: d. | C51: 84
A52: initial lower | B52: e. | C52: 85
A53: rate, partially | B53: f. | C53: 86
A54: exempt or | B54: g. | C54: 87
A55: partially | B55: h. | C55: 88
A56: refunded | B56: i. | C56: 89
B57: j. Total (a thru i, 3-4t) | C57: 90 | D57: =SUM(D48:D56) -> 8394650 | E57: =SUM(E48:E56) -> 105340559 | F57: =SUM(F48:F56) -> 44123780 | G57: =SUM(G48:G56) -> 539066 | H57: =SUM(H48:H56) -> 158398055
B58: Calendar Year Cumulation | D58: =D57+'May24'!D58 -> 45497662 | E58: =E57+'May24'!E58 -> 648150014 | F58: =F57+'May24'!F58 -> 287951828 | G58: =G57+'May24'!G58 -> 3106396 | H58: =H57+'May24'!H58 -> 9.847059e+08
A59: 6. Source | B59: a. Agency Preparing this Report:
B60: Kansas Department of Revenue, Office of Research and Analysis
B61: b. Compiled under Direction of: | G61: c. Date
B62: Mark Burghart, Secretary of Revenue
E63: PREVIOUS EDITIONS OBSOLETE | H63: (Next Page)
E64: 1
H67: =H2 -> STATE
H68: =H3 -> Kansas
D69: NOTES AND TECHNICAL INFORMATION | H69: =H4 -> YEAR
H70: =H5 -> 2024
H71: =H6 -> MONTH OF SALE
H72: =H7 -> June
A73: 1. Rate of tax at end month, in cents-per-gallon/liter. | D73: (If tax is ad valorem, post percentage, and briefly explain application basis below.)
E74: Rate | F74: Effective Date
C75: a. Gasoline | E75: 24¢/gallon | F75: 37803
C76: b. Gasohol | E76: 24¢/gallon | F76: 37803
C77: c. Gasohol E85 | E77: 17¢/gallon | F77: 39083
C78: d. Diesel | E78: 26¢/gallon | F78: 37803
C79: e. LPG | E79: 23¢/gallon | F79: 37803
C80: f. CNG * | E80: 23¢/gallon | F80: 37803
B81: * 120 cubic feet = one gallon
A82: 2. Computation of gross volume reported (page 1, item 1). | F82: Special Fuels
E83: Gasoline and Gasohol | F83: (Diesel and LPG)
B84: Gross sales from wholesaler/retailer returns | E84: =D14+E14 -> 117269527 | F84: =(+F28+F29+G29)-(F85-F86) -> 36758142
B85: Plus: IMC fuel volume used in state | F85: =2138248/0.26 -> 8224030.8
B86: Less: IMC fuel volume purchased tax paid in state
B87: ="= Gross consumption in State (enter on page 1, item 1)" -> = Gross consumption in State (enter on page 1, item 1) | E87: =(E84+E85)-E86 -> 117269527 | F87: =(F84+F85)-F86 -> 44982173
E89: Interstate motor carrier (fuel use tax) fuel volume shown above covers period:
F90: Diesel | G90: LP-Gas | H90: Combined
E91: * page 1, line 1 split | F91: =F14 -> 43515470 | G91: =G14 -> 540052 | H91: =F91+G91 -> 44055522
A92: 3. Stratification of gasohol by blend ratio
B94: The gasohol volume on page 1 column (2) includes: | E94: (show actual/estimated volume or percentage shares)
C96: Percent Alcohol | E96: Volume | F96: Percentage Share
D97: 5.7-7.6%
D98: 7.7-9.9%
D99: 10% or more | F99: 1
A101: 4. Notes and comments
A104: Note that diesel gallons include state, county and municipal government highway use, but does not include use by
A105: school buses.
A106: Line #26 (Assessments) - Assessments, either positive or negative, can be the result of audits, amended returns or
A107: office (KS Dept. of Revenue) assessments or abatements.
A124: Form FHWA-551M (Rev. 11-93) | E124: 2

Sheet July24
A1: The public report burden for this information is estimated to average 5.4 hours | H1: Form Approved OMB No. 2125-0032
H2: STATE
A3: U.S. Department of | H3: Kansas
A4: Transportation | H4: YEAR
E5: MONTHLY MOTOR-FUEL CONSUMPTION | H5: 2024
H6: MONTH OF SALE
A7: Federal Highway | H7: July
A8: Administration | H8: UNITS (check one)
H9: Gallons X
H10: Liters
C11: LI | F11: PRIVATE AND COMMERCIAL
B12: ITEM | C12: NE | D12: GASOLINE | E12: GASOHOL | F12: HWY DIESEL | G12: HWY LPG | H12: TOTAL
C13: # | D13: -1 | E13: -2 | F13: -3 | G13: -4 | H13: -5
A14: 1. Gross | B14: a. Gross Volume Reported | C14: 1 | D14: =D15+D21+D22 -> 9747178 | E14: =E15+E21+E22 -> 108428592 | F14: =F15+F21+F22 -> 43299519 | G14: =G15+G21+G22 -> 539358 | H14: =SUM(D14:G14) -> 162014647
B15: Net After Deduction | D15: 8841347 | E15: 108363418 | F15: 43264555 | G15: 537937
B16: Special Fuel Tax Receipts ($)
B17: Special Fuel Tax Refunds ($)
A18: Volume | B18: b. IFTA | C18: 2 | F18: 962653
A19: 2. Fully | B19: a. Losses - Flat % | C19: 21 | D19: 210275 | E19: 2564047 | H19: =SUM(D19:G19) -> 2774322
A20: Tax | B20: b. Losses - Actual | C20: 22 | H20: =SUM(D20:G20) -> 0
A21: Exempt | B21: c. Federal | C21: 23 | D21: 79497 | E21: 65174 | F21: 34964 | G21: 1421 | H21: =SUM(D21:G21) -> 181056
B22: d. Aviation | C22: 24 | D22: 826334 | E22: 0 | H22: =SUM(D22:G22) -> 826334
B23: e. Native American | C23: 25 | H23: =SUM(D23:G23) -> 0
B24: f. Assessments | C24: 26 | D24: 11499.708 | H24: =SUM(D24:G24) -> 11499.708
B25: g. | C25: 27 | H25: =SUM(D25:G25) -> 0
B26: h. | C26: 28 | H26: =SUM(D26:G26) -> 0
B27: i. | C27: 29 | H27: =SUM(D27:G27) -> 0
B28: j. Total (sum a. through e - f.) | C28: 30 | D28: =SUM(D19:D23)-D24 -> 1104606.3 | E28: =SUM(E19:E23)-E24 -> 2629221 | F28: =SUM(F19:F23)-F24 -> 34964 | G28: =SUM(G19:G23)-G24 -> 1421 | H28: =SUM(H19:H23)-H24 -> 3770212.3
A29: 3. Gross Volume Taxed (1-2j) | C29: 40 | D29: =D14-D28 -> 8642571.7 | E29: =E14-E28 -> 105799371 | F29: =F14+F18-F28 -> 44227208 | G29: =G14-G28 -> 537937 | H29: =H14-H28 -> 1.5824443e+08
A30: 4. Fully | B30: a. Agriculture | C30: 51 | D30: 5620 | E30: 2367 | F30: 47422 | H30: =SUM(D30:G30) -> 55409
A31: Refunded | B31: b. Aviation | C31: 52 | H31: =SUM(D31:G31) -> 0
B32: c. Industrial/Commercial | C32: 53 | H32: =SUM(D32:G32) -> 0
B33: d. Construction | C33: 54 | H33: =SUM(D33:G33) -> 0
B34: e. Marine | C34: 55 | H34: =SUM(D34:G34) -> 0
B35: f. Municipal and Counties | C35: 56 | H35: =SUM(D35:G35) -> 0
B36: g. Other | C36: 57 | D36: 10995 | E36: 51426 | F36: 680117 | H36: =SUM(D36:G36) -> 742538
B37: h. | C37: 58 | H37: =SUM(D37:G37) -> 0
B38: i. | C38: 59 | H38: =SUM(D38:G38) -> 0
B39: j. | C39: 60 | H39: =SUM(D39:G39) -> 0
B40: k. | C40: 61
B41: l. | C41: 62
B42: m. | C42: 63
B43: n. | C43: 64
B44: o. | C44: 65
B45: p. | C45: 66
B46: q. | C46: 67
B47: r. Total (a. thru s.) | C47: 70 | D47: =SUM(D30:D41) -> 16615 | E47: =SUM(E30:E41) -> 53793 | F47: =SUM(F30:F41) -> 727539 | G47: =SUM(G30:G41) -> 0 | H47: =SUM(H30:H41) -> 797947
A48: 5. Net | B48: a. At Full Rate | C48: 81 | D48: =D29-D47 -> 8625956.7 | E48: =E29-E47 -> 105745578 | F48: =F29-F47 -> 43499669 | G48: =G29-G47 -> 537937 | H48: =SUM(D48:G48) -> 1.5840914e+08
A49: Volume | B49: b. | C49: 82
A50: Taxed | B50: c. | C50: 83
A51: Taxed at | B51: d. | C51: 84
A52: initial lower | B52: e. | C52: 85
A53: rate, partially | B53: f. | C53: 86
A54: exempt or | B54: g. | C54: 87
A55: partially | B55: h. | C55: 88
A56: refunded | B56: i. | C56: 89
B57: j. Total (a thru i, 3-4t) | C57: 90 | D57: =SUM(D48:D56) -> 8625956.7 | E57: =SUM(E48:E56) -> 105745578 | F57: =SUM(F48:F56) -> 43499669 | G57: =SUM(G48:G56) -> 537937 | H57: =SUM(H48:H56) -> 1.5840914e+08
B58: Calendar Year Cumulation | D58: =D57+June24!D58 -> 54123619 | E58: =E57+June24!E58 -> 753895592 | F58: =F57+June24!F58 -> 331451497 | G58: =G57+June24!G58 -> 3644333 | H58: =H57+June24!H58 -> 1.143115e+09
A59: 6. Source | B59: a. Agency Preparing this Report:
B60: Kansas Department of Revenue, Office of Research and Analysis
B61: b. Compiled under Direction of: | G61: c. Date
B62: Mark Burghart, Secretary of Revenue
E63: PREVIOUS EDITIONS OBSOLETE | H63: (Next Page)
E64: 1
H67: =H2 -> STATE
H68: =H3 -> Kansas
D69: NOTES AND TECHNICAL INFORMATION | H69: =H4 -> YEAR
H70: =H5 -> 2024
H71: =H6 -> MONTH OF SALE
H72: =H7 -> July
A73: 1. Rate of tax at end month, in cents-per-gallon/liter. | D73: (If tax is ad valorem, post percentage, and briefly explain application basis below.)
E74: Rate | F74: Effective Date
C75: a. Gasoline | E75: 24¢/gallon | F75: 37803
C76: b. Gasohol | E76: 24¢/gallon | F76: 37803
C77: c. Gasohol E85 | E77: 17¢/gallon | F77: 39083
C78: d. Diesel | E78: 26¢/gallon | F78: 37803
C79: e. LPG | E79: 23¢/gallon | F79: 37803
C80: f. CNG * | E80: 23¢/gallon | F80: 37803
B81: * 120 cubic feet = one gallon
A82: 2. Computation of gross volume reported (page 1, item 1). | F82: Special Fuels
E83: Gasoline and Gasohol | F83: (Diesel and LPG)
B84: Gross sales from wholesaler/retailer returns | E84: =D14+E14 -> 118175770 | F84: =(+F28+F29+G29)-(F85-F86) -> 44800109
B85: Plus: IMC fuel volume used in state | F85: =0/0.26 -> 0
B86: Less: IMC fuel volume purchased tax paid in state
B87: ="= Gross consumption in State (enter on page 1, item 1)" -> = Gross consumption in State (enter on page 1, item 1) | E87: =(E84+E85)-E86 -> 118175770 | F87: =(F84+F85)-F86 -> 44800109
E89: Interstate motor carrier (fuel use tax) fuel volume shown above covers period:
F90: Diesel | G90: LP-Gas | H90: Combined
E91: * page 1, line 1 split | F91: =F14 -> 43299519 | G91: =G14 -> 539358 | H91: =F91+G91 -> 43838877
A92: 3. Stratification of gasohol by blend ratio
B94: The gasohol volume on page 1 column (2) includes: | E94: (show actual/estimated volume or percentage shares)
C96: Percent Alcohol | E96: Volume | F96: Percentage Share
D97: 5.7-7.6%
D98: 7.7-9.9%
D99: 10% or more | F99: 1
A101: 4. Notes and comments
A104: Note that diesel gallons include state, county and municipal government highway use, but does not include use by
A105: school buses.
A106: Line #26 (Assessments) - Assessments, either positive or negative, can be the result of audits, amended returns or
A107: office (KS Dept. of Revenue) assessments or abatements.
A124: Form FHWA-551M (Rev. 11-93) | E124: 2

Sheet Aug24
A1: The public report burden for this information is estimated to average 5.4 hours | H1: Form Approved OMB No. 2125-0032
H2: STATE
A3: U.S. Department of | H3: Kansas
A4: Transportation | H4: YEAR
E5: MONTHLY MOTOR-FUEL CONSUMPTION | H5: 2024
H6: MONTH OF SALE
A7: Federal Highway | H7: August
A8: Administration | H8: UNITS (check one)
H9: Gallons X
H10: Liters
C11: LI | F11: PRIVATE AND COMMERCIAL
B12: ITEM | C12: NE | D12: GASOLINE | E12: GASOHOL | F12: HWY DIESEL | G12: HWY LPG | H12: TOTAL
C13: # | D13: -1 | E13: -2 | F13: -3 | G13: -4 | H13: -5
A14: 1. Gross | B14: a. Gross Volume Reported | C14: 1 | D14: =D15+D21+D22 -> 9262893 | E14: =E15+E21+E22 -> 109499321 | F14: =F15+F21+F22 -> 45202350 | G14: =G15+G21+G22 -> 591567 | H14: =SUM(D14:G14) -> 164556131
B15: Net After Deduction | D15: 8502847 | E15: 109421480 | F15: 45167450 | G15: 582970
B16: Special Fuel Tax Receipts ($)
B17: Special Fuel Tax Refunds ($)
A18: Volume | B18: b. IFTA | C18: 2 | F18: 10458782
A19: 2. Fully | B19: a. Losses - Flat % | C19: 21 | D19: 201942 | E19: 2587924 | H19: =SUM(D19:G19) -> 2789866
A20: Tax | B20: b. Losses - Actual | C20: 22 | H20: =SUM(D20:G20) -> 0
A21: Exempt | B21: c. Federal | C21: 23 | D21: 61275 | E21: 77841 | F21: 34900 | G21: 8597 | H21: =SUM(D21:G21) -> 182613
B22: d. Aviation | C22: 24 | D22: 698771 | E22: 0 | H22: =SUM(D22:G22) -> 698771
B23: e. Native American | C23: 25 | H23: =SUM(D23:G23) -> 0
B24: f. Assessments | C24: 26 | D24: 15528.292 | H24: =SUM(D24:G24) -> 15528.292
B25: g. | C25: 27 | H25: =SUM(D25:G25) -> 0
B26: h. | C26: 28 | H26: =SUM(D26:G26) -> 0
B27: i. | C27: 29 | H27: =SUM(D27:G27) -> 0
B28: j. Total (sum a. through e - f.) | C28: 30 | D28: =SUM(D19:D23)-D24 -> 946459.71 | E28: =SUM(E19:E23)-E24 -> 2665765 | F28: =SUM(F19:F23)-F24 -> 34900 | G28: =SUM(G19:G23)-G24 -> 8597 | H28: =SUM(H19:H23)-H24 -> 3655721.7
A29: 3. Gross Volume Taxed (1-2j) | C29: 40 | D29: =D14-D28 -> 8316433.3 | E29: =E14-E28 -> 106833556 | F29: =F14+F18-F28 -> 55626232 | G29: =G14-G28 -> 582970 | H29: =H14-H28 -> 1.6090041e+08
A30: 4. Fully | B30: a. Agriculture | C30: 51 | D30: 2213 | E30: 3231 | H30: =SUM(D30:G30) -> 5444
A31: Refunded | B31: b. Aviation | C31: 52 | H31: =SUM(D31:G31) -> 0
B32: c. Industrial/Commercial | C32: 53 | H32: =SUM(D32:G32) -> 0
B33: d. Construction | C33: 54 | H33: =SUM(D33:G33) -> 0
B34: e. Marine | C34: 55 | H34: =SUM(D34:G34) -> 0
B35: f. Municipal and Counties | C35: 56 | H35: =SUM(D35:G35) -> 0
B36: g. Other | C36: 57 | D36: 16495 | E36: 41639 | F36: 422624 | H36: =SUM(D36:G36) -> 480758
B37: h. | C37: 58 | H37: =SUM(D37:G37) -> 0
B38: i. | C38: 59 | H38: =SUM(D38:G38) -> 0
B39: j. | C39: 60 | H39: =SUM(D39:G39) -> 0
B40: k. | C40: 61
B41: l. | C41: 62
B42: m. | C42: 63
B43: n. | C43: 64
B44: o. | C44: 65
B45: p. | C45: 66
B46: q. | C46: 67
B47: r. Total (a. thru s.) | C47: 70 | D47: =SUM(D30:D41) -> 18708 | E47: =SUM(E30:E41) -> 44870 | F47: =SUM(F30:F41) -> 422624 | G47: =SUM(G30:G41) -> 0 | H47: =SUM(H30:H41) -> 486202
A48: 5. Net | B48: a. At Full Rate | C48: 81 | D48: =D29-D47 -> 8297725.3 | E48: =E29-E47 -> 106788686 | F48: =F29-F47 -> 55203608 | G48: =G29-G47 -> 582970 | H48: =SUM(D48:G48) -> 1.7087299e+08
A49: Volume | B49: b. | C49: 82
A50: Taxed | B50: c. | C50: 83
A51: Taxed at | B51: d. | C51: 84
A52: initial lower | B52: e. | C52: 85
A53: rate, partially | B53: f. | C53: 86
A54: exempt or | B54: g. | C54: 87
A55: partially | B55: h. | C55: 88
A56: refunded | B56: i. | C56: 89
B57: j. Total (a thru i, 3-4t) | C57: 90 | D57: =SUM(D48:D56) -> 8297725.3 | E57: =SUM(E48:E56) -> 106788686 | F57: =SUM(F48:F56) -> 55203608 | G57: =SUM(G48:G56) -> 582970 | H57: =SUM(H48:H56) -> 1.7087299e+08
B58: Calendar Year Cumulation | D58: =D57+July24!D58 -> 62421344 | E58: =E57+July24!E58 -> 860684278 | F58: =F57+July24!F58 -> 386655105 | G58: =G57+July24!G58 -> 4227303 | H58: =H57+July24!H58 -> 1.313988e+09
A59: 6. Source | B59: a. Agency Preparing this Report:
B60: Kansas Department of Revenue, Office of Research and Analysis
B61: b. Compiled under Direction of: | G61: c. Date
B62: Mark Burghart, Secretary of Revenue
E63: PREVIOUS EDITIONS OBSOLETE | H63: (Next Page)
E64: 1
H67: =H2 -> STATE
H68: =H3 -> Kansas
D69: NOTES AND TECHNICAL INFORMATION | H69: =H4 -> YEAR
H70: =H5 -> 2024
H71: =H6 -> MONTH OF SALE
H72: =H7 -> August
A73: 1. Rate of tax at end month, in cents-per-gallon/liter. | D73: (If tax is ad valorem, post percentage, and briefly explain application basis below.)
E74: Rate | F74: Effective Date
C75: a. Gasoline | E75: 24¢/gallon | F75: 37803
C76: b. Gasohol | E76: 24¢/gallon | F76: 37803
C77: c. Gasohol E85 | E77: 17¢/gallon | F77: 39083
C78: d. Diesel | E78: 26¢/gallon | F78: 37803
C79: e. LPG | E79: 23¢/gallon | F79: 37803
C80: f. CNG * | E80: 23¢/gallon | F80: 37803
B81: * 120 cubic feet = one gallon
A82: 2. Computation of gross volume reported (page 1, item 1). | F82: Special Fuels
E83: Gasoline and Gasohol | F83: (Diesel and LPG)
B84: Gross sales from wholesaler/retailer returns | E84: =D14+E14 -> 118762214 | F84: =(+F28+F29+G29)-(F85-F86) -> 56244102
B85: Plus: IMC fuel volume used in state | F85: =0/0.26 -> 0
B86: Less: IMC fuel volume purchased tax paid in state
B87: ="= Gross consumption in State (enter on page 1, item 1)" -> = Gross consumption in State (enter on page 1, item 1) | E87: =(E84+E85)-E86 -> 118762214 | F87: =(F84+F85)-F86 -> 56244102
E89: Interstate motor carrier (fuel use tax) fuel volume shown above covers period:
F90: Diesel | G90: LP-Gas | H90: Combined
E91: * page 1, line 1 split | F91: =F14 -> 45202350 | G91: =G14 -> 591567 | H91: =F91+G91 -> 45793917
A92: 3. Stratification of gasohol by blend ratio
B94: The gasohol volume on page 1 column (2) includes: | E94: (show actual/estimated volume or percentage shares)
C96: Percent Alcohol | E96: Volume | F96: Percentage Share
D97: 5.7-7.6%
D98: 7.7-9.9%
D99: 10% or more | F99: 1
A101: 4. Notes and comments
A104: Note that diesel gallons include state, county and municipal government highway use, but does not include use by
A105: school buses.
A106: Line #26 (Assessments) - Assessments, either positive or negative, can be the result of audits, amended returns or
A107: office (KS Dept. of Revenue) assessments or abatements.
A124: Form FHWA-551M (Rev. 11-93) | E124: 2

Sheet Sep24
A1: The public report burden for this information is estimated to average 5.4 hours | H1: Form Approved OMB No. 2125-0032
H2: STATE
A3: U.S. Department of | H3: Kansas
A4: Transportation | H4: YEAR
E5: MONTHLY MOTOR-FUEL CONSUMPTION | H5: 2024
H6: MONTH OF SALE
A7: Federal Highway | H7: September
A8: Administration | H8: UNITS (check one)
H9: Gallons X
H10: Liters
C11: LI | F11: PRIVATE AND COMMERCIAL
B12: ITEM | C12: NE | D12: GASOLINE | E12: GASOHOL | F12: HWY DIESEL | G12: HWY LPG | H12: TOTAL
C13: # | D13: -1 | E13: -2 | F13: -3 | G13: -4 | H13: -5
A14: 1. Gross | B14: a. Gross Volume Reported | C14: 1 | D14: =D15+D21+D22 -> 8527874 | E14: =E15+E21+E22 -> 103535898 | F14: =F15+F21+F22 -> 45808556 | G14: =G15+G21+G22 -> 481131 | H14: =SUM(D14:G14) -> 158353459
B15: Net After Deduction | D15: 7868650 | E15: 103468825 | F15: 45785922 | G15: 479991
B16: Special Fuel Tax Receipts ($)
B17: Special Fuel Tax Refunds ($)
A18: Volume | B18: b. IFTA | C18: 2 | F18: -96922
A19: 2. Fully | B19: a. Losses - Flat % | C19: 21 | D19: 187261 | E19: 2431299 | H19: =SUM(D19:G19) -> 2618560
A20: Tax | B20: b. Losses - Actual | C20: 22 | H20: =SUM(D20:G20) -> 0
A21: Exempt | B21: c. Federal | C21: 23 | D21: 54613 | E21: 67073 | F21: 22634 | G21: 1140 | H21: =SUM(D21:G21) -> 145460
B22: d. Aviation | C22: 24 | D22: 604611 | E22: 0 | H22: =SUM(D22:G22) -> 604611
B23: e. Native American | C23: 25 | H23: =SUM(D23:G23) -> 0
B24: f. Assessments | C24: 26 | D24: 19021.875 | H24: =SUM(D24:G24) -> 19021.875
B25: g. | C25: 27 | H25: =SUM(D25:G25) -> 0
B26: h. | C26: 28 | H26: =SUM(D26:G26) -> 0
B27: i. | C27: 29 | H27: =SUM(D27:G27) -> 0
B28: j. Total (sum a. through e - f.) | C28: 30 | D28: =SUM(D19:D23)-D24 -> 827463.12 | E28: =SUM(E19:E23)-E24 -> 2498372 | F28: =SUM(F19:F23)-F24 -> 22634 | G28: =SUM(G19:G23)-G24 -> 1140 | H28: =SUM(H19:H23)-H24 -> 3349609.1
A29: 3. Gross Volume Taxed (1-2j) | C29: 40 | D29: =D14-D28 -> 7700410.9 | E29: =E14-E28 -> 101037526 | F29: =F14+F18-F28 -> 45689000 | G29: =G14-G28 -> 479991 | H29: =H14-H28 -> 1.5500385e+08
A30: 4. Fully | B30: a. Agriculture | C30: 51 | D30: 7216 | H30: =SUM(D30:G30) -> 7216
A31: Refunded | B31: b. Aviation | C31: 52 | H31: =SUM(D31:G31) -> 0
B32: c. Industrial/Commercial | C32: 53 | H32: =SUM(D32:G32) -> 0
B33: d. Construction | C33: 54 | H33: =SUM(D33:G33) -> 0
B34: e. Marine | C34: 55 | H34: =SUM(D34:G34) -> 0
B35: f. Municipal and Counties | C35: 56 | H35: =SUM(D35:G35) -> 0
B36: g. Other | C36: 57 | D36: 3384 | E36: 68770 | F36: 528168 | H36: =SUM(D36:G36) -> 600322
B37: h. | C37: 58 | H37: =SUM(D37:G37) -> 0
B38: i. | C38: 59 | H38: =SUM(D38:G38) -> 0
B39: j. | C39: 60 | H39: =SUM(D39:G39) -> 0
B40: k. | C40: 61
B41: l. | C41: 62
B42: m. | C42: 63
B43: n. | C43: 64
B44: o. | C44: 65
B45: p. | C45: 66
B46: q. | C46: 67
B47: r. Total (a. thru s.) | C47: 70 | D47: =SUM(D30:D41) -> 10600 | E47: =SUM(E30:E41) -> 68770 | F47: =SUM(F30:F41) -> 528168 | G47: =SUM(G30:G41) -> 0 | H47: =SUM(H30:H41) -> 607538
A48: 5. Net | B48: a. At Full Rate | C48: 81 | D48: =D29-D47 -> 7689810.9 | E48: =E29-E47 -> 100968756 | F48: =F29-F47 -> 45160832 | G48: =G29-G47 -> 479991 | H48: =SUM(D48:G48) -> 1.5429939e+08
A49: Volume | B49: b. | C49: 82
A50: Taxed | B50: c. | C50: 83
A51: Taxed at | B51: d. | C51: 84
A52: initial lower | B52: e. | C52: 85
A53: rate, partially | B53: f. | C53: 86
A54: exempt or | B54: g. | C54: 87
A55: partially | B55: h. | C55: 88
A56: refunded | B56: i. | C56: 89
B57: j. Total (a thru i, 3-4t) | C57: 90 | D57: =SUM(D48:D56) -> 7689810.9 | E57: =SUM(E48:E56) -> 100968756 | F57: =SUM(F48:F56) -> 45160832 | G57: =SUM(G48:G56) -> 479991 | H57: =SUM(H48:H56) -> 1.5429939e+08
B58: Calendar Year Cumulation | D58: =D57+'Aug24'!D58 -> 70111155 | E58: =E57+'Aug24'!E58 -> 961653034 | F58: =F57+'Aug24'!F58 -> 431815937 | G58: =G57+'Aug24'!G58 -> 4707294 | H58: =H57+'Aug24'!H58 -> 1.4682874e+09
A59: 6. Source | B59: a. Agency Preparing this Report:
B60: Kansas Department of Revenue, Office of Research and Analysis
B61: b. Compiled under Direction of: | G61: c. Date
B62: Mark Burghart, Secretary of Revenue
E63: PREVIOUS EDITIONS OBSOLETE | H63: (Next Page)
E64: 1
H67: =H2 -> STATE
H68: =H3 -> Kansas
D69: NOTES AND TECHNICAL INFORMATION | H69: =H4 -> YEAR
H70: =H5 -> 2024
H71: =H6 -> MONTH OF SALE
H72: =H7 -> September
A73: 1. Rate of tax at end month, in cents-per-gallon/liter. | D73: (If tax is ad valorem, post percentage, and briefly explain application basis below.)
E74: Rate | F74: Effective Date
C75: a. Gasoline | E75: 24¢/gallon | F75: 37803
C76: b. Gasohol | E76: 24¢/gallon | F76: 37803
C77: c. Gasohol E85 | E77: 17¢/gallon | F77: 39083
C78: d. Diesel | E78: 26¢/gallon | F78: 37803
C79: e. LPG | E79: 23¢/gallon | F79: 37803
C80: f. CNG * | E80: 23¢/gallon | F80: 37803
B81: * 120 cubic feet = one gallon
A82: 2. Computation of gross volume reported (page 1, item 1). | F82: Special Fuels
E83: Gasoline and Gasohol | F83: (Diesel and LPG)
B84: Gross sales from wholesaler/retailer returns | E84: =D14+E14 -> 112063772 | F84: =(+F28+F29+G29)-(F85-F86) -> 34830925
B85: Plus: IMC fuel volume used in state | F85: =2953782/0.26 -> 11360700
B86: Less: IMC fuel volume purchased tax paid in state
B87: ="= Gross consumption in State (enter on page 1, item 1)" -> = Gross consumption in State (enter on page 1, item 1) | E87: =(E84+E85)-E86 -> 112063772 | F87: =(F84+F85)-F86 -> 46191625
E89: Interstate motor carrier (fuel use tax) fuel volume shown above covers period:
F90: Diesel | G90: LP-Gas | H90: Combined
E91: * page 1, line 1 split | F91: =F14 -> 45808556 | G91: =G14 -> 481131 | H91: =F91+G91 -> 46289687
A92: 3. Stratification of gasohol by blend ratio
B94: The gasohol volume on page 1 column (2) includes: | E94: (show actual/estimated volume or percentage shares)
C96: Percent Alcohol | E96: Volume | F96: Percentage Share
D97: 5.7-7.6%
D98: 7.7-9.9%
D99: 10% or more | F99: 1
A101: 4. Notes and comments
A104: Note that diesel gallons include state, county and municipal government highway use, but does not include use by
A105: school buses.
A106: Line #26 (Assessments) - Assessments, either positive or negative, can be the result of audits, amended returns or
A107: office (KS Dept. of Revenue) assessments or abatements.
A124: Form FHWA-551M (Rev. 11-93) | E124: 2

Sheet Oct24
A1: The public report burden for this information is estimated to average 5.4 hours | H1: Form Approved OMB No. 2125-0032
H2: STATE
A3: U.S. Department of | H3: Kansas
A4: Transportation | H4: YEAR
E5: MONTHLY MOTOR-FUEL CONSUMPTION | H5: 2024
H6: MONTH OF SALE
A7: Federal Highway | H7: October
A8: Administration | H8: UNITS (check one)
H9: Gallons X
H10: Liters
C11: LI | F11: PRIVATE AND COMMERCIAL
B12: ITEM | C12: NE | D12: GASOLINE | E12: GASOHOL | F12: HWY DIESEL | G12: HWY LPG | H12: TOTAL
C13: # | D13: -1 | E13: -2 | F13: -3 | G13: -4 | H13: -5
A14: 1. Gross | B14: a. Gross Volume Reported | C14: 1 | D14: =D15+D21+D22 -> 8726222 | E14: =E15+E21+E22 -> 109712153 | F14: =F15+F21+F22 -> 49949898 | G14: =G15+G21+G22 -> 525277 | H14: =SUM(D14:G14) -> 168913550
B15: Net After Deduction | D15: 8007447 | E15: 109640982 | F15: 49882956 | G15: 524642
B16: Special Fuel Tax Receipts ($)
B17: Special Fuel Tax Refunds ($)
A18: Volume | B18: b. IFTA | C18: 2 | F18: 701548
A19: 2. Fully | B19: a. Losses - Flat % | C19: 21 | D19: 191711 | E19: 2592291 | H19: =SUM(D19:G19) -> 2784002
A20: Tax | B20: b. Losses - Actual | C20: 22 | H20: =SUM(D20:G20) -> 0
A21: Exempt | B21: c. Federal | C21: 23 | D21: 96224 | E21: 71171 | F21: 66942 | G21: 635 | H21: =SUM(D21:G21) -> 234972
B22: d. Aviation | C22: 24 | D22: 622551 | E22: 0 | H22: =SUM(D22:G22) -> 622551
B23: e. Native American | C23: 25 | H23: =SUM(D23:G23) -> 0
B24: f. Assessments | C24: 26 | D24: 17782.792 | H24: =SUM(D24:G24) -> 17782.792
B25: g. | C25: 27 | H25: =SUM(D25:G25) -> 0
B26: h. | C26: 28 | H26: =SUM(D26:G26) -> 0
B27: i. | C27: 29 | H27: =SUM(D27:G27) -> 0
B28: j. Total (sum a. through e - f.) | C28: 30 | D28: =SUM(D19:D23)-D24 -> 892703.21 | E28: =SUM(E19:E23)-E24 -> 2663462 | F28: =SUM(F19:F23)-F24 -> 66942 | G28: =SUM(G19:G23)-G24 -> 635 | H28: =SUM(H19:H23)-H24 -> 3623742.2
A29: 3. Gross Volume Taxed (1-2j) | C29: 40 | D29: =D14-D28 -> 7833518.8 | E29: =E14-E28 -> 107048691 | F29: =F14+F18-F28 -> 50584504 | G29: =G14-G28 -> 524642 | H29: =H14-H28 -> 1.6528981e+08
A30: 4. Fully | B30: a. Agriculture | C30: 51 | D30: 9241 | E30: 7034 | F30: 44186 | H30: =SUM(D30:G30) -> 60461
A31: Refunded | B31: b. Aviation | C31: 52 | H31: =SUM(D31:G31) -> 0
B32: c. Industrial/Commercial | C32: 53 | H32: =SUM(D32:G32) -> 0
B33: d. Construction | C33: 54 | H33: =SUM(D33:G33) -> 0
B34: e. Marine | C34: 55 | H34: =SUM(D34:G34) -> 0
B35: f. Municipal and Counties | C35: 56 | H35: =SUM(D35:G35) -> 0
B36: g. Other | C36: 57 | D36: 17803 | E36: 4699 | F36: 437823 | H36: =SUM(D36:G36) -> 460325
B37: h. | C37: 58 | H37: =SUM(D37:G37) -> 0
B38: i. | C38: 59 | H38: =SUM(D38:G38) -> 0
B39: j. | C39: 60 | H39: =SUM(D39:G39) -> 0
B40: k. | C40: 61
B41: l. | C41: 62
B42: m. | C42: 63
B43: n. | C43: 64
B44: o. | C44: 65
B45: p. | C45: 66
B46: q. | C46: 67
B47: r. Total (a. thru s.) | C47: 70 | D47: =SUM(D30:D41) -> 27044 | E47: =SUM(E30:E41) -> 11733 | F47: =SUM(F30:F41) -> 482009 | G47: =SUM(G30:G41) -> 0 | H47: =SUM(H30:H41) -> 520786
A48: 5. Net | B48: a. At Full Rate | C48: 81 | D48: =D29-D47 -> 7806474.8 | E48: =E29-E47 -> 107036958 | F48: =F29-F47 -> 50102495 | G48: =G29-G47 -> 524642 | H48: =SUM(D48:G48) -> 1.6547057e+08
A49: Volume | B49: b. | C49: 82
A50: Taxed | B50: c. | C50: 83
A51: Taxed at | B51: d. | C51: 84
A52: initial lower | B52: e. | C52: 85
A53: rate, partially | B53: f. | C53: 86
A54: exempt or | B54: g. | C54: 87
A55: partially | B55: h. | C55: 88
A56: refunded | B56: i. | C56: 89
B57: j. Total (a thru i, 3-4t) | C57: 90 | D57: =SUM(D48:D56) -> 7806474.8 | E57: =SUM(E48:E56) -> 107036958 | F57: =SUM(F48:F56) -> 50102495 | G57: =SUM(G48:G56) -> 524642 | H57: =SUM(H48:H56) -> 1.6547057e+08
B58: Calendar Year Cumulation | D58: =D57+'Sep24'!D58 -> 77917630 | E58: =E57+'Sep24'!E58 -> 1068689992 | F58: =F57+'Sep24'!F58 -> 481918432 | G58: =G57+'Sep24'!G58 -> 5231936 | H58: =H57+'Sep24'!H58 -> 1.633758e+09
A59: 6. Source | B59: a. Agency Preparing this Report:
B60: Kansas Department of Revenue, Office of Research and Analysis
B61: b. Compiled under Direction of: | G61: c. Date
B62: Mark Burghart, Secretary of Revenue
E63: PREVIOUS EDITIONS OBSOLETE | H63: (Next Page)
E64: 1
H67: =H2 -> STATE
H68: =H3 -> Kansas
D69: NOTES AND TECHNICAL INFORMATION | H69: =H4 -> YEAR
H70: =H5 -> 2024
H71: =H6 -> MONTH OF SALE
H72: =H7 -> October
A73: 1. Rate of tax at end month, in cents-per-gallon/liter. | D73: (If tax is ad valorem, post percentage, and briefly explain application basis below.)
E74: Rate | F74: Effective Date
C75: a. Gasoline | E75: 24¢/gallon | F75: 37803
C76: b. Gasohol | E76: 24¢/gallon | F76: 37803
C77: c. Gasohol E85 | E77: 17¢/gallon | F77: 39083
C78: d. Diesel | E78: 26¢/gallon | F78: 37803
C79: e. LPG | E79: 23¢/gallon | F79: 37803
C80: f. CNG * | E80: 23¢/gallon | F80: 37803
B81: * 120 cubic feet = one gallon
A82: 2. Computation of gross volume reported (page 1, item 1). | F82: Special Fuels
E83: Gasoline and Gasohol | F83: (Diesel and LPG)
B84: Gross sales from wholesaler/retailer returns | E84: =D14+E14 -> 118438375 | F84: =(+F28+F29+G29)-(F85-F86) -> 42914992
B85: Plus: IMC fuel volume used in state | F85: =2147885/0.26 -> 8261096.2
B86: Less: IMC fuel volume purchased tax paid in state
B87: ="= Gross consumption in State (enter on page 1, item 1)" -> = Gross consumption in State (enter on page 1, item 1) | E87: =(E84+E85)-E86 -> 118438375 | F87: =(F84+F85)-F86 -> 51176088
E89: Interstate motor carrier (fuel use tax) fuel volume shown above covers period:
F90: Diesel | G90: LP-Gas | H90: Combined
E91: * page 1, line 1 split | F91: =F14 -> 49949898 | G91: =G14 -> 525277 | H91: =F91+G91 -> 50475175
A92: 3. Stratification of gasohol by blend ratio
B94: The gasohol volume on page 1 column (2) includes: | E94: (show actual/estimated volume or percentage shares)
C96: Percent Alcohol | E96: Volume | F96: Percentage Share
D97: 5.7-7.6%
D98: 7.7-9.9%
D99: 10% or more | F99: 1
A101: 4. Notes and comments
A104: Note that diesel gallons include state, county and municipal government highway use, but does not include use by
A105: school buses.
A106: Line #26 (Assessments) - Assessments, either positive or negative, can be the result of audits, amended returns or
A107: office (KS Dept. of Revenue) assessments or abatements.
A124: Form FHWA-551M (Rev. 11-93) | E124: 2

Sheet Nov24
A1: The public report burden for this information is estimated to average 5.4 hours | H1: Form Approved OMB No. 2125-0032
H2: STATE
A3: U.S. Department of | H3: Kansas
A4: Transportation | H4: YEAR
E5: MONTHLY MOTOR-FUEL CONSUMPTION | H5: 2024
H6: MONTH OF SALE
A7: Federal Highway | H7: November
A8: Administration | H8: UNITS (check one)
H9: Gallons X
H10: Liters
C11: LI | F11: PRIVATE AND COMMERCIAL
B12: ITEM | C12: NE | D12: GASOLINE | E12: GASOHOL | F12: HWY DIESEL | G12: HWY LPG | H12: TOTAL
C13: # | D13: -1 | E13: -2 | F13: -3 | G13: -4 | H13: -5
A14: 1. Gross | B14: a. Gross Volume Reported | C14: 1 | D14: =D15+D21+D22 -> 7467180 | E14: =E15+E21+E22 -> 101765429 | F14: =F15+F21+F22 -> 42983746 | G14: =G15+G21+G22 -> 510189 | H14: =SUM(D14:G14) -> 152726544
B15: Net After Deduction | D15: 6995861 | E15: 101702099 | F15: 42972519 | G15: 509371
B16: Special Fuel Tax Receipts ($)
B17: Special Fuel Tax Refunds ($)
A18: Volume | B18: b. IFTA | C18: 2 | F18: 8302812
A19: 2. Fully | B19: a. Losses - Flat % | C19: 21 | D19: 167277 | E19: 2410322 | H19: =SUM(D19:G19) -> 2577599
A20: Tax | B20: b. Losses - Actual | C20: 22 | H20: =SUM(D20:G20) -> 0
A21: Exempt | B21: c. Federal | C21: 23 | D21: 43610 | E21: 63330 | F21: 11227 | G21: 818 | H21: =SUM(D21:G21) -> 118985
B22: d. Aviation | C22: 24 | D22: 427709 | H22: =SUM(D22:G22) -> 427709
B23: e. Native American | C23: 25 | H23: =SUM(D23:G23) -> 0
B24: f. Assessments | C24: 26 | D24: -303301.71 | H24: =SUM(D24:G24) -> -303301.71
B25: g. | C25: 27 | H25: =SUM(D25:G25) -> 0
B26: h. | C26: 28 | H26: =SUM(D26:G26) -> 0
B27: i. | C27: 29 | H27: =SUM(D27:G27) -> 0
B28: j. Total (sum a. through e - f.) | C28: 30 | D28: =SUM(D19:D23)-D24 -> 941897.71 | E28: =SUM(E19:E23)-E24 -> 2473652 | F28: =SUM(F19:F23)-F24 -> 11227 | G28: =SUM(G19:G23)-G24 -> 818 | H28: =SUM(H19:H23)-H24 -> 3427594.7
A29: 3. Gross Volume Taxed (1-2j) | C29: 40 | D29: =D14-D28 -> 6525282.3 | E29: =E14-E28 -> 99291777 | F29: =F14+F18-F28 -> 51275331 | G29: =G14-G28 -> 509371 | H29: =H14-H28 -> 1.4929895e+08
A30: 4. Fully | B30: a. Agriculture | C30: 51 | D30: 7788 | H30: =SUM(D30:G30) -> 7788
A31: Refunded | B31: b. Aviation | C31: 52 | H31: =SUM(D31:G31) -> 0
B32: c. Industrial/Commercial | C32: 53 | H32: =SUM(D32:G32) -> 0
B33: d. Construction | C33: 54 | H33: =SUM(D33:G33) -> 0
B34: e. Marine | C34: 55 | H34: =SUM(D34:G34) -> 0
B35: f. Municipal and Counties | C35: 56 | H35: =SUM(D35:G35) -> 0
B36: g. Other | C36: 57 | D36: 12791 | E36: 11497 | F36: 860433 | H36: =SUM(D36:G36) -> 884721
B37: h. | C37: 58 | H37: =SUM(D37:G37) -> 0
B38: i. | C38: 59 | H38: =SUM(D38:G38) -> 0
B39: j. | C39: 60 | H39: =SUM(D39:G39) -> 0
B40: k. | C40: 61
B41: l. | C41: 62
B42: m. | C42: 63
B43: n. | C43: 64
B44: o. | C44: 65
B45: p. | C45: 66
B46: q. | C46: 67
B47: r. Total (a. thru s.) | C47: 70 | D47: =SUM(D30:D41) -> 20579 | E47: =SUM(E30:E41) -> 11497 | F47: =SUM(F30:F41) -> 860433 | G47: =SUM(G30:G41) -> 0 | H47: =SUM(H30:H41) -> 892509
A48: 5. Net | B48: a. At Full Rate | C48: 81 | D48: =D29-D47 -> 6504703.3 | E48: =E29-E47 -> 99280280 | F48: =F29-F47 -> 50414898 | G48: =G29-G47 -> 509371 | H48: =SUM(D48:G48) -> 1.5670925e+08
A49: Volume | B49: b. | C49: 82
A50: Taxed | B50: c. | C50: 83
A51: Taxed at | B51: d. | C51: 84
A52: initial lower | B52: e. | C52: 85
A53: rate, partially | B53: f. | C53: 86
A54: exempt or | B54: g. | C54: 87
A55: partially | B55: h. | C55: 88
A56: refunded | B56: i. | C56: 89
B57: j. Total (a thru i, 3-4t) | C57: 90 | D57: =SUM(D48:D56) -> 6504703.3 | E57: =SUM(E48:E56) -> 99280280 | F57: =SUM(F48:F56) -> 50414898 | G57: =SUM(G48:G56) -> 509371 | H57: =SUM(H48:H56) -> 1.5670925e+08
B58: Calendar Year Cumulation | D58: =D57+'Oct24'!D58 -> 84422333 | E58: =E57+'Oct24'!E58 -> 1167970272 | F58: =F57+'Oct24'!F58 -> 532333330 | G58: =G57+'Oct24'!G58 -> 5741307 | H58: =H57+'Oct24'!H58 -> 1.7904672e+09
A59: 6. Source | B59: a. Agency Preparing this Report:
B60: Kansas Department of Revenue, Office of Research and Analysis
B61: b. Compiled under Direction of: | G61: c. Date
B62: Mark Burghart, Secretary of Revenue
E63: PREVIOUS EDITIONS OBSOLETE | H63: (Next Page)
E64: 1
H67: =H2 -> STATE
H68: =H3 -> Kansas
D69: NOTES AND TECHNICAL INFORMATION | H69: =H4 -> YEAR
H70: =H5 -> 2024
H71: =H6 -> MONTH OF SALE
H72: =H7 -> November
A73: 1. Rate of tax at end month, in cents-per-gallon/liter. | D73: (If tax is ad valorem, post percentage, and briefly explain application basis below.)
E74: Rate | F74: Effective Date
C75: a. Gasoline | E75: 24¢/gallon | F75: 37803
C76: b. Gasohol | E76: 24¢/gallon | F76: 37803
C77: c. Gasohol E85 | E77: 17¢/gallon | F77: 39083
C78: d. Diesel | E78: 26¢/gallon | F78: 37803
C79: e. LPG | E79: 23¢/gallon | F79: 37803
C80: f. CNG * | E80: 23¢/gallon | F80: 37803
B81: * 120 cubic feet = one gallon
A82: 2. Computation of gross volume reported (page 1, item 1). | F82: Special Fuels
E83: Gasoline and Gasohol | F83: (Diesel and LPG)
B84: Gross sales from wholesaler/retailer returns | E84: =D14+E14 -> 109232609 | F84: =(+F28+F29+G29)-(F85-F86) -> 43534833
B85: Plus: IMC fuel volume used in state | F85: =2147885/0.26 -> 8261096.2
B86: Less: IMC fuel volume purchased tax paid in state
B87: ="= Gross consumption in State (enter on page 1, item 1)" -> = Gross consumption in State (enter on page 1, item 1) | E87: =(E84+E85)-E86 -> 109232609 | F87: =(F84+F85)-F86 -> 51795929
E89: Interstate motor carrier (fuel use tax) fuel volume shown above covers period:
F90: Diesel | G90: LP-Gas | H90: Combined
E91: * page 1, line 1 split | F91: =F14 -> 42983746 | G91: =G14 -> 510189 | H91: =F91+G91 -> 43493935
A92: 3. Stratification of gasohol by blend ratio
B94: The gasohol volume on page 1 column (2) includes: | E94: (show actual/estimated volume or percentage shares)
C96: Percent Alcohol | E96: Volume | F96: Percentage Share
D97: 5.7-7.6%
D98: 7.7-9.9%
D99: 10% or more | F99: 1
A101: 4. Notes and comments
A104: Note that diesel gallons include state, county and municipal government highway use, but does not include use by
A105: school buses.
A106: Line #26 (Assessments) - Assessments, either positive or negative, can be the result of audits, amended returns or
A107: office (KS Dept. of Revenue) assessments or abatements.
A124: Form FHWA-551M (Rev. 11-93) | E124: 2

Sheet Dec24
A1: The public report burden for this information is estimated to average 5.4 hours | H1: Form Approved OMB No. 2125-0032
H2: STATE
A3: U.S. Department of | H3: Kansas
A4: Transportation | H4: YEAR
E5: MONTHLY MOTOR-FUEL CONSUMPTION | H5: 2024
H6: MONTH OF SALE
A7: Federal Highway | H7: December
A8: Administration | H8: UNITS (check one)
H9: Gallons X
H10: Liters
C11: LI | F11: PRIVATE AND COMMERCIAL
B12: ITEM | C12: NE | D12: GASOLINE | E12: GASOHOL | F12: HWY DIESEL | G12: HWY LPG | H12: TOTAL
C13: # | D13: -1 | E13: -2 | F13: -3 | G13: -4 | H13: -5
A14: 1. Gross | B14: a. Gross Volume Reported | C14: 1 | D14: =D15+D21+D22 -> 8046155 | E14: =E15+E21+E22 -> 106998409 | F14: =F15+F21+F22 -> 43630712 | G14: =G15+G21+G22 -> 561497 | H14: =SUM(D14:G14) -> 159236773
B15: Net After Deduction | D15: 7518567 | E15: 106923926 | F15: 43570521 | G15: 555867
B16: Special Fuel Tax Receipts ($)
B17: Special Fuel Tax Refunds ($)
A18: Volume | B18: b. IFTA | C18: 2 | F18: 1365600
A19: 2. Fully | B19: a. Losses - Flat % | C19: 21 | D19: 179067 | E19: 2524729 | H19: =SUM(D19:G19) -> 2703796
A20: Tax | B20: b. Losses - Actual | C20: 22 | H20: =SUM(D20:G20) -> 0
A21: Exempt | B21: c. Federal | C21: 23 | D21: 69298 | E21: 74483 | F21: 60191 | G21: 5630 | H21: =SUM(D21:G21) -> 209602
B22: d. Aviation | C22: 24 | D22: 458290 | E22: 0 | H22: =SUM(D22:G22) -> 458290
B23: e. Native American | C23: 25 | H23: =SUM(D23:G23) -> 0
B24: f. Assessments | C24: 26 | D24: 27322.375 | H24: =SUM(D24:G24) -> 27322.375
B25: g. | C25: 27 | H25: =SUM(D25:G25) -> 0
B26: h. | C26: 28 | H26: =SUM(D26:G26) -> 0
B27: i. | C27: 29 | H27: =SUM(D27:G27) -> 0
B28: j. Total (sum a. through e - f.) | C28: 30 | D28: =SUM(D19:D23)-D24 -> 679332.62 | E28: =SUM(E19:E23)-E24 -> 2599212 | F28: =SUM(F19:F23)-F24 -> 60191 | G28: =SUM(G19:G23)-G24 -> 5630 | H28: =SUM(H19:H23)-H24 -> 3344365.6
A29: 3. Gross Volume Taxed (1-2j) | C29: 40 | D29: =D14-D28 -> 7366822.4 | E29: =E14-E28 -> 104399197 | F29: =F14+F18-F28 -> 44936121 | G29: =G14-G28 -> 555867 | H29: =H14-H28 -> 1.5589241e+08
A30: 4. Fully | B30: a. Agriculture | C30: 51 | D30: 5619 | E30: 5125 | H30: =SUM(D30:G30) -> 10744
A31: Refunded | B31: b. Aviation | C31: 52 | H31: =SUM(D31:G31) -> 0
B32: c. Industrial/Commercial | C32: 53 | H32: =SUM(D32:G32) -> 0
B33: d. Construction | C33: 54 | H33: =SUM(D33:G33) -> 0
B34: e. Marine | C34: 55 | H34: =SUM(D34:G34) -> 0
B35: f. Municipal and Counties | C35: 56 | H35: =SUM(D35:G35) -> 0
B36: g. Other | C36: 57 | D36: 2723 | E36: 625239 | F36: 149469 | H36: =SUM(D36:G36) -> 777431
B37: h. | C37: 58 | H37: =SUM(D37:G37) -> 0
B38: i. | C38: 59 | H38: =SUM(D38:G38) -> 0
B39: j. | C39: 60 | H39: =SUM(D39:G39) -> 0
B40: k. | C40: 61
B41: l. | C41: 62
B42: m. | C42: 63
B43: n. | C43: 64
B44: o. | C44: 65
B45: p. | C45: 66
B46: q. | C46: 67
B47: r. Total (a. thru s.) | C47: 70 | D47: =SUM(D30:D41) -> 8342 | E47: =SUM(E30:E41) -> 630364 | F47: =SUM(F30:F41) -> 149469 | G47: =SUM(G30:G41) -> 0 | H47: =SUM(H30:H41) -> 788175
A48: 5. Net | B48: a. At Full Rate | C48: 81 | D48: =D29-D47 -> 7358480.4 | E48: =E29-E47 -> 103768833 | F48: =F29-F47 -> 44786652 | G48: =G29-G47 -> 555867 | H48: =SUM(D48:G48) -> 1.5646983e+08
A49: Volume | B49: b. | C49: 82
A50: Taxed | B50: c. | C50: 83
A51: Taxed at | B51: d. | C51: 84
A52: initial lower | B52: e. | C52: 85
A53: rate, partially | B53: f. | C53: 86
A54: exempt or | B54: g. | C54: 87
A55: partially | B55: h. | C55: 88
A56: refunded | B56: i. | C56: 89
B57: j. Total (a thru i, 3-4t) | C57: 90 | D57: =SUM(D48:D56) -> 7358480.4 | E57: =SUM(E48:E56) -> 103768833 | F57: =SUM(F48:F56) -> 44786652 | G57: =SUM(G48:G56) -> 555867 | H57: =SUM(H48:H56) -> 1.5646983e+08
B58: Calendar Year Cumulation | D58: =D57+'Nov24'!D58 -> 91780813 | E58: =E57+'Nov24'!E58 -> 1271739105 | F58: =F57+'Nov24'!F58 -> 577119982 | G58: =G57+'Nov24'!G58 -> 6297174 | H58: =H57+'Nov24'!H58 -> 1.9469371e+09
A59: 6. Source | B59: a. Agency Preparing this Report:
B60: Kansas Department of Revenue, Office of Research and Analysis
B61: b. Compiled under Direction of: | G61: c. Date
B62: Mark Burghart, Secretary of Revenue
E63: PREVIOUS EDITIONS OBSOLETE | H63: (Next Page)
E64: 1
H67: =H2 -> STATE
H68: =H3 -> Kansas
D69: NOTES AND TECHNICAL INFORMATION | H69: =H4 -> YEAR
H70: =H5 -> 2024
H71: =H6 -> MONTH OF SALE
H72: =H7 -> December
A73: 1. Rate of tax at end month, in cents-per-gallon/liter. | D73: (If tax is ad valorem, post percentage, and briefly explain application basis below.)
E74: Rate | F74: Effective Date
C75: a. Gasoline | E75: 24¢/gallon | F75: 37803
C76: b. Gasohol | E76: 24¢/gallon | F76: 37803
C77: c. Gasohol E85 | E77: 17¢/gallon | F77: 39083
C78: d. Diesel | E78: 26¢/gallon | F78: 37803
C79: e. LPG | E79: 23¢/gallon | F79: 37803
C80: f. CNG * | E80: 23¢/gallon | F80: 37803
B81: * 120 cubic feet = one gallon
A82: 2. Computation of gross volume reported (page 1, item 1). | F82: Special Fuels
E83: Gasoline and Gasohol | F83: (Diesel and LPG)
B84: Gross sales from wholesaler/retailer returns | E84: =D14+E14 -> 115044564 | F84: =(+F28+F29+G29)-(F85-F86) -> 37809652
B85: Plus: IMC fuel volume used in state | F85: =2013057/0.26 -> 7742526.9
B86: Less: IMC fuel volume purchased tax paid in state
B87: ="= Gross consumption in State (enter on page 1, item 1)" -> = Gross consumption in State (enter on page 1, item 1) | E87: =(E84+E85)-E86 -> 115044564 | F87: =(F84+F85)-F86 -> 45552179
E89: Interstate motor carrier (fuel use tax) fuel volume shown above covers period:
F90: Diesel | G90: LP-Gas | H90: Combined
E91: * page 1, line 1 split | F91: =F14 -> 43630712 | G91: =G14 -> 561497 | H91: =F91+G91 -> 44192209
A92: 3. Stratification of gasohol by blend ratio
B94: The gasohol volume on page 1 column (2) includes: | E94: (show actual/estimated volume or percentage shares)
C96: Percent Alcohol | E96: Volume | F96: Percentage Share
D97: 5.7-7.6%
D98: 7.7-9.9%
D99: 10% or more | F99: 1
A101: 4. Notes and comments
A104: Note that diesel gallons include state, county and municipal government highway use, but does not include use by
A105: school buses.
A106: Line #26 (Assessments) - Assessments, either positive or negative, can be the result of audits, amended returns or
A107: office (KS Dept. of Revenue) assessments or abatements.
A124: Form FHWA-551M (Rev. 11-93) | E124: 2

Sheet 551m2024
A1: The public report burden for this information is estimated to average 5.4 hours | H1: Form Approved OMB No. 2125-0032
H2: STATE
A3: U.S. Department of | H3: Kansas
A4: Transportation | H4: YEAR
E5: MONTHLY MOTOR-FUEL CONSUMPTION | H5: 2024
H6: MONTH OF SALE
A7: Federal Highway | H7: December
A8: Administration | H8: UNITS (check one)
H9: Gallons X
H10: Liters
C11: LI | F11: PRIVATE AND COMMERCIAL
B12: ITEM | C12: NE | D12: GASOLINE | E12: GASOHOL | F12: HWY DIESEL | G12: HWY LPG | H12: TOTAL
C13: # | D13: -1 | E13: -2 | F13: -3 | G13: -4 | H13: -5
A14: 1. Gross | B14: a. Gross Volume Reported | C14: 1 | D14: ='Jan24'!D14+'Feb24'!D14+'Mar24'!D14+'Apr24'!D14+'May24'!D14+June24!D14+July24!D14+'Aug24'!D14+'Sep24'!D14+'Oct24'!D14+'Nov24'!D14+'Dec24'!D14 -> 101348488 | E14: ='Jan24'!E14+'Feb24'!E14+'Mar24'!E14+'Apr24'!E14+'May24'!E14+June24!E14+July24!E14+'Aug24'!E14+'Sep24'!E14+'Oct24'!E14+'Nov24'!E14+'Dec24'!E14 -> 1304716787 | F14: ='Jan24'!F14+'Feb24'!F14+'Mar24'!F14+'Apr24'!F14+'May24'!F14+June24!F14+July24!F14+'Aug24'!F14+'Sep24'!F14+'Oct24'!F14+'Nov24'!F14+'Dec24'!F14 -> 542604501 | G14: ='Jan24'!G14+'Feb24'!G14+'Mar24'!G14+'Apr24'!G14+'May24'!G14+June24!G14+July24!G14+'Aug24'!G14+'Sep24'!G14+'Oct24'!G14+'Nov24'!G14+'Dec24'!G14 -> 6348231 | H14: ='Jan24'!H14+'Feb24'!H14+'Mar24'!H14+'Apr24'!H14+'May24'!H14+June24!H14+July24!H14+'Aug24'!H14+'Sep24'!H14+'Oct24'!H14+'Nov24'!H14+'Dec24'!H14 -> 1963364808
B15: Net After Deduction | D15: ='Jan24'!D15+'Feb24'!D15+'Mar24'!D15+'Apr24'!D15+'May24'!D15+June24!D15+July24!D15+'Aug24'!D15+'Sep24'!D15+'Oct24'!D15+'Nov24'!D15+'Dec24'!D15 -> 94210272 | E15: ='Jan24'!E15+'Feb24'!E15+'Mar24'!E15+'Apr24'!E15+'May24'!E15+June24!E15+July24!E15+'Aug24'!E15+'Sep24'!E15+'Oct24'!E15+'Nov24'!E15+'Dec24'!E15 -> 1303720691 | F15: ='Jan24'!F15+'Feb24'!F15+'Mar24'!F15+'Apr24'!F15+'May24'!F15+June24!F15+July24!F15+'Aug24'!F15+'Sep24'!F15+'Oct24'!F15+'Nov24'!F15+'Dec24'!F15 -> 542070042 | G15: ='Jan24'!G15+'Feb24'!G15+'Mar24'!G15+'Apr24'!G15+'May24'!G15+June24!G15+July24!G15+'Aug24'!G15+'Sep24'!G15+'Oct24'!G15+'Nov24'!G15+'Dec24'!G15 -> 6297174 | H15: ='Jan24'!H15+'Feb24'!H15+'Mar24'!H15+'Apr24'!H15+'May24'!H15+June24!H15+July24!H15+'Aug24'!H15+'Sep24'!H15+'Oct24'!H15+'Nov24'!H15+'Dec24'!H15 -> 0
B16: Special Fuel Tax Receipts ($) | D16: ='Jan24'!D16+'Feb24'!D16+'Mar24'!D16+'Apr24'!D16+'May24'!D16+June24!D16+July24!D16+'Aug24'!D16+'Sep24'!D16+'Oct24'!D16+'Nov24'!D16+'Dec24'!D16 -> 0 | E16: ='Jan24'!E16+'Feb24'!E16+'Mar24'!E16+'Apr24'!E16+'May24'!E16+June24!E16+July24!E16+'Aug24'!E16+'Sep24'!E16+'Oct24'!E16+'Nov24'!E16+'Dec24'!E16 -> 0 | F16: ='Jan24'!F16+'Feb24'!F16+'Mar24'!F16+'Apr24'!F16+'May24'!F16+June24!F16+July24!F16+'Aug24'!F16+'Sep24'!F16+'Oct24'!F16+'Nov24'!F16+'Dec24'!F16 -> 0 | G16: ='Jan24'!G16+'Feb24'!G16+'Mar24'!G16+'Apr24'!G16+'May24'!G16+June24!G16+July24!G16+'Aug24'!G16+'Sep24'!G16+'Oct24'!G16+'Nov24'!G16+'Dec24'!G16 -> 0 | H16: ='Jan24'!H16+'Feb24'!H16+'Mar24'!H16+'Apr24'!H16+'May24'!H16+June24!H16+July24!H16+'Aug24'!H16+'Sep24'!H16+'Oct24'!H16+'Nov24'!H16+'Dec24'!H16 -> 0
B17: Special Fuel Tax Refunds ($) | D17: ='Jan24'!D17+'Feb24'!D17+'Mar24'!D17+'Apr24'!D17+'May24'!D17+June24!D17+July24!D17+'Aug24'!D17+'Sep24'!D17+'Oct24'!D17+'Nov24'!D17+'Dec24'!D17 -> 0 | E17: ='Jan24'!E17+'Feb24'!E17+'Mar24'!E17+'Apr24'!E17+'May24'!E17+June24!E17+July24!E17+'Aug24'!E17+'Sep24'!E17+'Oct24'!E17+'Nov24'!E17+'Dec24'!E17 -> 0 | F17: ='Jan24'!F17+'Feb24'!F17+'Mar24'!F17+'Apr24'!F17+'May24'!F17+June24!F17+July24!F17+'Aug24'!F17+'Sep24'!F17+'Oct24'!F17+'Nov24'!F17+'Dec24'!F17 -> 0 | G17: ='Jan24'!G17+'Feb24'!G17+'Mar24'!G17+'Apr24'!G17+'May24'!G17+June24!G17+July24!G17+'Aug24'!G17+'Sep24'!G17+'Oct24'!G17+'Nov24'!G17+'Dec24'!G17 -> 0 | H17: ='Jan24'!H17+'Feb24'!H17+'Mar24'!H17+'Apr24'!H17+'May24'!H17+June24!H17+July24!H17+'Aug24'!H17+'Sep24'!H17+'Oct24'!H17+'Nov24'!H17+'Dec24'!H17 -> 0
A18: Volume | B18: b. IFTA | C18: 2 | D18: ='Jan24'!D18+'Feb24'!D18+'Mar24'!D18+'Apr24'!D18+'May24'!D18+June24!D18+July24!D18+'Aug24'!D18+'Sep24'!D18+'Oct24'!D18+'Nov24'!D18+'Dec24'!D18 -> 0 | E18: ='Jan24'!E18+'Feb24'!E18+'Mar24'!E18+'Apr24'!E18+'May24'!E18+June24!E18+July24!E18+'Aug24'!E18+'Sep24'!E18+'Oct24'!E18+'Nov24'!E18+'Dec24'!E18 -> 0 | F18: ='Jan24'!F18+'Feb24'!F18+'Mar24'!F18+'Apr24'!F18+'May24'!F18+June24!F18+July24!F18+'Aug24'!F18+'Sep24'!F18+'Oct24'!F18+'Nov24'!F18+'Dec24'!F18 -> 40552146 | G18: ='Jan24'!G18+'Feb24'!G18+'Mar24'!G18+'Apr24'!G18+'May24'!G18+June24!G18+July24!G18+'Aug24'!G18+'Sep24'!G18+'Oct24'!G18+'Nov24'!G18+'Dec24'!G18 -> 0 | H18: ='Jan24'!H18+'Feb24'!H18+'Mar24'!H18+'Apr24'!H18+'May24'!H18+June24!H18+July24!H18+'Aug24'!H18+'Sep24'!H18+'Oct24'!H18+'Nov24'!H18+'Dec24'!H18 -> 0
A19: 2. Fully | B19: a. Losses - Flat % | C19: 21 | D19: ='Jan24'!D19+'Feb24'!D19+'Mar24'!D19+'Apr24'!D19+'May24'!D19+June24!D19+July24!D19+'Aug24'!D19+'Sep24'!D19+'Oct24'!D19+'Nov24'!D19+'Dec24'!D19 -> 2247572 | E19: ='Jan24'!E19+'Feb24'!E19+'Mar24'!E19+'Apr24'!E19+'May24'!E19+June24!E19+July24!E19+'Aug24'!E19+'Sep24'!E19+'Oct24'!E19+'Nov24'!E19+'Dec24'!E19 -> 30908100 | F19: ='Jan24'!F19+'Feb24'!F19+'Mar24'!F19+'Apr24'!F19+'May24'!F19+June24!F19+July24!F19+'Aug24'!F19+'Sep24'!F19+'Oct24'!F19+'Nov24'!F19+'Dec24'!F19 -> 0 | G19: ='Jan24'!G19+'Feb24'!G19+'Mar24'!G19+'Apr24'!G19+'May24'!G19+June24!G19+July24!G19+'Aug24'!G19+'Sep24'!G19+'Oct24'!G19+'Nov24'!G19+'Dec24'!G19 -> 0 | H19: ='Jan24'!H19+'Feb24'!H19+'Mar24'!H19+'Apr24'!H19+'May24'!H19+June24!H19+July24!H19+'Aug24'!H19+'Sep24'!H19+'Oct24'!H19+'Nov24'!H19+'Dec24'!H19 -> 33155672
A20: Tax | B20: b. Losses - Actual | C20: 22 | D20: ='Jan24'!D20+'Feb24'!D20+'Mar24'!D20+'Apr24'!D20+'May24'!D20+June24!D20+July24!D20+'Aug24'!D20+'Sep24'!D20+'Oct24'!D20+'Nov24'!D20+'Dec24'!D20 -> 0 | E20: ='Jan24'!E20+'Feb24'!E20+'Mar24'!E20+'Apr24'!E20+'May24'!E20+June24!E20+July24!E20+'Aug24'!E20+'Sep24'!E20+'Oct24'!E20+'Nov24'!E20+'Dec24'!E20 -> 0 | F20: ='Jan24'!F20+'Feb24'!F20+'Mar24'!F20+'Apr24'!F20+'May24'!F20+June24!F20+July24!F20+'Aug24'!F20+'Sep24'!F20+'Oct24'!F20+'Nov24'!F20+'Dec24'!F20 -> 0 | G20: ='Jan24'!G20+'Feb24'!G20+'Mar24'!G20+'Apr24'!G20+'May24'!G20+June24!G20+July24!G20+'Aug24'!G20+'Sep24'!G20+'Oct24'!G20+'Nov24'!G20+'Dec24'!G20 -> 0 | H20: ='Jan24'!H20+'Feb24'!H20+'Mar24'!H20+'Apr24'!H20+'May24'!H20+June24!H20+July24!H20+'Aug24'!H20+'Sep24'!H20+'Oct24'!H20+'Nov24'!H20+'Dec24'!H20 -> 0
A21: Exempt | B21: c. Federal | C21: 23 | D21: ='Jan24'!D21+'Feb24'!D21+'Mar24'!D21+'Apr24'!D21+'May24'!D21+June24!D21+July24!D21+'Aug24'!D21+'Sep24'!D21+'Oct24'!D21+'Nov24'!D21+'Dec24'!D21 -> 825042 | E21: ='Jan24'!E21+'Feb24'!E21+'Mar24'!E21+'Apr24'!E21+'May24'!E21+June24!E21+July24!E21+'Aug24'!E21+'Sep24'!E21+'Oct24'!E21+'Nov24'!E21+'Dec24'!E21 -> 994720 | F21: ='Jan24'!F21+'Feb24'!F21+'Mar24'!F21+'Apr24'!F21+'May24'!F21+June24!F21+July24!F21+'Aug24'!F21+'Sep24'!F21+'Oct24'!F21+'Nov24'!F21+'Dec24'!F21 -> 534459 | G21: ='Jan24'!G21+'Feb24'!G21+'Mar24'!G21+'Apr24'!G21+'May24'!G21+June24!G21+July24!G21+'Aug24'!G21+'Sep24'!G21+'Oct24'!G21+'Nov24'!G21+'Dec24'!G21 -> 51057 | H21: ='Jan24'!H21+'Feb24'!H21+'Mar24'!H21+'Apr24'!H21+'May24'!H21+June24!H21+July24!H21+'Aug24'!H21+'Sep24'!H21+'Oct24'!H21+'Nov24'!H21+'Dec24'!H21 -> 2405278
B22: d. Aviation | C22: 24 | D22: ='Jan24'!D22+'Feb24'!D22+'Mar24'!D22+'Apr24'!D22+'May24'!D22+June24!D22+July24!D22+'Aug24'!D22+'Sep24'!D22+'Oct24'!D22+'Nov24'!D22+'Dec24'!D22 -> 6313174 | E22: ='Jan24'!E22+'Feb24'!E22+'Mar24'!E22+'Apr24'!E22+'May24'!E22+June24!E22+July24!E22+'Aug24'!E22+'Sep24'!E22+'Oct24'!E22+'Nov24'!E22+'Dec24'!E22 -> 1376 | F22: ='Jan24'!F22+'Feb24'!F22+'Mar24'!F22+'Apr24'!F22+'May24'!F22+June24!F22+July24!F22+'Aug24'!F22+'Sep24'!F22+'Oct24'!F22+'Nov24'!F22+'Dec24'!F22 -> 0 | G22: ='Jan24'!G22+'Feb24'!G22+'Mar24'!G22+'Apr24'!G22+'May24'!G22+June24!G22+July24!G22+'Aug24'!G22+'Sep24'!G22+'Oct24'!G22+'Nov24'!G22+'Dec24'!G22 -> 0 | H22: ='Jan24'!H22+'Feb24'!H22+'Mar24'!H22+'Apr24'!H22+'May24'!H22+June24!H22+July24!H22+'Aug24'!H22+'Sep24'!H22+'Oct24'!H22+'Nov24'!H22+'Dec24'!H22 -> 6314550
B23: e. Native American | C23: 25 | D23: ='Jan24'!D23+'Feb24'!D23+'Mar24'!D23+'Apr24'!D23+'May24'!D23+June24!D23+July24!D23+'Aug24'!D23+'Sep24'!D23+'Oct24'!D23+'Nov24'!D23+'Dec24'!D23 -> 0 | E23: ='Jan24'!E23+'Feb24'!E23+'Mar24'!E23+'Apr24'!E23+'May24'!E23+June24!E23+July24!E23+'Aug24'!E23+'Sep24'!E23+'Oct24'!E23+'Nov24'!E23+'Dec24'!E23 -> 0 | F23: ='Jan24'!F23+'Feb24'!F23+'Mar24'!F23+'Apr24'!F23+'May24'!F23+June24!F23+July24!F23+'Aug24'!F23+'Sep24'!F23+'Oct24'!F23+'Nov24'!F23+'Dec24'!F23 -> 0 | G23: ='Jan24'!G23+'Feb24'!G23+'Mar24'!G23+'Apr24'!G23+'May24'!G23+June24!G23+July24!G23+'Aug24'!G23+'Sep24'!G23+'Oct24'!G23+'Nov24'!G23+'Dec24'!G23 -> 0 | H23: ='Jan24'!H23+'Feb24'!H23+'Mar24'!H23+'Apr24'!H23+'May24'!H23+June24!H23+July24!H23+'Aug24'!H23+'Sep24'!H23+'Oct24'!H23+'Nov24'!H23+'Dec24'!H23 -> 0
B24: f. Assessments | C24: 26 | D24: ='Jan24'!D24+'Feb24'!D24+'Mar24'!D24+'Apr24'!D24+'May24'!D24+June24!D24+July24!D24+'Aug24'!D24+'Sep24'!D24+'Oct24'!D24+'Nov24'!D24+'Dec24'!D24 -> 129828.38 | E24: ='Jan24'!E24+'Feb24'!E24+'Mar24'!E24+'Apr24'!E24+'May24'!E24+June24!E24+July24!E24+'Aug24'!E24+'Sep24'!E24+'Oct24'!E24+'Nov24'!E24+'Dec24'!E24 -> 0 | F24: ='Jan24'!F24+'Feb24'!F24+'Mar24'!F24+'Apr24'!F24+'May24'!F24+June24!F24+July24!F24+'Aug24'!F24+'Sep24'!F24+'Oct24'!F24+'Nov24'!F24+'Dec24'!F24 -> 0 | G24: ='Jan24'!G24+'Feb24'!G24+'Mar24'!G24+'Apr24'!G24+'May24'!G24+June24!G24+July24!G24+'Aug24'!G24+'Sep24'!G24+'Oct24'!G24+'Nov24'!G24+'Dec24'!G24 -> 0 | H24: ='Jan24'!H24+'Feb24'!H24+'Mar24'!H24+'Apr24'!H24+'May24'!H24+June24!H24+July24!H24+'Aug24'!H24+'Sep24'!H24+'Oct24'!H24+'Nov24'!H24+'Dec24'!H24 -> 129828.38
B25: g. | C25: 27
B26: h. | C26: 28
B27: i. | C27: 29
B28: j. Total (sum a. through e - f.) | C28: 30 | D28: ='Jan24'!D28+'Feb24'!D28+'Mar24'!D28+'Apr24'!D28+'May24'!D28+June24!D28+July24!D28+'Aug24'!D28+'Sep24'!D28+'Oct24'!D28+'Nov24'!D28+'Dec24'!D28 -> 9255959.6 | E28: ='Jan24'!E28+'Feb24'!E28+'Mar24'!E28+'Apr24'!E28+'May24'!E28+June24!E28+July24!E28+'Aug24'!E28+'Sep24'!E28+'Oct24'!E28+'Nov24'!E28+'Dec24'!E28 -> 31904196 | F28: ='Jan24'!F28+'Feb24'!F28+'Mar24'!F28+'Apr24'!F28+'May24'!F28+June24!F28+July24!F28+'Aug24'!F28+'Sep24'!F28+'Oct24'!F28+'Nov24'!F28+'Dec24'!F28 -> 534459 | G28: ='Jan24'!G28+'Feb24'!G28+'Mar24'!G28+'Apr24'!G28+'May24'!G28+June24!G28+July24!G28+'Aug24'!G28+'Sep24'!G28+'Oct24'!G28+'Nov24'!G28+'Dec24'!G28 -> 51057 | H28: ='Jan24'!H28+'Feb24'!H28+'Mar24'!H28+'Apr24'!H28+'May24'!H28+June24!H28+July24!H28+'Aug24'!H28+'Sep24'!H28+'Oct24'!H28+'Nov24'!H28+'Dec24'!H28 -> 41745672
A29: 3. Gross Volume Taxed (1-2j) | C29: 40 | D29: ='Jan24'!D29+'Feb24'!D29+'Mar24'!D29+'Apr24'!D29+'May24'!D29+June24!D29+July24!D29+'Aug24'!D29+'Sep24'!D29+'Oct24'!D29+'Nov24'!D29+'Dec24'!D29 -> 92092528 | E29: ='Jan24'!E29+'Feb24'!E29+'Mar24'!E29+'Apr24'!E29+'May24'!E29+June24!E29+July24!E29+'Aug24'!E29+'Sep24'!E29+'Oct24'!E29+'Nov24'!E29+'Dec24'!E29 -> 1272812591 | F29: ='Jan24'!F29+'Feb24'!F29+'Mar24'!F29+'Apr24'!F29+'May24'!F29+June24!F29+July24!F29+'Aug24'!F29+'Sep24'!F29+'Oct24'!F29+'Nov24'!F29+'Dec24'!F29 -> 582622188 | G29: ='Jan24'!G29+'Feb24'!G29+'Mar24'!G29+'Apr24'!G29+'May24'!G29+June24!G29+July24!G29+'Aug24'!G29+'Sep24'!G29+'Oct24'!G29+'Nov24'!G29+'Dec24'!G29 -> 6297174 | H29: ='Jan24'!H29+'Feb24'!H29+'Mar24'!H29+'Apr24'!H29+'May24'!H29+June24!H29+July24!H29+'Aug24'!H29+'Sep24'!H29+'Oct24'!H29+'Nov24'!H29+'Dec24'!H29 -> 1.9216191e+09
A30: 4. Fully | B30: a. Agriculture | C30: 51 | D30: ='Jan24'!D30+'Feb24'!D30+'Mar24'!D30+'Apr24'!D30+'May24'!D30+June24!D30+July24!D30+'Aug24'!D30+'Sep24'!D30+'Oct24'!D30+'Nov24'!D30+'Dec24'!D30 -> 131210 | E30: ='Jan24'!E30+'Feb24'!E30+'Mar24'!E30+'Apr24'!E30+'May24'!E30+June24!E30+July24!E30+'Aug24'!E30+'Sep24'!E30+'Oct24'!E30+'Nov24'!E30+'Dec24'!E30 -> 121854 | F30: ='Jan24'!F30+'Feb24'!F30+'Mar24'!F30+'Apr24'!F30+'May24'!F30+June24!F30+July24!F30+'Aug24'!F30+'Sep24'!F30+'Oct24'!F30+'Nov24'!F30+'Dec24'!F30 -> 354506 | G30: ='Jan24'!G30+'Feb24'!G30+'Mar24'!G30+'Apr24'!G30+'May24'!G30+June24!G30+July24!G30+'Aug24'!G30+'Sep24'!G30+'Oct24'!G30+'Nov24'!G30+'Dec24'!G30 -> 0 | H30: ='Jan24'!H30+'Feb24'!H30+'Mar24'!H30+'Apr24'!H30+'May24'!H30+June24!H30+July24!H30+'Aug24'!H30+'Sep24'!H30+'Oct24'!H30+'Nov24'!H30+'Dec24'!H30 -> 607570
A31: Refunded | B31: b. Aviation | C31: 52 | D31: ='Jan24'!D31+'Feb24'!D31+'Mar24'!D31+'Apr24'!D31+'May24'!D31+June24!D31+July24!D31+'Aug24'!D31+'Sep24'!D31+'Oct24'!D31+'Nov24'!D31+'Dec24'!D31 -> 0 | E31: ='Jan24'!E31+'Feb24'!E31+'Mar24'!E31+'Apr24'!E31+'May24'!E31+June24!E31+July24!E31+'Aug24'!E31+'Sep24'!E31+'Oct24'!E31+'Nov24'!E31+'Dec24'!E31 -> 0 | F31: ='Jan24'!F31+'Feb24'!F31+'Mar24'!F31+'Apr24'!F31+'May24'!F31+June24!F31+July24!F31+'Aug24'!F31+'Sep24'!F31+'Oct24'!F31+'Nov24'!F31+'Dec24'!F31 -> 0 | G31: ='Jan24'!G31+'Feb24'!G31+'Mar24'!G31+'Apr24'!G31+'May24'!G31+June24!G31+July24!G31+'Aug24'!G31+'Sep24'!G31+'Oct24'!G31+'Nov24'!G31+'Dec24'!G31 -> 0 | H31: ='Jan24'!H31+'Feb24'!H31+'Mar24'!H31+'Apr24'!H31+'May24'!H31+June24!H31+July24!H31+'Aug24'!H31+'Sep24'!H31+'Oct24'!H31+'Nov24'!H31+'Dec24'!H31 -> 0
B32: c. Industrial/Commercial | C32: 53 | D32: ='Jan24'!D32+'Feb24'!D32+'Mar24'!D32+'Apr24'!D32+'May24'!D32+June24!D32+July24!D32+'Aug24'!D32+'Sep24'!D32+'Oct24'!D32+'Nov24'!D32+'Dec24'!D32 -> 0 | E32: ='Jan24'!E32+'Feb24'!E32+'Mar24'!E32+'Apr24'!E32+'May24'!E32+June24!E32+July24!E32+'Aug24'!E32+'Sep24'!E32+'Oct24'!E32+'Nov24'!E32+'Dec24'!E32 -> 0 | F32: ='Jan24'!F32+'Feb24'!F32+'Mar24'!F32+'Apr24'!F32+'May24'!F32+June24!F32+July24!F32+'Aug24'!F32+'Sep24'!F32+'Oct24'!F32+'Nov24'!F32+'Dec24'!F32 -> 0 | G32: ='Jan24'!G32+'Feb24'!G32+'Mar24'!G32+'Apr24'!G32+'May24'!G32+June24!G32+July24!G32+'Aug24'!G32+'Sep24'!G32+'Oct24'!G32+'Nov24'!G32+'Dec24'!G32 -> 0 | H32: ='Jan24'!H32+'Feb24'!H32+'Mar24'!H32+'Apr24'!H32+'May24'!H32+June24!H32+July24!H32+'Aug24'!H32+'Sep24'!H32+'Oct24'!H32+'Nov24'!H32+'Dec24'!H32 -> 0
B33: d. Construction | C33: 54 | D33: ='Jan24'!D33+'Feb24'!D33+'Mar24'!D33+'Apr24'!D33+'May24'!D33+June24!D33+July24!D33+'Aug24'!D33+'Sep24'!D33+'Oct24'!D33+'Nov24'!D33+'Dec24'!D33 -> 0 | E33: ='Jan24'!E33+'Feb24'!E33+'Mar24'!E33+'Apr24'!E33+'May24'!E33+June24!E33+July24!E33+'Aug24'!E33+'Sep24'!E33+'Oct24'!E33+'Nov24'!E33+'Dec24'!E33 -> 0 | F33: ='Jan24'!F33+'Feb24'!F33+'Mar24'!F33+'Apr24'!F33+'May24'!F33+June24!F33+July24!F33+'Aug24'!F33+'Sep24'!F33+'Oct24'!F33+'Nov24'!F33+'Dec24'!F33 -> 0 | G33: ='Jan24'!G33+'Feb24'!G33+'Mar24'!G33+'Apr24'!G33+'May24'!G33+June24!G33+July24!G33+'Aug24'!G33+'Sep24'!G33+'Oct24'!G33+'Nov24'!G33+'Dec24'!G33 -> 0 | H33: ='Jan24'!H33+'Feb24'!H33+'Mar24'!H33+'Apr24'!H33+'May24'!H33+June24!H33+July24!H33+'Aug24'!H33+'Sep24'!H33+'Oct24'!H33+'Nov24'!H33+'Dec24'!H33 -> 0
B34: e. Marine | C34: 55 | D34: ='Jan24'!D34+'Feb24'!D34+'Mar24'!D34+'Apr24'!D34+'May24'!D34+June24!D34+July24!D34+'Aug24'!D34+'Sep24'!D34+'Oct24'!D34+'Nov24'!D34+'Dec24'!D34 -> 0 | E34: ='Jan24'!E34+'Feb24'!E34+'Mar24'!E34+'Apr24'!E34+'May24'!E34+June24!E34+July24!E34+'Aug24'!E34+'Sep24'!E34+'Oct24'!E34+'Nov24'!E34+'Dec24'!E34 -> 0 | F34: ='Jan24'!F34+'Feb24'!F34+'Mar24'!F34+'Apr24'!F34+'May24'!F34+June24!F34+July24!F34+'Aug24'!F34+'Sep24'!F34+'Oct24'!F34+'Nov24'!F34+'Dec24'!F34 -> 0 | G34: ='Jan24'!G34+'Feb24'!G34+'Mar24'!G34+'Apr24'!G34+'May24'!G34+June24!G34+July24!G34+'Aug24'!G34+'Sep24'!G34+'Oct24'!G34+'Nov24'!G34+'Dec24'!G34 -> 0 | H34: ='Jan24'!H34+'Feb24'!H34+'Mar24'!H34+'Apr24'!H34+'May24'!H34+June24!H34+July24!H34+'Aug24'!H34+'Sep24'!H34+'Oct24'!H34+'Nov24'!H34+'Dec24'!H34 -> 0
B35: f. Municipal and Counties | C35: 56 | D35: ='Jan24'!D35+'Feb24'!D35+'Mar24'!D35+'Apr24'!D35+'May24'!D35+June24!D35+July24!D35+'Aug24'!D35+'Sep24'!D35+'Oct24'!D35+'Nov24'!D35+'Dec24'!D35 -> 0 | E35: ='Jan24'!E35+'Feb24'!E35+'Mar24'!E35+'Apr24'!E35+'May24'!E35+June24!E35+July24!E35+'Aug24'!E35+'Sep24'!E35+'Oct24'!E35+'Nov24'!E35+'Dec24'!E35 -> 0 | F35: ='Jan24'!F35+'Feb24'!F35+'Mar24'!F35+'Apr24'!F35+'May24'!F35+June24!F35+July24!F35+'Aug24'!F35+'Sep24'!F35+'Oct24'!F35+'Nov24'!F35+'Dec24'!F35 -> 0 | G35: ='Jan24'!G35+'Feb24'!G35+'Mar24'!G35+'Apr24'!G35+'May24'!G35+June24!G35+July24!G35+'Aug24'!G35+'Sep24'!G35+'Oct24'!G35+'Nov24'!G35+'Dec24'!G35 -> 0 | H35: ='Jan24'!H35+'Feb24'!H35+'Mar24'!H35+'Apr24'!H35+'May24'!H35+June24!H35+July24!H35+'Aug24'!H35+'Sep24'!H35+'Oct24'!H35+'Nov24'!H35+'Dec24'!H35 -> 0
B36: g. Other | C36: 57 | D36: ='Jan24'!D36+'Feb24'!D36+'Mar24'!D36+'Apr24'!D36+'May24'!D36+June24!D36+July24!D36+'Aug24'!D36+'Sep24'!D36+'Oct24'!D36+'Nov24'!D36+'Dec24'!D36 -> 180505 | E36: ='Jan24'!E36+'Feb24'!E36+'Mar24'!E36+'Apr24'!E36+'May24'!E36+June24!E36+July24!E36+'Aug24'!E36+'Sep24'!E36+'Oct24'!E36+'Nov24'!E36+'Dec24'!E36 -> 951632 | F36: ='Jan24'!F36+'Feb24'!F36+'Mar24'!F36+'Apr24'!F36+'May24'!F36+June24!F36+July24!F36+'Aug24'!F36+'Sep24'!F36+'Oct24'!F36+'Nov24'!F36+'Dec24'!F36 -> 5147700 | G36: ='Jan24'!G36+'Feb24'!G36+'Mar24'!G36+'Apr24'!G36+'May24'!G36+June24!G36+July24!G36+'Aug24'!G36+'Sep24'!G36+'Oct24'!G36+'Nov24'!G36+'Dec24'!G36 -> 0 | H36: ='Jan24'!H36+'Feb24'!H36+'Mar24'!H36+'Apr24'!H36+'May24'!H36+June24!H36+July24!H36+'Aug24'!H36+'Sep24'!H36+'Oct24'!H36+'Nov24'!H36+'Dec24'!H36 -> 6279837
B37: h. | C37: 58
B38: i. | C38: 59
B39: j. | C39: 60
B40: k. | C40: 61
B41: l. | C41: 62
B42: m. | C42: 63
B43: n. | C43: 64
B44: o. | C44: 65
B45: p. | C45: 66
B46: q. | C46: 67
B47: r. Total (a. thru s.) | C47: 70 | D47: ='Jan24'!D47+'Feb24'!D47+'Mar24'!D47+'Apr24'!D47+'May24'!D47+June24!D47+July24!D47+'Aug24'!D47+'Sep24'!D47+'Oct24'!D47+'Nov24'!D47+'Dec24'!D47 -> 311715 | E47: ='Jan24'!E47+'Feb24'!E47+'Mar24'!E47+'Apr24'!E47+'May24'!E47+June24!E47+July24!E47+'Aug24'!E47+'Sep24'!E47+'Oct24'!E47+'Nov24'!E47+'Dec24'!E47 -> 1073486 | F47: ='Jan24'!F47+'Feb24'!F47+'Mar24'!F47+'Apr24'!F47+'May24'!F47+June24!F47+July24!F47+'Aug24'!F47+'Sep24'!F47+'Oct24'!F47+'Nov24'!F47+'Dec24'!F47 -> 5502206 | G47: ='Jan24'!G47+'Feb24'!G47+'Mar24'!G47+'Apr24'!G47+'May24'!G47+June24!G47+July24!G47+'Aug24'!G47+'Sep24'!G47+'Oct24'!G47+'Nov24'!G47+'Dec24'!G47 -> 0 | H47: ='Jan24'!H47+'Feb24'!H47+'Mar24'!H47+'Apr24'!H47+'May24'!H47+June24!H47+July24!H47+'Aug24'!H47+'Sep24'!H47+'Oct24'!H47+'Nov24'!H47+'Dec24'!H47 -> 6887407
A48: 5. Net | B48: a. At Full Rate | D48: ='Jan24'!D48+'Feb24'!D48+'Mar24'!D48+'Apr24'!D48+'May24'!D48+June24!D48+July24!D48+'Aug24'!D48+'Sep24'!D48+'Oct24'!D48+'Nov24'!D48+'Dec24'!D48 -> 91780813 | E48: ='Jan24'!E48+'Feb24'!E48+'Mar24'!E48+'Apr24'!E48+'May24'!E48+June24!E48+July24!E48+'Aug24'!E48+'Sep24'!E48+'Oct24'!E48+'Nov24'!E48+'Dec24'!E48 -> 1271739105 | F48: ='Jan24'!F48+'Feb24'!F48+'Mar24'!F48+'Apr24'!F48+'May24'!F48+June24!F48+July24!F48+'Aug24'!F48+'Sep24'!F48+'Oct24'!F48+'Nov24'!F48+'Dec24'!F48 -> 577119982 | G48: ='Jan24'!G48+'Feb24'!G48+'Mar24'!G48+'Apr24'!G48+'May24'!G48+June24!G48+July24!G48+'Aug24'!G48+'Sep24'!G48+'Oct24'!G48+'Nov24'!G48+'Dec24'!G48 -> 6297174 | H48: ='Jan24'!H48+'Feb24'!H48+'Mar24'!H48+'Apr24'!H48+'May24'!H48+June24!H48+July24!H48+'Aug24'!H48+'Sep24'!H48+'Oct24'!H48+'Nov24'!H48+'Dec24'!H48 -> 1.9469371e+09
A49: Volume
A50: Taxed | B50: IMC fuel volume used in state | F50: =F18 -> 40552146
B51: IMC fuel volume purchased in state | F51: 0
B52: Net IMC | F52: =F50-F51 -> 40552146
