Workbook

Sheet Jan23
A1: The public report burden for this information is estimated to average 5.4 hours | H1: Form Approved OMB No. 2125-0032
H2: STATE
A3: U.S. Department of | H3: Kansas
A4: Transportation | H4: YEAR
E5: MONTHLY MOTOR-FUEL CONSUMPTION | H5: 2023
H6: MONTH OF SALE
A7: Federal Highway | H7: January
A8: Administration | H8: UNITS (check one)
H9: Gallons X
H10: Liters
C11: LI | F11: PRIVATE AND COMMERCIAL
B12: ITEM | C12: NE | D12: GASOLINE | E12: GASOHOL | F12: HWY DIESEL | G12: HWY LPG | H12: TOTAL
C13: # | D13: -1 | E13: -2 | F13: -3 | G13: -4 | H13: -5
A14: 1. Gross | B14: a. Gross Volume Reported | C14: 1 | D14: =D15+D21+D22 -> 8300354 | E14: =E15+E21+E22 -> 96252060 | F14: =(F16-F17)/0.26 -> 35501138 | G14: =(G16-G17)/0.23 -> 1008065.2 | H14: =SUM(D14:G14) -> 1.4106162e+08
B15: Net After Deduction | D15: 7988772 | E15: 96172650
B16: Special Fuel Tax Receipts | F16: 10702621 | G16: 231855
B17: Special Fuel Tax Refunds | F17: 1472325
A18: Volume | B18: b. IFTA | C18: 2 | F18: =F85 -> 0
A19: 2. Fully | B19: a. Losses - Flat % | C19: 21 | D19: 191396 | E19: 2242227 | H19: =SUM(D19:G19) -> 2433623
A20: Tax | B20: b. Losses - Actual | C20: 22 | D20: 0 | E20: 7052 | H20: =SUM(D20:G20) -> 7052
A21: Exempt | B21: c. Federal | C21: 23 | D21: 50236 | E21: 79410 | H21: =SUM(D21:G21) -> 129646
B22: d. Aviation | C22: 24 | D22: 261346 | E22: 0 | H22: =SUM(D22:G22) -> 261346
B23: e. Native American | C23: 25 | H23: =SUM(D23:G23) -> 0
B24: f. Assessments | C24: 26 | D24: 4303.1667 | H24: =SUM(D24:G24) -> 4303.1667
B25: g. | C25: 27 | H25: =SUM(D25:G25) -> 0
B26: h. | C26: 28 | H26: =SUM(D26:G26) -> 0
B27: i. | C27: 29 | H27: =SUM(D27:G27) -> 0
B28: j. Total (sum a. through e - f.) | C28: 30 | D28: =SUM(D19:D23)-D24 -> 498674.83 | E28: =SUM(E19:E23)-E24 -> 2328689 | F28: =SUM(F19:F23)-F24 -> 0 | G28: =SUM(G19:G23)-G24 -> 0 | H28: =SUM(H19:H23)-H24 -> 2827363.8
A29: 3. Gross Volume Taxed (1-2j) | C29: 40 | D29: =D14-D28 -> 7801679.2 | E29: =E14-E28 -> 93923371 | F29: =F14+F18-F28 -> 35501138 | G29: =G14-G28 -> 1008065.2 | H29: =H14-H28 -> 1.3823425e+08
A30: 4. Fully | B30: a. Agriculture | C30: 51 | D30: 22382 | E30: 18787 | H30: =SUM(D30:G30) -> 41169
A31: Refunded | B31: b. Aviation | C31: 52 | H31: =SUM(D31:G31) -> 0
B32: c. Industrial/Commercial | C32: 53 | H32: =SUM(D32:G32) -> 0
B33: d. Construction | C33: 54 | H33: =SUM(D33:G33) -> 0
B34: e. Marine | C34: 55 | H34: =SUM(D34:G34) -> 0
B35: f. Municipal and Counties | C35: 56 | H35: =SUM(D35:G35) -> 0
B36: g. Other | C36: 57 | D36: 11235 | E36: 60211 | H36: =SUM(D36:G36) -> 71446
B37: h. | C37: 58 | H37: =SUM(D37:G37) -> 0
B38: i. | C38: 59 | H38: =SUM(D38:G38) -> 0
B39: j. | C39: 60 | H39: =SUM(D39:G39) -> 0
B40: k. | C40: 61
B41: l. | C41: 62
B42: m. | C42: 63
B43: n. | C43: 64
B44: o. | C44: 65
B45: p. | C45: 66
B46: q. | C46: 67
B47: r. Total (a. thru s.) | C47: 70 | D47: =SUM(D30:D41) -> 33617 | E47: =SUM(E30:E41) -> 78998 | F47: =SUM(F30:F41) -> 0 | G47: =SUM(G30:G41) -> 0 | H47: =SUM(H30:H41) -> 112615
A48: 5. Net | B48: a. At Full Rate | C48: 81 | D48: =D29-D47 -> 7768062.2 | E48: =E29-E47 -> 93844373 | F48: =F29-F47 -> 35501138 | G48: =G29-G47 -> 1008065.2 | H48: =SUM(D48:G48) -> 1.3812164e+08
A49: Volume | B49: b. | C49: 82
A50: Taxed | B50: c. | C50: 83
A51: Taxed at | B51: d. | C51: 84
A52: initial lower | B52: e. | C52: 85
A53: rate, partially | B53: f. | C53: 86
A54: exempt or | B54: g. | C54: 87
A55: partially | B55: h. | C55: 88
A56: refunded | B56: i. | C56: 89
B57: j. Total (a thru i, 3-4t) | C57: 90 | D57: =SUM(D48:D56) -> 7768062.2 | E57: =SUM(E48:E56) -> 93844373 | F57: =SUM(F48:F56) -> 35501138 | G57: =SUM(G48:G56) -> 1008065.2 | H57: =SUM(H48:H56) -> 1.3812164e+08
B58: Calendar Year Cumulation | D58: =D57 -> 7768062.2 | E58: =E57 -> 93844373 | F58: =F57 -> 35501138 | G58: =G57 -> 1008065.2 | H58: =H57 -> 1.3812164e+08
A59: 6. Source | B59: a. Agency Preparing this Report:
B60: Kansas Department of Revenue, Office of Research and Analysis
B61: b. Compiled under Direction of: | G61: c. Date
B62: Mark Burghart, Secretary of Revenue
E63: PREVIOUS EDITIONS OBSOLETE | H63: (Next Page)
E64: 1
H67: =H2 -> STATE
H68: =H3 -> Kansas
D69: NOTES AND TECHNICAL INFORMATION | H69: =H4 -> YEAR
H70: =H5 -> 2023
H71: =H6 -> MONTH OF SALE
H72: =H7 -> January
A73: 1. Rate of tax at end month, in cents-per-gallon/liter. | D73: (If tax is ad valorem, post percentage, and briefly explain application basis below.)
E74: Rate | F74: Effective Date
C75: a. Gasoline | E75: 24¢/gallon | F75: 37803
C76: b. Gasohol | E76: 24¢/gallon | F76: 37803
C77: c. Gasohol E85 | E77: 17¢/gallon | F77: 39083
C78: d. Diesel | E78: 26¢/gallon | F78: 37803
C79: e. LPG | E79: 23¢/gallon | F79: 37803
C80: f. CNG * | E80: 23¢/gallon | F80: 37803
B81: * 120 cubic feet = one gallon
A82: 2. Computation of gross volume reported (page 1, item 1). | F82: Special Fuels
E83: Gasoline and Gasohol | F83: (Diesel and LPG)
B84: Gross sales from wholesaler/retailer returns | E84: =D14+E14 -> 104552414 | F84: =(+F28+F29+G29)-(F85-F86) -> 36509204
B85: Plus: IMC fuel volume used in state | F85: =0/0.26 -> 0
B86: Less: IMC fuel volume purchased tax paid in state
B87: ="= Gross consumption in State (enter on page 1, item 1)" -> = Gross consumption in State (enter on page 1, item 1) | E87: =(E84+E85)-E86 -> 104552414 | F87: =(F84+F85)-F86 -> 36509204
E89: Interstate motor carrier (fuel use tax) fuel volume shown above covers period:
F90: Diesel | G90: LP-Gas | H90: Combined
E91: * page 1, line 1 split | F91: =F14 -> 35501138 | G91: =G14 -> 1008065.2 | H91: =F91+G91 -> 36509204
A92: 3. Stratification of gasohol by blend ratio
B94: The gasohol volume on page 1 column (2) includes: | E94: (show actual/estimated volume or percentage shares)
C96: Percent Alcohol | E96: Volume | F96: Percentage Share
D97: 5.7-7.6%
D98: 7.7-9.9%
D99: 10% or more | F99: 1
A101: 4. Notes and comments
A104: Note that diesel gallons include state, county and municipal government highway use, but does not include use by
A105: school buses.
A106: Line #26 (Assessments) - Assessments, either positive or negative, can be the result of audits, amended returns or
A107: office (KS Dept. of Revenue) assessments or abatements.
A124: Form FHWA-551M (Rev. 11-93) | E124: 2

Sheet Feb23
A1: The public report burden for this information is estimated to average 5.4 hours | H1: Form Approved OMB No. 2125-0032
H2: STATE
A3: U.S. Department of | H3: Kansas
A4: Transportation | H4: YEAR
E5: MONTHLY MOTOR-FUEL CONSUMPTION | H5: 2023
H6: MONTH OF SALE
A7: Federal Highway | H7: February
A8: Administration | H8: UNITS (check one)
H9: Gallons X
H10: Liters
C11: LI | F11: PRIVATE AND COMMERCIAL
B12: ITEM | C12: NE | D12: GASOLINE | E12: GASOHOL | F12: HWY DIESEL | G12: HWY LPG | H12: TOTAL
C13: # | D13: -1 | E13: -2 | F13: -3 | G13: -4 | H13: -5
A14: 1. Gross | B14: a. Gross Volume Reported | C14: 1 | D14: =D15+D21+D22 -> 8073698 | E14: =E15+E21+E22 -> 92145122 | F14: =(F16-F17)/0.26 -> 34578462 | G14: =(G16-G17)/0.23 -> 935334.78 | H14: =SUM(D14:G14) -> 1.3573262e+08
B15: Net After Deduction | D15: 7583154 | E15: 91968737
B16: Special Fuel Tax Receipts | F16: 10158777 | G16: 215127
B17: Special Fuel Tax Refunds | F17: 1168377
A18: Volume | B18: b. IFTA | C18: 2 | F18: =F85 -> 0
A19: 2. Fully | B19: a. Losses - Flat % | C19: 21 | D19: 180904 | E19: 2147943 | H19: =SUM(D19:G19) -> 2328847
A20: Tax | B20: b. Losses - Actual | C20: 22 | D20: 0 | E20: 0 | H20: =SUM(D20:G20) -> 0
A21: Exempt | B21: c. Federal | C21: 23 | D21: 49080 | E21: 176385 | H21: =SUM(D21:G21) -> 225465
B22: d. Aviation | C22: 24 | D22: 441464 | E22: 0 | H22: =SUM(D22:G22) -> 441464
B23: e. Native American | C23: 25 | H23: =SUM(D23:G23) -> 0
B24: f. Assessments | C24: 26 | D24: 200740.25 | H24: =SUM(D24:G24) -> 200740.25
B25: g. | C25: 27 | H25: =SUM(D25:G25) -> 0
B26: h. | C26: 28 | H26: =SUM(D26:G26) -> 0
B27: i. | C27: 29 | H27: =SUM(D27:G27) -> 0
B28: j. Total (sum a. through e - f.) | C28: 30 | D28: =SUM(D19:D23)-D24 -> 470707.75 | E28: =SUM(E19:E23)-E24 -> 2324328 | F28: =SUM(F19:F23)-F24 -> 0 | G28: =SUM(G19:G23)-G24 -> 0 | H28: =SUM(H19:H23)-H24 -> 2795035.8
A29: 3. Gross Volume Taxed (1-2j) | C29: 40 | D29: =D14-D28 -> 7602990.2 | E29: =E14-E28 -> 89820794 | F29: =F14+F18-F28 -> 34578462 | G29: =G14-G28 -> 935334.78 | H29: =H14-H28 -> 1.3293758e+08
A30: 4. Fully | B30: a. Agriculture | C30: 51 | D30: 33742 | E30: 40422 | H30: =SUM(D30:G30) -> 74164
A31: Refunded | B31: b. Aviation | C31: 52 | H31: =SUM(D31:G31) -> 0
B32: c. Industrial/Commercial | C32: 53 | H32: =SUM(D32:G32) -> 0
B33: d. Construction | C33: 54 | H33: =SUM(D33:G33) -> 0
B34: e. Marine | C34: 55 | H34: =SUM(D34:G34) -> 0
B35: f. Municipal and Counties | C35: 56 | H35: =SUM(D35:G35) -> 0
B36: g. Other | C36: 57 | D36: 16925 | E36: 10230 | H36: =SUM(D36:G36) -> 27155
B37: h. | C37: 58 | H37: =SUM(D37:G37) -> 0
B38: i. | C38: 59 | H38: =SUM(D38:G38) -> 0
B39: j. | C39: 60 | H39: =SUM(D39:G39) -> 0
B40: k. | C40: 61
B41: l. | C41: 62
B42: m. | C42: 63
B43: n. | C43: 64
B44: o. | C44: 65
B45: p. | C45: 66
B46: q. | C46: 67
B47: r. Total (a. thru s.) | C47: 70 | D47: =SUM(D30:D41) -> 50667 | E47: =SUM(E30:E41) -> 50652 | F47: =SUM(F30:F41) -> 0 | G47: =SUM(G30:G41) -> 0 | H47: =SUM(H30:H41) -> 101319
A48: 5. Net | B48: a. At Full Rate | C48: 81 | D48: =D29-D47 -> 7552323.2 | E48: =E29-E47 -> 89770142 | F48: =F29-F47 -> 34578462 | G48: =G29-G47 -> 935334.78 | H48: =SUM(D48:G48) -> 1.3283626e+08
A49: Volume | B49: b. | C49: 82
A50: Taxed | B50: c. | C50: 83
A51: Taxed at | B51: d. | C51: 84
A52: initial lower | B52: e. | C52: 85
A53: rate, partially | B53: f. | C53: 86
A54: exempt or | B54: g. | C54: 87
A55: partially | B55: h. | C55: 88
A56: refunded | B56: i. | C56: 89
B57: j. Total (a thru i, 3-4t) | C57: 90 | D57: =SUM(D48:D56) -> 7552323.2 | E57: =SUM(E48:E56) -> 89770142 | F57: =SUM(F48:F56) -> 34578462 | G57: =SUM(G48:G56) -> 935334.78 | H57: =SUM(H48:H56) -> 1.3283626e+08
B58: Calendar Year Cumulation | D58: =D57+'Jan23'!D58 -> 15320385 | E58: =E57+'Jan23'!E58 -> 183614515 | F58: =F57+'Jan23'!F58 -> 70079600 | G58: =G57+'Jan23'!G58 -> 1943400 | H58: =H57+'Jan23'!H58 -> 2.709579e+08
A59: 6. Source | B59: a. Agency Preparing this Report:
B60: Kansas Department of Revenue, Office of Research and Analysis
B61: b. Compiled under Direction of: | G61: c. Date
B62: Mark Burghart, Secretary of Revenue
E63: PREVIOUS EDITIONS OBSOLETE | H63: (Next Page)
E64: 1
H67: =H2 -> STATE
H68: =H3 -> Kansas
D69: NOTES AND TECHNICAL INFORMATION | H69: =H4 -> YEAR
H70: =H5 -> 2023
H71: =H6 -> MONTH OF SALE
H72: =H7 -> February
A73: 1. Rate of tax at end month, in cents-per-gallon/liter. | D73: (If tax is ad valorem, post percentage, and briefly explain application basis below.)
E74: Rate | F74: Effective Date
C75: a. Gasoline | E75: 24¢/gallon | F75: 37803
C76: b. Gasohol | E76: 24¢/gallon | F76: 37803
C77: c. Gasohol E85 | E77: 17¢/gallon | F77: 39083
C78: d. Diesel | E78: 26¢/gallon | F78: 37803
C79: e. LPG | E79: 23¢/gallon | F79: 37803
C80: f. CNG * | E80: 23¢/gallon | F80: 37803
B81: * 120 cubic feet = one gallon
A82: 2. Computation of gross volume reported (page 1, item 1). | F82: Special Fuels
E83: Gasoline and Gasohol | F83: (Diesel and LPG)
B84: Gross sales from wholesaler/retailer returns | E84: =D14+E14 -> 100218820 | F84: =(+F28+F29+G29)-(F85-F86) -> 35513796
B85: Plus: IMC fuel volume used in state | F85: =0/0.26 -> 0
B86: Less: IMC fuel volume purchased tax paid in state
B87: ="= Gross consumption in State (enter on page 1, item 1)" -> = Gross consumption in State (enter on page 1, item 1) | E87: =(E84+E85)-E86 -> 100218820 | F87: =(F84+F85)-F86 -> 35513796
E89: Interstate motor carrier (fuel use tax) fuel volume shown above covers period:
F90: Diesel | G90: LP-Gas | H90: Combined
E91: * page 1, line 1 split | F91: =F14 -> 34578462 | G91: =G14 -> 935334.78 | H91: =F91+G91 -> 35513796
A92: 3. Stratification of gasohol by blend ratio
B94: The gasohol volume on page 1 column (2) includes: | E94: (show actual/estimated volume or percentage shares)
C96: Percent Alcohol | E96: Volume | F96: Percentage Share
D97: 5.7-7.6%
D98: 7.7-9.9%
D99: 10% or more | F99: 1
A101: 4. Notes and comments
A104: Note that diesel gallons include state, county and municipal government highway use, but does not include use by
A105: school buses.
A106: Line #26 (Assessments) - Assessments, either positive or negative, can be the result of audits, amended returns or
A107: office (KS Dept. of Revenue) assessments or abatements.
A124: Form FHWA-551M (Rev. 11-93) | E124: 2

Sheet Mar23
A1: The public report burden for this information is estimated to average 5.4 hours | H1: Form Approved OMB No. 2125-0032
H2: STATE
A3: U.S. Department of | H3: Kansas
A4: Transportation | H4: YEAR
E5: MONTHLY MOTOR-FUEL CONSUMPTION | H5: 2023
H6: MONTH OF SALE
A7: Federal Highway | H7: March
A8: Administration | H8: UNITS (check one)
H9: Gallons X
H10: Liters
C11: LI | F11: PRIVATE AND COMMERCIAL
B12: ITEM | C12: NE | D12: GASOLINE | E12: GASOHOL | F12: HWY DIESEL | G12: HWY LPG | H12: TOTAL
C13: # | D13: -1 | E13: -2 | F13: -3 | G13: -4 | H13: -5
A14: 1. Gross | B14: a. Gross Volume Reported | C14: 1 | D14: =D15+D21+D22 -> 9607803 | E14: =E15+E21+E22 -> 103414959 | F14: =(F16-F17)/0.26 -> 38574796 | G14: =(G16-G17)/0.23 -> 817017.39 | H14: =SUM(D14:G14) -> 1.5241458e+08
B15: Net After Deduction | D15: 9127734 | E15: 103272039
B16: Special Fuel Tax Receipts | F16: 10190447 | G16: 187914
B17: Special Fuel Tax Refunds | F17: 161000
A18: Volume | B18: b. IFTA | C18: 2 | F18: =F85 -> 7494873.1
A19: 2. Fully | B19: a. Losses - Flat % | C19: 21 | D19: 217714 | E19: 2415897 | H19: =SUM(D19:G19) -> 2633611
A20: Tax | B20: b. Losses - Actual | C20: 22 | D20: 0 | E20: 0 | H20: =SUM(D20:G20) -> 0
A21: Exempt | B21: c. Federal | C21: 23 | D21: 53766 | E21: 142920 | H21: =SUM(D21:G21) -> 196686
B22: d. Aviation | C22: 24 | D22: 426303 | E22: 0 | H22: =SUM(D22:G22) -> 426303
B23: e. Native American | C23: 25 | H23: =SUM(D23:G23) -> 0
B24: f. Assessments | C24: 26 | D24: 15942.625 | H24: =SUM(D24:G24) -> 15942.625
B25: g. | C25: 27 | H25: =SUM(D25:G25) -> 0
B26: h. | C26: 28 | H26: =SUM(D26:G26) -> 0
B27: i. | C27: 29 | H27: =SUM(D27:G27) -> 0
B28: j. Total (sum a. through e - f.) | C28: 30 | D28: =SUM(D19:D23)-D24 -> 681840.38 | E28: =SUM(E19:E23)-E24 -> 2558817 | F28: =SUM(F19:F23)-F24 -> 0 | G28: =SUM(G19:G23)-G24 -> 0 | H28: =SUM(H19:H23)-H24 -> 3240657.4
A29: 3. Gross Volume Taxed (1-2j) | C29: 40 | D29: =D14-D28 -> 8925962.6 | E29: =E14-E28 -> 100856142 | F29: =F14+F18-F28 -> 46069669 | G29: =G14-G28 -> 817017.39 | H29: =H14-H28 -> 1.4917392e+08
A30: 4. Fully | B30: a. Agriculture | C30: 51 | D30: 18095 | E30: 12035 | H30: =SUM(D30:G30) -> 30130
A31: Refunded | B31: b. Aviation | C31: 52 | H31: =SUM(D31:G31) -> 0
B32: c. Industrial/Commercial | C32: 53 | H32: =SUM(D32:G32) -> 0
B33: d. Construction | C33: 54 | H33: =SUM(D33:G33) -> 0
B34: e. Marine | C34: 55 | H34: =SUM(D34:G34) -> 0
B35: f. Municipal and Counties | C35: 56 | H35: =SUM(D35:G35) -> 0
B36: g. Other | C36: 57 | D36: 16628 | E36: 1290 | H36: =SUM(D36:G36) -> 17918
B37: h. | C37: 58 | H37: =SUM(D37:G37) -> 0
B38: i. | C38: 59 | H38: =SUM(D38:G38) -> 0
B39: j. | C39: 60 | H39: =SUM(D39:G39) -> 0
B40: k. | C40: 61
B41: l. | C41: 62
B42: m. | C42: 63
B43: n. | C43: 64
B44: o. | C44: 65
B45: p. | C45: 66
B46: q. | C46: 67
B47: r. Total (a. thru s.) | C47: 70 | D47: =SUM(D30:D41) -> 34723 | E47: =SUM(E30:E41) -> 13325 | F47: =SUM(F30:F41) -> 0 | G47: =SUM(G30:G41) -> 0 | H47: =SUM(H30:H41) -> 48048
A48: 5. Net | B48: a. At Full Rate | C48: 81 | D48: =D29-D47 -> 8891239.6 | E48: =E29-E47 -> 100842817 | F48: =F29-F47 -> 46069669 | G48: =G29-G47 -> 817017.39 | H48: =SUM(D48:G48) -> 1.5662074e+08
A49: Volume | B49: b. | C49: 82
A50: Taxed | B50: c. | C50: 83
A51: Taxed at | B51: d. | C51: 84
A52: initial lower | B52: e. | C52: 85
A53: rate, partially | B53: f. | C53: 86
A54: exempt or | B54: g. | C54: 87
A55: partially | B55: h. | C55: 88
A56: refunded | B56: i. | C56: 89
B57: j. Total (a thru i, 3-4t) | C57: 90 | D57: =SUM(D48:D56) -> 8891239.6 | E57: =SUM(E48:E56) -> 100842817 | F57: =SUM(F48:F56) -> 46069669 | G57: =SUM(G48:G56) -> 817017.39 | H57: =SUM(H48:H56) -> 1.5662074e+08
B58: Calendar Year Cumulation | D58: =D57+'Feb23'!D58 -> 24211625 | E58: =E57+'Feb23'!E58 -> 284457332 | F58: =F57+'Feb23'!F58 -> 1.1614927e+08 | G58: =G57+'Feb23'!G58 -> 2760417.4 | H58: =H57+'Feb23'!H58 -> 4.2757864e+08
A59: 6. Source | B59: a. Agency Preparing this Report:
B60: Kansas Department of Revenue, Office of Research and Analysis
B61: b. Compiled under Direction of: | G61: c. Date
B62: Mark Burghart, Secretary of Revenue
E63: PREVIOUS EDITIONS OBSOLETE | H63: (Next Page)
E64: 1
H67: =H2 -> STATE
H68: =H3 -> Kansas
D69: NOTES AND TECHNICAL INFORMATION | H69: =H4 -> YEAR
H70: =H5 -> 2023
H71: =H6 -> MONTH OF SALE
H72: =H7 -> March
A73: 1. Rate of tax at end month, in cents-per-gallon/liter. | D73: (If tax is ad valorem, post percentage, and briefly explain application basis below.)
E74: Rate | F74: Effective Date
C75: a. Gasoline | E75: 24¢/gallon | F75: 37803
C76: b. Gasohol | E76: 24¢/gallon | F76: 37803
C77: c. Gasohol E85 | E77: 17¢/gallon | F77: 39083
C78: d. Diesel | E78: 26¢/gallon | F78: 37803
C79: e. LPG | E79: 23¢/gallon | F79: 37803
C80: f. CNG * | E80: 23¢/gallon | F80: 37803
B81: * 120 cubic feet = one gallon
A82: 2. Computation of gross volume reported (page 1, item 1). | F82: Special Fuels
E83: Gasoline and Gasohol | F83: (Diesel and LPG)
B84: Gross sales from wholesaler/retailer returns | E84: =D14+E14 -> 113022762 | F84: =(+F28+F29+G29)-(F85-F86) -> 39391814
B85: Plus: IMC fuel volume used in state | F85: =1948667/0.26 -> 7494873.1
B86: Less: IMC fuel volume purchased tax paid in state
B87: ="= Gross consumption in State (enter on page 1, item 1)" -> = Gross consumption in State (enter on page 1, item 1) | E87: =(E84+E85)-E86 -> 113022762 | F87: =(F84+F85)-F86 -> 46886687
E89: Interstate motor carrier (fuel use tax) fuel volume shown above covers period:
F90: Diesel | G90: LP-Gas | H90: Combined
E91: * page 1, line 1 split | F91: =F14 -> 38574796 | G91: =G14 -> 817017.39 | H91: =F91+G91 -> 39391814
A92: 3. Stratification of gasohol by blend ratio
B94: The gasohol volume on page 1 column (2) includes: | E94: (show actual/estimated volume or percentage shares)
C96: Percent Alcohol | E96: Volume | F96: Percentage Share
D97: 5.7-7.6%
D98: 7.7-9.9%
D99: 10% or more | F99: 1
A101: 4. Notes and comments
A104: Note that diesel gallons include state, county and municipal government highway use, but does not include use by
A105: school buses.
A106: Line #26 (Assessments) - Assessments, either positive or negative, can be the result of audits, amended returns or
A107: office (KS Dept. of Revenue) assessments or abatements.
A124: Form FHWA-551M (Rev. 11-93) | E124: 2

Sheet Apr23
A1: The public report burden for this information is estimated to average 5.4 hours | H1: Form Approved OMB No. 2125-0032
H2: STATE
A3: U.S. Department of | H3: Kansas
A4: Transportation | H4: YEAR
E5: MONTHLY MOTOR-FUEL CONSUMPTION | H5: 2023
H6: MONTH OF SALE
A7: Federal Highway | H7: April
A8: Administration | H8: UNITS (check one)
H9: Gallons X
H10: Liters
C11: LI | F11: PRIVATE AND COMMERCIAL
B12: ITEM | C12: NE | D12: GASOLINE | E12: GASOHOL | F12: HWY DIESEL | G12: HWY LPG | H12: TOTAL
C13: # | D13: -1 | E13: -2 | F13: -3 | G13: -4 | H13: -5
A14: 1. Gross | B14: a. Gross Volume Reported | C14: 1 | D14: =D15+D21+D22 -> 8806760 | E14: =E15+E21+E22 -> 104051040 | F14: =(F16-F17)/0.26 -> 37540750 | G14: =(G16-G17)/0.23 -> 774386.96 | H14: =SUM(D14:G14) -> 1.5117294e+08
B15: Net After Deduction | D15: 8159113 | E15: 103927190
B16: Special Fuel Tax Receipts ($) | F16: 10032914 | G16: 178109
B17: Special Fuel Tax Refunds ($) | F17: 272319 | G17: 0
A18: Volume | B18: b. IFTA | C18: 2 | F18: =F85 -> 0
A19: 2. Fully | B19: a. Losses - Flat % | C19: 21 | D19: 193091 | E19: 2431253 | H19: =SUM(D19:G19) -> 2624344
A20: Tax | B20: b. Losses - Actual | C20: 22 | D20: 0 | E20: 0 | H20: =SUM(D20:G20) -> 0
A21: Exempt | B21: c. Federal | C21: 23 | D21: 54794 | E21: 123850 | H21: =SUM(D21:G21) -> 178644
B22: d. Aviation | C22: 24 | D22: 592853 | E22: 0 | H22: =SUM(D22:G22) -> 592853
B23: e. Native American | C23: 25 | D23: 0 | H23: =SUM(D23:G23) -> 0
B24: f. Assessments | C24: 26 | D24: 6900.1667 | H24: =SUM(D24:G24) -> 6900.1667
B25: g. | C25: 27 | H25: =SUM(D25:G25) -> 0
B26: h. | C26: 28 | H26: =SUM(D26:G26) -> 0
B27: i. | C27: 29 | H27: =SUM(D27:G27) -> 0
B28: j. Total (sum a. through e - f.) | C28: 30 | D28: =SUM(D19:D23)-D24 -> 833837.83 | E28: =SUM(E19:E23)-E24 -> 2555103 | F28: =SUM(F19:F23)-F24 -> 0 | G28: =SUM(G19:G23)-G24 -> 0 | H28: =SUM(H19:H23)-H24 -> 3388940.8
A29: 3. Gross Volume Taxed (1-2j) | C29: 40 | D29: =D14-D28 -> 7972922.2 | E29: =E14-E28 -> 101495937 | F29: =F14+F18-F28 -> 37540750 | G29: =G14-G28 -> 774386.96 | H29: =H14-H28 -> 1.47784e+08
A30: 4. Fully | B30: a. Agriculture | C30: 51 | D30: 17377 | E30: 16185 | H30: =SUM(D30:G30) -> 33562
A31: Refunded | B31: b. Aviation | C31: 52 | H31: =SUM(D31:G31) -> 0
B32: c. Industrial/Commercial | C32: 53 | H32: =SUM(D32:G32) -> 0
B33: d. Construction | C33: 54 | H33: =SUM(D33:G33) -> 0
B34: e. Marine | C34: 55 | H34: =SUM(D34:G34) -> 0
B35: f. Municipal and Counties | C35: 56 | D35: 3959 | H35: =SUM(D35:G35) -> 3959
B36: g. Other | C36: 57 | D36: 31329 | E36: 33575 | H36: =SUM(D36:G36) -> 64904
B37: h. | C37: 58 | H37: =SUM(D37:G37) -> 0
B38: i. | C38: 59 | H38: =SUM(D38:G38) -> 0
B39: j. | C39: 60 | H39: =SUM(D39:G39) -> 0
B40: k. | C40: 61
B41: l. | C41: 62
B42: m. | C42: 63
B43: n. | C43: 64
B44: o. | C44: 65
B45: p. | C45: 66
B46: q. | C46: 67
B47: r. Total (a. thru s.) | C47: 70 | D47: =SUM(D30:D41) -> 52665 | E47: =SUM(E30:E41) -> 49760 | F47: =SUM(F30:F41) -> 0 | G47: =SUM(G30:G41) -> 0 | H47: =SUM(H30:H41) -> 102425
A48: 5. Net | B48: a. At Full Rate | C48: 81 | D48: =D29-D47 -> 7920257.2 | E48: =E29-E47 -> 101446177 | F48: =F29-F47 -> 37540750 | G48: =G29-G47 -> 774386.96 | H48: =SUM(D48:G48) -> 1.4768157e+08
A49: Volume | B49: b. | C49: 82
A50: Taxed | B50: c. | C50: 83
A51: Taxed at | B51: d. | C51: 84
A52: initial lower | B52: e. | C52: 85
A53: rate, partially | B53: f. | C53: 86
A54: exempt or | B54: g. | C54: 87
A55: partially | B55: h. | C55: 88
A56: refunded | B56: i. | C56: 89
B57: j. Total (a thru i, 3-4t) | C57: 90 | D57: =SUM(D48:D56) -> 7920257.2 | E57: =SUM(E48:E56) -> 101446177 | F57: =SUM(F48:F56) -> 37540750 | G57: =SUM(G48:G56) -> 774386.96 | H57: =SUM(H48:H56) -> 1.4768157e+08
B58: Calendar Year Cumulation | D58: =D57+'Mar23'!D58 -> 32131882 | E58: =E57+'Mar23'!E58 -> 385903509 | F58: =F57+'Mar23'!F58 -> 1.5369002e+08 | G58: =G57+'Mar23'!G58 -> 3534804.3 | H58: =H57+'Mar23'!H58 -> 5.7526021e+08
A59: 6. Source | B59: a. Agency Preparing this Report:
B60: Kansas Department of Revenue, Office of Research and Analysis
B61: b. Compiled under Direction of: | G61: c. Date
B62: Mark Burghart, Secretary of Revenue
E63: PREVIOUS EDITIONS OBSOLETE | H63: (Next Page)
E64: 1
H67: =H2 -> STATE
H68: =H3 -> Kansas
D69: NOTES AND TECHNICAL INFORMATION | H69: =H4 -> YEAR
H70: =H5 -> 2023
H71: =H6 -> MONTH OF SALE
H72: =H7 -> April
A73: 1. Rate of tax at end month, in cents-per-gallon/liter. | D73: (If tax is ad valorem, post percentage, and briefly explain application basis below.)
E74: Rate | F74: Effective Date
C75: a. Gasoline | E75: 24¢/gallon | F75: 37803
C76: b. Gasohol | E76: 24¢/gallon | F76: 37803
C77: c. Gasohol E85 | E77: 17¢/gallon | F77: 39083
C78: d. Diesel | E78: 26¢/gallon | F78: 37803
C79: e. LPG | E79: 23¢/gallon | F79: 37803
C80: f. CNG * | E80: 23¢/gallon | F80: 37803
B81: * 120 cubic feet = one gallon
A82: 2. Computation of gross volume reported (page 1, item 1). | F82: Special Fuels
E83: Gasoline and Gasohol | F83: (Diesel and LPG)
B84: Gross sales from wholesaler/retailer returns | E84: =D14+E14 -> 112857800 | F84: =(+F28+F29+G29)-(F85-F86) -> 38315137
B85: Plus: IMC fuel volume used in state | F85: =0/0.26 -> 0
B86: Less: IMC fuel volume purchased tax paid in state
B87: ="= Gross consumption in State (enter on page 1, item 1)" -> = Gross consumption in State (enter on page 1, item 1) | E87: =(E84+E85)-E86 -> 112857800 | F87: =(F84+F85)-F86 -> 38315137
E89: Interstate motor carrier (fuel use tax) fuel volume shown above covers period:
F90: Diesel | G90: LP-Gas | H90: Combined
E91: * page 1, line 1 split | F91: =F14 -> 37540750 | G91: =G14 -> 774386.96 | H91: =F91+G91 -> 38315137
A92: 3. Stratification of gasohol by blend ratio
B94: The gasohol volume on page 1 column (2) includes: | E94: (show actual/estimated volume or percentage shares)
C96: Percent Alcohol | E96: Volume | F96: Percentage Share
D97: 5.7-7.6%
D98: 7.7-9.9%
D99: 10% or more | F99: 1
A101: 4. Notes and comments
A104: Note that diesel gallons include state, county and municipal government highway use, but does not include use by
A105: school buses.
A106: Line #26 (Assessments) - Assessments, either positive or negative, can be the result of audits, amended returns or
A107: office (KS Dept. of Revenue) assessments or abatements.
A124: Form FHWA-551M (Rev. 11-93) | E124: 2

Sheet May23
A1: The public report burden for this information is estimated to average 5.4 hours | H1: Form Approved OMB No. 2125-0032
H2: STATE
A3: U.S. Department of | H3: Kansas
A4: Transportation | H4: YEAR
E5: MONTHLY MOTOR-FUEL CONSUMPTION | H5: 2023
H6: MONTH OF SALE
A7: Federal Highway | H7: May
A8: Administration | H8: UNITS (check one)
H9: Gallons X
H10: Liters
C11: LI | F11: PRIVATE AND COMMERCIAL
B12: ITEM | C12: NE | D12: GASOLINE | E12: GASOHOL | F12: HWY DIESEL | G12: HWY LPG | H12: TOTAL
C13: # | D13: -1 | E13: -2 | F13: -3 | G13: -4 | H13: -5
A14: 1. Gross | B14: a. Gross Volume Reported | C14: 1 | D14: =D15+D21+D22 -> 9287523 | E14: =E15+E21+E22 -> 109487612 | F14: =(F16-F17)/0.26 -> 39616346 | G14: =(G16-G17)/0.23 -> 905521.74 | H14: =SUM(D14:G14) -> 1.59297e+08
B15: Net After Deduction | D15: 8661387 | E15: 109351812
B16: Special Fuel Tax Receipts ($) | F16: 10500599 | G16: 208270
B17: Special Fuel Tax Refunds ($) | F17: 200349 | G17: 0
A18: Volume | B18: b. IFTA | C18: 2 | F18: =F85 -> 0
A19: 2. Fully | B19: a. Losses - Flat % | C19: 21 | D19: 205260 | E19: 2562710 | H19: =SUM(D19:G19) -> 2767970
A20: Tax | B20: b. Losses - Actual | C20: 22 | E20: 7052 | H20: =SUM(D20:G20) -> 7052
A21: Exempt | B21: c. Federal | C21: 23 | D21: 50437 | E21: 135800 | H21: =SUM(D21:G21) -> 186237
B22: d. Aviation | C22: 24 | D22: 575699 | E22: 0 | H22: =SUM(D22:G22) -> 575699
B23: e. Native American | C23: 25 | H23: =SUM(D23:G23) -> 0
B24: f. Assessments | C24: 26 | D24: 8935.2917 | H24: =SUM(D24:G24) -> 8935.2917
B25: g. | C25: 27 | H25: =SUM(D25:G25) -> 0
B26: h. | C26: 28 | H26: =SUM(D26:G26) -> 0
B27: i. | C27: 29 | H27: =SUM(D27:G27) -> 0
B28: j. Total (sum a. through e - f.) | C28: 30 | D28: =SUM(D19:D23)-D24 -> 822460.71 | E28: =SUM(E19:E23)-E24 -> 2705562 | F28: =SUM(F19:F23)-F24 -> 0 | G28: =SUM(G19:G23)-G24 -> 0 | H28: =SUM(H19:H23)-H24 -> 3528022.7
A29: 3. Gross Volume Taxed (1-2j) | C29: 40 | D29: =D14-D28 -> 8465062.3 | E29: =E14-E28 -> 106782050 | F29: =F14+F18-F28 -> 39616346 | G29: =G14-G28 -> 905521.74 | H29: =H14-H28 -> 1.5576898e+08
A30: 4. Fully | B30: a. Agriculture | C30: 51 | D30: 4358 | H30: =SUM(D30:G30) -> 4358
A31: Refunded | B31: b. Aviation | C31: 52 | H31: =SUM(D31:G31) -> 0
B32: c. Industrial/Commercial | C32: 53 | H32: =SUM(D32:G32) -> 0
B33: d. Construction | C33: 54 | H33: =SUM(D33:G33) -> 0
B34: e. Marine | C34: 55 | H34: =SUM(D34:G34) -> 0
B35: f. Municipal and Counties | C35: 56 | H35: =SUM(D35:G35) -> 0
B36: g. Other | C36: 57 | D36: 2537 | E36: 4067 | H36: =SUM(D36:G36) -> 6604
B37: h. | C37: 58 | H37: =SUM(D37:G37) -> 0
B38: i. | C38: 59 | H38: =SUM(D38:G38) -> 0
B39: j. | C39: 60 | H39: =SUM(D39:G39) -> 0
B40: k. | C40: 61
B41: l. | C41: 62
B42: m. | C42: 63
B43: n. | C43: 64
B44: o. | C44: 65
B45: p. | C45: 66
B46: q. | C46: 67
B47: r. Total (a. thru s.) | C47: 70 | D47: =SUM(D30:D41) -> 6895 | E47: =SUM(E30:E41) -> 4067 | F47: =SUM(F30:F41) -> 0 | G47: =SUM(G30:G41) -> 0 | H47: =SUM(H30:H41) -> 10962
A48: 5. Net | B48: a. At Full Rate | C48: 81 | D48: =D29-D47 -> 8458167.3 | E48: =E29-E47 -> 106777983 | F48: =F29-F47 -> 39616346 | G48: =G29-G47 -> 905521.74 | H48: =SUM(D48:G48) -> 1.5575802e+08
A49: Volume | B49: b. | C49: 82
A50: Taxed | B50: c. | C50: 83
A51: Taxed at | B51: d. | C51: 84
A52: initial lower | B52: e. | C52: 85
A53: rate, partially | B53: f. | C53: 86
A54: exempt or | B54: g. | C54: 87
A55: partially | B55: h. | C55: 88
A56: refunded | B56: i. | C56: 89
B57: j. Total (a thru i, 3-4t) | C57: 90 | D57: =SUM(D48:D56) -> 8458167.3 | E57: =SUM(E48:E56) -> 106777983 | F57: =SUM(F48:F56) -> 39616346 | G57: =SUM(G48:G56) -> 905521.74 | H57: =SUM(H48:H56) -> 1.5575802e+08
B58: Calendar Year Cumulation | D58: =D57+'Apr23'!D58 -> 40590050 | E58: =E57+'Apr23'!E58 -> 492681492 | F58: =F57+'Apr23'!F58 -> 1.9330637e+08 | G58: =G57+'Apr23'!G58 -> 4440326.1 | H58: =H57+'Apr23'!H58 -> 7.3101823e+08
A59: 6. Source | B59: a. Agency Preparing this Report:
B60: Kansas Department of Revenue, Office of Research and Analysis
B61: b. Compiled under Direction of: | G61: c. Date
B62: Mark Burghart, Secretary of Revenue
E63: PREVIOUS EDITIONS OBSOLETE | H63: (Next Page)
E64: 1
H67: =H2 -> STATE
H68: =H3 -> Kansas
D69: NOTES AND TECHNICAL INFORMATION | H69: =H4 -> YEAR
H70: =H5 -> 2023
H71: =H6 -> MONTH OF SALE
H72: =H7 -> May
A73: 1. Rate of tax at end month, in cents-per-gallon/liter. | D73: (If tax is ad valorem, post percentage, and briefly explain application basis below.)
E74: Rate | F74: Effective Date
C75: a. Gasoline | E75: 24¢/gallon | F75: 37803
C76: b. Gasohol | E76: 24¢/gallon | F76: 37803
C77: c. Gasohol E85 | E77: 17¢/gallon | F77: 39083
C78: d. Diesel | E78: 26¢/gallon | F78: 37803
C79: e. LPG | E79: 23¢/gallon | F79: 37803
C80: f. CNG * | E80: 23¢/gallon | F80: 37803
B81: * 120 cubic feet = one gallon
A82: 2. Computation of gross volume reported (page 1, item 1). | F82: Special Fuels
E83: Gasoline and Gasohol | F83: (Diesel and LPG)
B84: Gross sales from wholesaler/retailer returns | E84: =D14+E14 -> 118775135 | F84: =(+F28+F29+G29)-(F85-F86) -> 40521868
B85: Plus: IMC fuel volume used in state | F85: =0/0.26 -> 0
B86: Less: IMC fuel volume purchased tax paid in state
B87: ="= Gross consumption in State (enter on page 1, item 1)" -> = Gross consumption in State (enter on page 1, item 1) | E87: =(E84+E85)-E86 -> 118775135 | F87: =(F84+F85)-F86 -> 40521868
E89: Interstate motor carrier (fuel use tax) fuel volume shown above covers period:
F90: Diesel | G90: LP-Gas | H90: Combined
E91: * page 1, line 1 split | F91: =F14 -> 39616346 | G91: =G14 -> 905521.74 | H91: =F91+G91 -> 40521868
A92: 3. Stratification of gasohol by blend ratio
B94: The gasohol volume on page 1 column (2) includes: | E94: (show actual/estimated volume or percentage shares)
C96: Percent Alcohol | E96: Volume | F96: Percentage Share
D97: 5.7-7.6%
D98: 7.7-9.9%
D99: 10% or more | F99: 1
A101: 4. Notes and comments
A104: Note that diesel gallons include state, county and municipal government highway use, but does not include use by
A105: school buses.
A106: Line #26 (Assessments) - Assessments, either positive or negative, can be the result of audits, amended returns or
A107: office (KS Dept. of Revenue) assessments or abatements.
A124: Form FHWA-551M (Rev. 11-93) | E124: 2

Sheet June23
A1: The public report burden for this information is estimated to average 5.4 hours | H1: Form Approved OMB No. 2125-0032
H2: STATE
A3: U.S. Department of | H3: Kansas
A4: Transportation | H4: YEAR
E5: MONTHLY MOTOR-FUEL CONSUMPTION | H5: 2023
H6: MONTH OF SALE
A7: Federal Highway | H7: June
A8: Administration | H8: UNITS (check one)
H9: Gallons X
H10: Liters
C11: LI | F11: PRIVATE AND COMMERCIAL
B12: ITEM | C12: NE | D12: GASOLINE | E12: GASOHOL | F12: HWY DIESEL | G12: HWY LPG | H12: TOTAL
C13: # | D13: -1 | E13: -2 | F13: -3 | G13: -4 | H13: -5
A14: 1. Gross | B14: a. Gross Volume Reported | C14: 1 | D14: =D15+D21+D22 -> 9454366 | E14: =E15+E21+E22 -> 106586368 | F14: =(F16-F17)/0.26 -> 41365327 | G14: =(G16-G17)/0.23 -> 1290865.2 | H14: =SUM(D14:G14) -> 1.5869693e+08
B15: Net After Deduction | D15: 8663491 | E15: 106507656
B16: Special Fuel Tax Receipts ($) | F16: 10881762 | G16: 296899
B17: Special Fuel Tax Refunds ($) | F17: 126777
A18: Volume | B18: b. IFTA | C18: 2 | F18: =F85 -> 7468415.4
A19: 2. Fully | B19: a. Losses - Flat % | C19: 21 | D19: 205625 | E19: 2496173 | H19: =SUM(D19:G19) -> 2701798
A20: Tax | B20: b. Losses - Actual | C20: 22 | H20: =SUM(D20:G20) -> 0
A21: Exempt | B21: c. Federal | C21: 23 | D21: 47883 | E21: 78712 | H21: =SUM(D21:G21) -> 126595
B22: d. Aviation | C22: 24 | D22: 742992 | E22: 0 | H22: =SUM(D22:G22) -> 742992
B23: e. Native American | C23: 25 | H23: =SUM(D23:G23) -> 0
B24: f. Assessments | C24: 26 | D24: -4560.4167 | H24: =SUM(D24:G24) -> -4560.4167
B25: g. | C25: 27 | H25: =SUM(D25:G25) -> 0
B26: h. | C26: 28 | H26: =SUM(D26:G26) -> 0
B27: i. | C27: 29 | H27: =SUM(D27:G27) -> 0
B28: j. Total (sum a. through e - f.) | C28: 30 | D28: =SUM(D19:D23)-D24 -> 1001060.4 | E28: =SUM(E19:E23)-E24 -> 2574885 | F28: =SUM(F19:F23)-F24 -> 0 | G28: =SUM(G19:G23)-G24 -> 0 | H28: =SUM(H19:H23)-H24 -> 3575945.4
A29: 3. Gross Volume Taxed (1-2j) | C29: 40 | D29: =D14-D28 -> 8453305.6 | E29: =E14-E28 -> 104011483 | F29: =F14+F18-F28 -> 48833742 | G29: =G14-G28 -> 1290865.2 | H29: =H14-H28 -> 1.5512098e+08
A30: 4. Fully | B30: a. Agriculture | C30: 51 | D30: 5673 | E30: 2000 | H30: =SUM(D30:G30) -> 7673
A31: Refunded | B31: b. Aviation | C31: 52 | H31: =SUM(D31:G31) -> 0
B32: c. Industrial/Commercial | C32: 53 | H32: =SUM(D32:G32) -> 0
B33: d. Construction | C33: 54 | H33: =SUM(D33:G33) -> 0
B34: e. Marine | C34: 55 | H34: =SUM(D34:G34) -> 0
B35: f. Municipal and Counties | C35: 56 | H35: =SUM(D35:G35) -> 0
B36: g. Other | C36: 57 | D36: 3074 | E36: 36234 | H36: =SUM(D36:G36) -> 39308
B37: h. | C37: 58 | H37: =SUM(D37:G37) -> 0
B38: i. | C38: 59 | H38: =SUM(D38:G38) -> 0
B39: j. | C39: 60 | H39: =SUM(D39:G39) -> 0
B40: k. | C40: 61
B41: l. | C41: 62
B42: m. | C42: 63
B43: n. | C43: 64
B44: o. | C44: 65
B45: p. | C45: 66
B46: q. | C46: 67
B47: r. Total (a. thru s.) | C47: 70 | D47: =SUM(D30:D41) -> 8747 | E47: =SUM(E30:E41) -> 38234 | F47: =SUM(F30:F41) -> 0 | G47: =SUM(G30:G41) -> 0 | H47: =SUM(H30:H41) -> 46981
A48: 5. Net | B48: a. At Full Rate | C48: 81 | D48: =D29-D47 -> 8444558.6 | E48: =E29-E47 -> 103973249 | F48: =F29-F47 -> 48833742 | G48: =G29-G47 -> 1290865.2 | H48: =SUM(D48:G48) -> 1.6254242e+08
A49: Volume | B49: b. | C49: 82
A50: Taxed | B50: c. | C50: 83
A51: Taxed at | B51: d. | C51: 84
A52: initial lower | B52: e. | C52: 85
A53: rate, partially | B53: f. | C53: 86
A54: exempt or | B54: g. | C54: 87
A55: partially | B55: h. | C55: 88
A56: refunded | B56: i. | C56: 89
B57: j. Total (a thru i, 3-4t) | C57: 90 | D57: =SUM(D48:D56) -> 8444558.6 | E57: =SUM(E48:E56) -> 103973249 | F57: =SUM(F48:F56) -> 48833742 | G57: =SUM(G48:G56) -> 1290865.2 | H57: =SUM(H48:H56) -> 1.6254242e+08
B58: Calendar Year Cumulation | D58: =D57+'May23'!D58 -> 49034608 | E58: =E57+'May23'!E58 -> 596654741 | F58: =F57+'May23'!F58 -> 2.4214011e+08 | G58: =G57+'May23'!G58 -> 5731191.3 | H58: =H57+'May23'!H58 -> 8.9356065e+08
A59: 6. Source | B59: a. Agency Preparing this Report:
B60: Kansas Department of Revenue, Office of Research and Analysis
B61: b. Compiled under Direction of: | G61: c. Date
B62: Mark Burghart, Secretary of Revenue
E63: PREVIOUS EDITIONS OBSOLETE | H63: (Next Page)
E64: 1
H67: =H2 -> STATE
H68: =H3 -> Kansas
D69: NOTES AND TECHNICAL INFORMATION | H69: =H4 -> YEAR
H70: =H5 -> 2023
H71: =H6 -> MONTH OF SALE
H72: =H7 -> June
A73: 1. Rate of tax at end month, in cents-per-gallon/liter. | D73: (If tax is ad valorem, post percentage, and briefly explain application basis below.)
E74: Rate | F74: Effective Date
C75: a. Gasoline | E75: 24¢/gallon | F75: 37803
C76: b. Gasohol | E76: 24¢/gallon | F76: 37803
C77: c. Gasohol E85 | E77: 17¢/gallon | F77: 39083
C78: d. Diesel | E78: 26¢/gallon | F78: 37803
C79: e. LPG | E79: 23¢/gallon | F79: 37803
C80: f. CNG * | E80: 23¢/gallon | F80: 37803
B81: * 120 cubic feet = one gallon
A82: 2. Computation of gross volume reported (page 1, item 1). | F82: Special Fuels
E83: Gasoline and Gasohol | F83: (Diesel and LPG)
B84: Gross sales from wholesaler/retailer returns | E84: =D14+E14 -> 116040734 | F84: =(+F28+F29+G29)-(F85-F86) -> 42656192
B85: Plus: IMC fuel volume used in state | F85: =1941788/0.26 -> 7468415.4
B86: Less: IMC fuel volume purchased tax paid in state
B87: ="= Gross consumption in State (enter on page 1, item 1)" -> = Gross consumption in State (enter on page 1, item 1) | E87: =(E84+E85)-E86 -> 116040734 | F87: =(F84+F85)-F86 -> 50124608
E89: Interstate motor carrier (fuel use tax) fuel volume shown above covers period:
F90: Diesel | G90: LP-Gas | H90: Combined
E91: * page 1, line 1 split | F91: =F14 -> 41365327 | G91: =G14 -> 1290865.2 | H91: =F91+G91 -> 42656192
A92: 3. Stratification of gasohol by blend ratio
B94: The gasohol volume on page 1 column (2) includes: | E94: (show actual/estimated volume or percentage shares)
C96: Percent Alcohol | E96: Volume | F96: Percentage Share
D97: 5.7-7.6%
D98: 7.7-9.9%
D99: 10% or more | F99: 1
A101: 4. Notes and comments
A104: Note that diesel gallons include state, county and municipal government highway use, but does not include use by
A105: school buses.
A106: Line #26 (Assessments) - Assessments, either positive or negative, can be the result of audits, amended returns or
A107: office (KS Dept. of Revenue) assessments or abatements.
A124: Form FHWA-551M (Rev. 11-93) | E124: 2

Sheet July23
A1: The public report burden for this information is estimated to average 5.4 hours | H1: Form Approved OMB No. 2125-0032
H2: STATE
A3: U.S. Department of | H3: Kansas
A4: Transportation | H4: YEAR
E5: MONTHLY MOTOR-FUEL CONSUMPTION | H5: 2023
H6: MONTH OF SALE
A7: Federal Highway | H7: July
A8: Administration | H8: UNITS (check one)
H9: Gallons X
H10: Liters
C11: LI | F11: PRIVATE AND COMMERCIAL
B12: ITEM | C12: NE | D12: GASOLINE | E12: GASOHOL | F12: HWY DIESEL | G12: HWY LPG | H12: TOTAL
C13: # | D13: -1 | E13: -2 | F13: -3 | G13: -4 | H13: -5
A14: 1. Gross | B14: a. Gross Volume Reported | C14: 1 | D14: =D15+D21+D22 -> 9705528 | E14: =E15+E21+E22 -> 107337275 | F14: =(F16-F17)/0.26 -> 37357277 | G14: =(G16-G17)/0.23 -> 271926.09 | H14: =SUM(D14:G14) -> 1.5467201e+08
B15: Net After Deduction | D15: 8854374 | E15: 107198453
B16: Special Fuel Tax Receipts ($) | F16: 9784585 | G16: 62543
B17: Special Fuel Tax Refunds ($) | F17: 71693
A18: Volume | B18: b. IFTA | C18: 2 | F18: =F85 -> 0
A19: 2. Fully | B19: a. Losses - Flat % | C19: 21 | D19: 210598 | E19: 2509282 | H19: =SUM(D19:G19) -> 2719880
A20: Tax | B20: b. Losses - Actual | C20: 22 | H20: =SUM(D20:G20) -> 0
A21: Exempt | B21: c. Federal | C21: 23 | D21: 49623 | E21: 138822 | H21: =SUM(D21:G21) -> 188445
B22: d. Aviation | C22: 24 | D22: 801531 | E22: 0 | H22: =SUM(D22:G22) -> 801531
B23: e. Native American | C23: 25 | H23: =SUM(D23:G23) -> 0
B24: f. Assessments | C24: 26 | D24: -14092912 | H24: =SUM(D24:G24) -> -14092912
B25: g. | C25: 27 | H25: =SUM(D25:G25) -> 0
B26: h. | C26: 28 | H26: =SUM(D26:G26) -> 0
B27: i. | C27: 29 | H27: =SUM(D27:G27) -> 0
B28: j. Total (sum a. through e - f.) | C28: 30 | D28: =SUM(D19:D23)-D24 -> 15154664 | E28: =SUM(E19:E23)-E24 -> 2648104 | F28: =SUM(F19:F23)-F24 -> 0 | G28: =SUM(G19:G23)-G24 -> 0 | H28: =SUM(H19:H23)-H24 -> 17802768
A29: 3. Gross Volume Taxed (1-2j) | C29: 40 | D29: =D14-D28 -> -5449135.9 | E29: =E14-E28 -> 104689171 | F29: =F14+F18-F28 -> 37357277 | G29: =G14-G28 -> 271926.09 | H29: =H14-H28 -> 1.3686924e+08
A30: 4. Fully | B30: a. Agriculture | C30: 51 | D30: 4319 | E30: 3361 | H30: =SUM(D30:G30) -> 7680
A31: Refunded | B31: b. Aviation | C31: 52 | H31: =SUM(D31:G31) -> 0
B32: c. Industrial/Commercial | C32: 53 | H32: =SUM(D32:G32) -> 0
B33: d. Construction | C33: 54 | H33: =SUM(D33:G33) -> 0
B34: e. Marine | C34: 55 | H34: =SUM(D34:G34) -> 0
B35: f. Municipal and Counties | C35: 56 | H35: =SUM(D35:G35) -> 0
B36: g. Other | C36: 57 | D36: 7902 | E36: 99169 | H36: =SUM(D36:G36) -> 107071
B37: h. | C37: 58 | H37: =SUM(D37:G37) -> 0
B38: i. | C38: 59 | H38: =SUM(D38:G38) -> 0
B39: j. | C39: 60 | H39: =SUM(D39:G39) -> 0
B40: k. | C40: 61
B41: l. | C41: 62
B42: m. | C42: 63
B43: n. | C43: 64
B44: o. | C44: 65
B45: p. | C45: 66
B46: q. | C46: 67
B47: r. Total (a. thru s.) | C47: 70 | D47: =SUM(D30:D41) -> 12221 | E47: =SUM(E30:E41) -> 102530 | F47: =SUM(F30:F41) -> 0 | G47: =SUM(G30:G41) -> 0 | H47: =SUM(H30:H41) -> 114751
A48: 5. Net | B48: a. At Full Rate | C48: 81 | D48: =D29-D47 -> -5461356.9 | E48: =E29-E47 -> 104586641 | F48: =F29-F47 -> 37357277 | G48: =G29-G47 -> 271926.09 | H48: =SUM(D48:G48) -> 1.3675449e+08
A49: Volume | B49: b. | C49: 82
A50: Taxed | B50: c. | C50: 83
A51: Taxed at | B51: d. | C51: 84
A52: initial lower | B52: e. | C52: 85
A53: rate, partially | B53: f. | C53: 86
A54: exempt or | B54: g. | C54: 87
A55: partially | B55: h. | C55: 88
A56: refunded | B56: i. | C56: 89
B57: j. Total (a thru i, 3-4t) | C57: 90 | D57: =SUM(D48:D56) -> -5461356.9 | E57: =SUM(E48:E56) -> 104586641 | F57: =SUM(F48:F56) -> 37357277 | G57: =SUM(G48:G56) -> 271926.09 | H57: =SUM(H48:H56) -> 1.3675449e+08
B58: Calendar Year Cumulation | D58: =D57+June23!D58 -> 43573251 | E58: =E57+June23!E58 -> 701241382 | F58: =F57+June23!F58 -> 2.7949738e+08 | G58: =G57+June23!G58 -> 6003117.4 | H58: =H57+June23!H58 -> 1.0303151e+09
A59: 6. Source | B59: a. Agency Preparing this Report:
B60: Kansas Department of Revenue, Office of Research and Analysis
B61: b. Compiled under Direction of: | G61: c. Date
B62: Mark Burghart, Secretary of Revenue
E63: PREVIOUS EDITIONS OBSOLETE | H63: (Next Page)
E64: 1
H67: =H2 -> STATE
H68: =H3 -> Kansas
D69: NOTES AND TECHNICAL INFORMATION | H69: =H4 -> YEAR
H70: =H5 -> 2023
H71: =H6 -> MONTH OF SALE
H72: =H7 -> July
A73: 1. Rate of tax at end month, in cents-per-gallon/liter. | D73: (If tax is ad valorem, post percentage, and briefly explain application basis below.)
E74: Rate | F74: Effective Date
C75: a. Gasoline | E75: 24¢/gallon | F75: 37803
C76: b. Gasohol | E76: 24¢/gallon | F76: 37803
C77: c. Gasohol E85 | E77: 17¢/gallon | F77: 39083
C78: d. Diesel | E78: 26¢/gallon | F78: 37803
C79: e. LPG | E79: 23¢/gallon | F79: 37803
C80: f. CNG * | E80: 23¢/gallon | F80: 37803
B81: * 120 cubic feet = one gallon
A82: 2. Computation of gross volume reported (page 1, item 1). | F82: Special Fuels
E83: Gasoline and Gasohol | F83: (Diesel and LPG)
B84: Gross sales from wholesaler/retailer returns | E84: =D14+E14 -> 117042803 | F84: =(+F28+F29+G29)-(F85-F86) -> 37629203
B85: Plus: IMC fuel volume used in state | F85: =0/0.26 -> 0
B86: Less: IMC fuel volume purchased tax paid in state
B87: ="= Gross consumption in State (enter on page 1, item 1)" -> = Gross consumption in State (enter on page 1, item 1) | E87: =(E84+E85)-E86 -> 117042803 | F87: =(F84+F85)-F86 -> 37629203
E89: Interstate motor carrier (fuel use tax) fuel volume shown above covers period:
F90: Diesel | G90: LP-Gas | H90: Combined
E91: * page 1, line 1 split | F91: =F14 -> 37357277 | G91: =G14 -> 271926.09 | H91: =F91+G91 -> 37629203
A92: 3. Stratification of gasohol by blend ratio
B94: The gasohol volume on page 1 column (2) includes: | E94: (show actual/estimated volume or percentage shares)
C96: Percent Alcohol | E96: Volume | F96: Percentage Share
D97: 5.7-7.6%
D98: 7.7-9.9%
D99: 10% or more | F99: 1
A101: 4. Notes and comments
A104: Note that diesel gallons include state, county and municipal government highway use, but does not include use by
A105: school buses.
A106: Line #26 (Assessments) - Assessments, either positive or negative, can be the result of audits, amended returns or
A107: office (KS Dept. of Revenue) assessments or abatements.
A124: Form FHWA-551M (Rev. 11-93) | E124: 2

Sheet Aug23
A1: The public report burden for this information is estimated to average 5.4 hours | H1: Form Approved OMB No. 2125-0032
H2: STATE
A3: U.S. Department of | H3: Kansas
A4: Transportation | H4: YEAR
E5: MONTHLY MOTOR-FUEL CONSUMPTION | H5: 2023
H6: MONTH OF SALE
A7: Federal Highway | H7: August
A8: Administration | H8: UNITS (check one)
H9: Gallons X
H10: Liters
C11: LI | F11: PRIVATE AND COMMERCIAL
B12: ITEM | C12: NE | D12: GASOLINE | E12: GASOHOL | F12: HWY DIESEL | G12: HWY LPG | H12: TOTAL
C13: # | D13: -1 | E13: -2 | F13: -3 | G13: -4 | H13: -5
A14: 1. Gross | B14: a. Gross Volume Reported | C14: 1 | D14: =D15+D21+D22 -> 8962108 | E14: =E15+E21+E22 -> 109122618 | F14: =(F16-F17)/0.26 -> 36410819 | G14: =(G16-G17)/0.23 -> 1262265.2 | H14: =SUM(D14:G14) -> 1.5575781e+08
B15: Net After Deduction | D15: 8335937 | E15: 108965299
B16: Special Fuel Tax Receipts ($) | F16: 10202608 | G16: 290321
B17: Special Fuel Tax Refunds ($) | F17: 735795
A18: Volume | B18: b. IFTA | C18: 2 | F18: =F85 -> 0
A19: 2. Fully | B19: a. Losses - Flat % | C19: 21 | D19: 197469 | E19: 2556037 | H19: =SUM(D19:G19) -> 2753506
A20: Tax | B20: b. Losses - Actual | C20: 22 | H20: =SUM(D20:G20) -> 0
A21: Exempt | B21: c. Federal | C21: 23 | D21: 53083 | E21: 157319 | H21: =SUM(D21:G21) -> 210402
B22: d. Aviation | C22: 24 | D22: 573088 | E22: 0 | H22: =SUM(D22:G22) -> 573088
B23: e. Native American | C23: 25 | H23: =SUM(D23:G23) -> 0
B24: f. Assessments | C24: 26 | D24: -20474.333 | H24: =SUM(D24:G24) -> -20474.333
B25: g. | C25: 27 | H25: =SUM(D25:G25) -> 0
B26: h. | C26: 28 | H26: =SUM(D26:G26) -> 0
B27: i. | C27: 29 | H27: =SUM(D27:G27) -> 0
B28: j. Total (sum a. through e - f.) | C28: 30 | D28: =SUM(D19:D23)-D24 -> 844114.33 | E28: =SUM(E19:E23)-E24 -> 2713356 | F28: =SUM(F19:F23)-F24 -> 0 | G28: =SUM(G19:G23)-G24 -> 0 | H28: =SUM(H19:H23)-H24 -> 3557470.3
A29: 3. Gross Volume Taxed (1-2j) | C29: 40 | D29: =D14-D28 -> 8117993.7 | E29: =E14-E28 -> 106409262 | F29: =F14+F18-F28 -> 36410819 | G29: =G14-G28 -> 1262265.2 | H29: =H14-H28 -> 1.5220034e+08
A30: 4. Fully | B30: a. Agriculture | C30: 51 | D30: 5400 | E30: 4879 | H30: =SUM(D30:G30) -> 10279
A31: Refunded | B31: b. Aviation | C31: 52 | H31: =SUM(D31:G31) -> 0
B32: c. Industrial/Commercial | C32: 53 | H32: =SUM(D32:G32) -> 0
B33: d. Construction | C33: 54 | H33: =SUM(D33:G33) -> 0
B34: e. Marine | C34: 55 | H34: =SUM(D34:G34) -> 0
B35: f. Municipal and Counties | C35: 56 | H35: =SUM(D35:G35) -> 0
B36: g. Other | C36: 57 | D36: 8063 | E36: 11815 | H36: =SUM(D36:G36) -> 19878
B37: h. | C37: 58 | H37: =SUM(D37:G37) -> 0
B38: i. | C38: 59 | H38: =SUM(D38:G38) -> 0
B39: j. | C39: 60 | H39: =SUM(D39:G39) -> 0
B40: k. | C40: 61
B41: l. | C41: 62
B42: m. | C42: 63
B43: n. | C43: 64
B44: o. | C44: 65
B45: p. | C45: 66
B46: q. | C46: 67
B47: r. Total (a. thru s.) | C47: 70 | D47: =SUM(D30:D41) -> 13463 | E47: =SUM(E30:E41) -> 16694 | F47: =SUM(F30:F41) -> 0 | G47: =SUM(G30:G41) -> 0 | H47: =SUM(H30:H41) -> 30157
A48: 5. Net | B48: a. At Full Rate | C48: 81 | D48: =D29-D47 -> 8104530.7 | E48: =E29-E47 -> 106392568 | F48: =F29-F47 -> 36410819 | G48: =G29-G47 -> 1262265.2 | H48: =SUM(D48:G48) -> 1.5217018e+08
A49: Volume | B49: b. | C49: 82
A50: Taxed | B50: c. | C50: 83
A51: Taxed at | B51: d. | C51: 84
A52: initial lower | B52: e. | C52: 85
A53: rate, partially | B53: f. | C53: 86
A54: exempt or | B54: g. | C54: 87
A55: partially | B55: h. | C55: 88
A56: refunded | B56: i. | C56: 89
B57: j. Total (a thru i, 3-4t) | C57: 90 | D57: =SUM(D48:D56) -> 8104530.7 | E57: =SUM(E48:E56) -> 106392568 | F57: =SUM(F48:F56) -> 36410819 | G57: =SUM(G48:G56) -> 1262265.2 | H57: =SUM(H48:H56) -> 1.5217018e+08
B58: Calendar Year Cumulation | D58: =D57+July23!D58 -> 51677782 | E58: =E57+July23!E58 -> 807633950 | F58: =F57+July23!F58 -> 3.159082e+08 | G58: =G57+July23!G58 -> 7265382.6 | H58: =H57+July23!H58 -> 1.1824853e+09
A59: 6. Source | B59: a. Agency Preparing this Report:
B60: Kansas Department of Revenue, Office of Research and Analysis
B61: b. Compiled under Direction of: | G61: c. Date
B62: Mark Burghart, Secretary of Revenue
E63: PREVIOUS EDITIONS OBSOLETE | H63: (Next Page)
E64: 1
H67: =H2 -> STATE
H68: =H3 -> Kansas
D69: NOTES AND TECHNICAL INFORMATION | H69: =H4 -> YEAR
H70: =H5 -> 2023
H71: =H6 -> MONTH OF SALE
H72: =H7 -> August
A73: 1. Rate of tax at end month, in cents-per-gallon/liter. | D73: (If tax is ad valorem, post percentage, and briefly explain application basis below.)
E74: Rate | F74: Effective Date
C75: a. Gasoline | E75: 24¢/gallon | F75: 37803
C76: b. Gasohol | E76: 24¢/gallon | F76: 37803
C77: c. Gasohol E85 | E77: 17¢/gallon | F77: 39083
C78: d. Diesel | E78: 26¢/gallon | F78: 37803
C79: e. LPG | E79: 23¢/gallon | F79: 37803
C80: f. CNG * | E80: 23¢/gallon | F80: 37803
B81: * 120 cubic feet = one gallon
A82: 2. Computation of gross volume reported (page 1, item 1). | F82: Special Fuels
E83: Gasoline and Gasohol | F83: (Diesel and LPG)
B84: Gross sales from wholesaler/retailer returns | E84: =D14+E14 -> 118084726 | F84: =(+F28+F29+G29)-(F85-F86) -> 37673084
B85: Plus: IMC fuel volume used in state | F85: =0/0.26 -> 0
B86: Less: IMC fuel volume purchased tax paid in state
B87: ="= Gross consumption in State (enter on page 1, item 1)" -> = Gross consumption in State (enter on page 1, item 1) | E87: =(E84+E85)-E86 -> 118084726 | F87: =(F84+F85)-F86 -> 37673084
E89: Interstate motor carrier (fuel use tax) fuel volume shown above covers period:
F90: Diesel | G90: LP-Gas | H90: Combined
E91: * page 1, line 1 split | F91: =F14 -> 36410819 | G91: =G14 -> 1262265.2 | H91: =F91+G91 -> 37673084
A92: 3. Stratification of gasohol by blend ratio
B94: The gasohol volume on page 1 column (2) includes: | E94: (show actual/estimated volume or percentage shares)
C96: Percent Alcohol | E96: Volume | F96: Percentage Share
D97: 5.7-7.6%
D98: 7.7-9.9%
D99: 10% or more | F99: 1
A101: 4. Notes and comments
A104: Note that diesel gallons include state, county and municipal government highway use, but does not include use by
A105: school buses.
A106: Line #26 (Assessments) - Assessments, either positive or negative, can be the result of audits, amended returns or
A107: office (KS Dept. of Revenue) assessments or abatements.
A124: Form FHWA-551M (Rev. 11-93) | E124: 2

Sheet Sep23
A1: The public report burden for this information is estimated to average 5.4 hours | H1: Form Approved OMB No. 2125-0032
H2: STATE
A3: U.S. Department of | H3: Kansas
A4: Transportation | H4: YEAR
E5: MONTHLY MOTOR-FUEL CONSUMPTION | H5: 2023
H6: MONTH OF SALE
A7: Federal Highway | H7: September
A8: Administration | H8: UNITS (check one)
H9: Gallons X
H10: Liters
C11: LI | F11: PRIVATE AND COMMERCIAL
B12: ITEM | C12: NE | D12: GASOLINE | E12: GASOHOL | F12: HWY DIESEL | G12: HWY LPG | H12: TOTAL
C13: # | D13: -1 | E13: -2 | F13: -3 | G13: -4 | H13: -5
A14: 1. Gross | B14: a. Gross Volume Reported | C14: 1 | D14: =D15+D21+D22 -> 8289202 | E14: =E15+E21+E22 -> 103410563 | F14: =(F16-F17)/0.26 -> 38515519 | G14: =(G16-G17)/0.23 -> 69578.261 | H14: =SUM(D14:G14) -> 1.5028486e+08
B15: Net After Deduction | D15: 7452151 | E15: 103333263
B16: Special Fuel Tax Receipts ($) | F16: 10156211 | G16: 16003
B17: Special Fuel Tax Refunds ($) | F17: 142176 | G17: 0
A18: Volume | B18: b. IFTA | C18: 2 | F18: =2314165/0.26 -> 8900634.6
A19: 2. Fully | B19: a. Losses - Flat % | C19: 21 | D19: 175265 | E19: 2440457 | H19: =SUM(D19:G19) -> 2615722
A20: Tax | B20: b. Losses - Actual | C20: 22 | H20: =SUM(D20:G20) -> 0
A21: Exempt | B21: c. Federal | C21: 23 | D21: 58815 | E21: 77300 | H21: =SUM(D21:G21) -> 136115
B22: d. Aviation | C22: 24 | D22: 778236 | H22: =SUM(D22:G22) -> 778236
B23: e. Native American | C23: 25 | H23: =SUM(D23:G23) -> 0
B24: f. Assessments | C24: 26 | D24: -1057712.9 | H24: =SUM(D24:G24) -> -1057712.9
B25: g. | C25: 27 | H25: =SUM(D25:G25) -> 0
B26: h. | C26: 28 | H26: =SUM(D26:G26) -> 0
B27: i. | C27: 29 | H27: =SUM(D27:G27) -> 0
B28: j. Total (sum a. through e - f.) | C28: 30 | D28: =SUM(D19:D23)-D24 -> 2070028.9 | E28: =SUM(E19:E23)-E24 -> 2517757 | F28: =SUM(F19:F23)-F24 -> 0 | G28: =SUM(G19:G23)-G24 -> 0 | H28: =SUM(H19:H23)-H24 -> 4587785.9
A29: 3. Gross Volume Taxed (1-2j) | C29: 40 | D29: =D14-D28 -> 6219173.1 | E29: =E14-E28 -> 100892806 | F29: =F14+F18-F28 -> 47416154 | G29: =G14-G28 -> 69578.261 | H29: =H14-H28 -> 1.4569708e+08
A30: 4. Fully | B30: a. Agriculture | C30: 51 | D30: 1869 | E30: 2776 | H30: =SUM(D30:G30) -> 4645
A31: Refunded | B31: b. Aviation | C31: 52 | H31: =SUM(D31:G31) -> 0
B32: c. Industrial/Commercial | C32: 53 | H32: =SUM(D32:G32) -> 0
B33: d. Construction | C33: 54 | H33: =SUM(D33:G33) -> 0
B34: e. Marine | C34: 55 | H34: =SUM(D34:G34) -> 0
B35: f. Municipal and Counties | C35: 56 | H35: =SUM(D35:G35) -> 0
B36: g. Other | C36: 57 | D36: 45790 | E36: 16183 | H36: =SUM(D36:G36) -> 61973
B37: h. | C37: 58 | H37: =SUM(D37:G37) -> 0
B38: i. | C38: 59 | H38: =SUM(D38:G38) -> 0
B39: j. | C39: 60 | H39: =SUM(D39:G39) -> 0
B40: k. | C40: 61
B41: l. | C41: 62
B42: m. | C42: 63
B43: n. | C43: 64
B44: o. | C44: 65
B45: p. | C45: 66
B46: q. | C46: 67
B47: r. Total (a. thru s.) | C47: 70 | D47: =SUM(D30:D41) -> 47659 | E47: =SUM(E30:E41) -> 18959 | F47: =SUM(F30:F41) -> 0 | G47: =SUM(G30:G41) -> 0 | H47: =SUM(H30:H41) -> 66618
A48: 5. Net | B48: a. At Full Rate | C48: 81 | D48: =D29-D47 -> 6171514.1 | E48: =E29-E47 -> 100873847 | F48: =F29-F47 -> 47416154 | G48: =G29-G47 -> 69578.261 | H48: =SUM(D48:G48) -> 1.5453109e+08
A49: Volume | B49: b. | C49: 82
A50: Taxed | B50: c. | C50: 83
A51: Taxed at | B51: d. | C51: 84
A52: initial lower | B52: e. | C52: 85
A53: rate, partially | B53: f. | C53: 86
A54: exempt or | B54: g. | C54: 87
A55: partially | B55: h. | C55: 88
A56: refunded | B56: i. | C56: 89
B57: j. Total (a thru i, 3-4t) | C57: 90 | D57: =SUM(D48:D56) -> 6171514.1 | E57: =SUM(E48:E56) -> 100873847 | F57: =SUM(F48:F56) -> 47416154 | G57: =SUM(G48:G56) -> 69578.261 | H57: =SUM(H48:H56) -> 1.5453109e+08
B58: Calendar Year Cumulation | D58: =D57+'Aug23'!D58 -> 57849296 | E58: =E57+'Aug23'!E58 -> 908507797 | F58: =F57+'Aug23'!F58 -> 3.6332436e+08 | G58: =G57+'Aug23'!G58 -> 7334960.9 | H58: =H57+'Aug23'!H58 -> 1.3370164e+09
A59: 6. Source | B59: a. Agency Preparing this Report:
B60: Kansas Department of Revenue, Office of Research and Analysis
B61: b. Compiled under Direction of: | G61: c. Date
B62: Mark Burghart, Secretary of Revenue
E63: PREVIOUS EDITIONS OBSOLETE | H63: (Next Page)
E64: 1
H67: =H2 -> STATE
H68: =H3 -> Kansas
D69: NOTES AND TECHNICAL INFORMATION | H69: =H4 -> YEAR
H70: =H5 -> 2023
H71: =H6 -> MONTH OF SALE
H72: =H7 -> September
A73: 1. Rate of tax at end month, in cents-per-gallon/liter. | D73: (If tax is ad valorem, post percentage, and briefly explain application basis below.)
E74: Rate | F74: Effective Date
C75: a. Gasoline | E75: 24¢/gallon | F75: 37803
C76: b. Gasohol | E76: 24¢/gallon | F76: 37803
C77: c. Gasohol E85 | E77: 17¢/gallon | F77: 39083
C78: d. Diesel | E78: 26¢/gallon | F78: 37803
C79: e. LPG | E79: 23¢/gallon | F79: 37803
C80: f. CNG * | E80: 23¢/gallon | F80: 37803
B81: * 120 cubic feet = one gallon
A82: 2. Computation of gross volume reported (page 1, item 1). | F82: Special Fuels
E83: Gasoline and Gasohol | F83: (Diesel and LPG)
B84: Gross sales from wholesaler/retailer returns | E84: =D14+E14 -> 111699765 | F84: =(+F28+F29+G29)-(F85-F86) -> 38585097
B85: Plus: IMC fuel volume used in state | F85: =2314165/0.26 -> 8900634.6
B86: Less: IMC fuel volume purchased tax paid in state
B87: ="= Gross consumption in State (enter on page 1, item 1)" -> = Gross consumption in State (enter on page 1, item 1) | E87: =(E84+E85)-E86 -> 111699765 | F87: =(F84+F85)-F86 -> 47485732
E89: Interstate motor carrier (fuel use tax) fuel volume shown above covers period:
F90: Diesel | G90: LP-Gas | H90: Combined
E91: * page 1, line 1 split | F91: =F14 -> 38515519 | G91: =G14 -> 69578.261 | H91: =F91+G91 -> 38585097
A92: 3. Stratification of gasohol by blend ratio
B94: The gasohol volume on page 1 column (2) includes: | E94: (show actual/estimated volume or percentage shares)
C96: Percent Alcohol | E96: Volume | F96: Percentage Share
D97: 5.7-7.6%
D98: 7.7-9.9%
D99: 10% or more | F99: 1
A101: 4. Notes and comments
A104: Note that diesel gallons include state, county and municipal government highway use, but does not include use by
A105: school buses.
A106: Line #26 (Assessments) - Assessments, either positive or negative, can be the result of audits, amended returns or
A107: office (KS Dept. of Revenue) assessments or abatements.
A124: Form FHWA-551M (Rev. 11-93) | E124: 2

Sheet Oct23
A1: The public report burden for this information is estimated to average 5.4 hours | H1: Form Approved OMB No. 2125-0032
H2: STATE
A3: U.S. Department of | H3: Kansas
A4: Transportation | H4: YEAR
E5: MONTHLY MOTOR-FUEL CONSUMPTION | H5: 2023
H6: MONTH OF SALE
A7: Federal Highway | H7: October
A8: Administration | H8: UNITS (check one)
H9: Gallons X
H10: Liters
C11: LI | F11: PRIVATE AND COMMERCIAL
B12: ITEM | C12: NE | D12: GASOLINE | E12: GASOHOL | F12: HWY DIESEL | G12: HWY LPG | H12: TOTAL
C13: # | D13: -1 | E13: -2 | F13: -3 | G13: -4 | H13: -5
A14: 1. Gross | B14: a. Gross Volume Reported | C14: 1 | D14: =D15+D21+D22 -> 8227363 | E14: =E15+E21+E22 -> 106399326 | F14: =(F16-F17)/0.26 -> 38047000 | G14: =(G16-G17)/0.23 -> 1009239.1 | H14: =SUM(D14:G14) -> 1.5368293e+08
B15: Net After Deduction | D15: 7483196 | E15: 106277927
B16: Special Fuel Tax Receipts ($) | F16: 10015600 | G16: 232125
B17: Special Fuel Tax Refunds ($) | F17: 123380
A18: Volume | B18: b. IFTA | C18: 2
A19: 2. Fully | B19: a. Losses - Flat % | C19: 21 | D19: 178920 | E19: 2504028 | H19: =SUM(D19:G19) -> 2682948
A20: Tax | B20: b. Losses - Actual | C20: 22 | H20: =SUM(D20:G20) -> 0
A21: Exempt | B21: c. Federal | C21: 23 | D21: 49773 | E21: 82859 | H21: =SUM(D21:G21) -> 132632
B22: d. Aviation | C22: 24 | D22: 694394 | E22: 38540 | H22: =SUM(D22:G22) -> 732934
B23: e. Native American | C23: 25 | H23: =SUM(D23:G23) -> 0
B24: f. Assessments | C24: 26 | D24: -1015404.4 | H24: =SUM(D24:G24) -> -1015404.4
B25: g. | C25: 27 | H25: =SUM(D25:G25) -> 0
B26: h. | C26: 28 | H26: =SUM(D26:G26) -> 0
B27: i. | C27: 29 | H27: =SUM(D27:G27) -> 0
B28: j. Total (sum a. through e - f.) | C28: 30 | D28: =SUM(D19:D23)-D24 -> 1938491.4 | E28: =SUM(E19:E23)-E24 -> 2625427 | F28: =SUM(F19:F23)-F24 -> 0 | G28: =SUM(G19:G23)-G24 -> 0 | H28: =SUM(H19:H23)-H24 -> 4563918.4
A29: 3. Gross Volume Taxed (1-2j) | C29: 40 | D29: =D14-D28 -> 6288871.6 | E29: =E14-E28 -> 103773899 | F29: =F14+F18-F28 -> 38047000 | G29: =G14-G28 -> 1009239.1 | H29: =H14-H28 -> 1.4911901e+08
A30: 4. Fully | B30: a. Agriculture | C30: 51 | D30: 9241 | E30: 7034 | H30: =SUM(D30:G30) -> 16275
A31: Refunded | B31: b. Aviation | C31: 52 | H31: =SUM(D31:G31) -> 0
B32: c. Industrial/Commercial | C32: 53 | H32: =SUM(D32:G32) -> 0
B33: d. Construction | C33: 54 | H33: =SUM(D33:G33) -> 0
B34: e. Marine | C34: 55 | H34: =SUM(D34:G34) -> 0
B35: f. Municipal and Counties | C35: 56 | H35: =SUM(D35:G35) -> 0
B36: g. Other | C36: 57 | D36: 17803 | E36: 4699 | H36: =SUM(D36:G36) -> 22502
B37: h. | C37: 58 | H37: =SUM(D37:G37) -> 0
B38: i. | C38: 59 | H38: =SUM(D38:G38) -> 0
B39: j. | C39: 60 | H39: =SUM(D39:G39) -> 0
B40: k. | C40: 61
B41: l. | C41: 62
B42: m. | C42: 63
B43: n. | C43: 64
B44: o. | C44: 65
B45: p. | C45: 66
B46: q. | C46: 67
B47: r. Total (a. thru s.) | C47: 70 | D47: =SUM(D30:D41) -> 27044 | E47: =SUM(E30:E41) -> 11733 | F47: =SUM(F30:F41) -> 0 | G47: =SUM(G30:G41) -> 0 | H47: =SUM(H30:H41) -> 38777
A48: 5. Net | B48: a. At Full Rate | C48: 81 | D48: =D29-D47 -> 6261827.6 | E48: =E29-E47 -> 103762166 | F48: =F29-F47 -> 38047000 | G48: =G29-G47 -> 1009239.1 | H48: =SUM(D48:G48) -> 1.4908023e+08
A49: Volume | B49: b. | C49: 82
A50: Taxed | B50: c. | C50: 83
A51: Taxed at | B51: d. | C51: 84
A52: initial lower | B52: e. | C52: 85
A53: rate, partially | B53: f. | C53: 86
A54: exempt or | B54: g. | C54: 87
A55: partially | B55: h. | C55: 88
A56: refunded | B56: i. | C56: 89
B57: j. Total (a thru i, 3-4t) | C57: 90 | D57: =SUM(D48:D56) -> 6261827.6 | E57: =SUM(E48:E56) -> 103762166 | F57: =SUM(F48:F56) -> 38047000 | G57: =SUM(G48:G56) -> 1009239.1 | H57: =SUM(H48:H56) -> 1.4908023e+08
B58: Calendar Year Cumulation | D58: =D57+'Sep23'!D58 -> 64111124 | E58: =E57+'Sep23'!E58 -> 1012269963 | F58: =F57+'Sep23'!F58 -> 4.0137136e+08 | G58: =G57+'Sep23'!G58 -> 8344200 | H58: =H57+'Sep23'!H58 -> 1.4860966e+09
A59: 6. Source | B59: a. Agency Preparing this Report:
B60: Kansas Department of Revenue, Office of Research and Analysis
B61: b. Compiled under Direction of: | G61: c. Date
B62: Mark Burghart, Secretary of Revenue
E63: PREVIOUS EDITIONS OBSOLETE | H63: (Next Page)
E64: 1
H67: =H2 -> STATE
H68: =H3 -> Kansas
D69: NOTES AND TECHNICAL INFORMATION | H69: =H4 -> YEAR
H70: =H5 -> 2023
H71: =H6 -> MONTH OF SALE
H72: =H7 -> October
A73: 1. Rate of tax at end month, in cents-per-gallon/liter. | D73: (If tax is ad valorem, post percentage, and briefly explain application basis below.)
E74: Rate | F74: Effective Date
C75: a. Gasoline | E75: 24¢/gallon | F75: 37803
C76: b. Gasohol | E76: 24¢/gallon | F76: 37803
C77: c. Gasohol E85 | E77: 17¢/gallon | F77: 39083
C78: d. Diesel | E78: 26¢/gallon | F78: 37803
C79: e. LPG | E79: 23¢/gallon | F79: 37803
C80: f. CNG * | E80: 23¢/gallon | F80: 37803
B81: * 120 cubic feet = one gallon
A82: 2. Computation of gross volume reported (page 1, item 1). | F82: Special Fuels
E83: Gasoline and Gasohol | F83: (Diesel and LPG)
B84: Gross sales from wholesaler/retailer returns | E84: =D14+E14 -> 114626689 | F84: =(+F28+F29+G29)-(F85-F86) -> 30795143
B85: Plus: IMC fuel volume used in state | F85: =2147885/0.26 -> 8261096.2
B86: Less: IMC fuel volume purchased tax paid in state
B87: ="= Gross consumption in State (enter on page 1, item 1)" -> = Gross consumption in State (enter on page 1, item 1) | E87: =(E84+E85)-E86 -> 114626689 | F87: =(F84+F85)-F86 -> 39056239
E89: Interstate motor carrier (fuel use tax) fuel volume shown above covers period:
F90: Diesel | G90: LP-Gas | H90: Combined
E91: * page 1, line 1 split | F91: =F14 -> 38047000 | G91: =G14 -> 1009239.1 | H91: =F91+G91 -> 39056239
A92: 3. Stratification of gasohol by blend ratio
B94: The gasohol volume on page 1 column (2) includes: | E94: (show actual/estimated volume or percentage shares)
C96: Percent Alcohol | E96: Volume | F96: Percentage Share
D97: 5.7-7.6%
D98: 7.7-9.9%
D99: 10% or more | F99: 1
A101: 4. Notes and comments
A104: Note that diesel gallons include state, county and municipal government highway use, but does not include use by
A105: school buses.
A106: Line #26 (Assessments) - Assessments, either positive or negative, can be the result of audits, amended returns or
A107: office (KS Dept. of Revenue) assessments or abatements.
A124: Form FHWA-551M (Rev. 11-93) | E124: 2

Sheet Nov23
A1: The public report burden for this information is estimated to average 5.4 hours | H1: Form Approved OMB No. 2125-0032
H2: STATE
A3: U.S. Department of | H3: Kansas
A4: Transportation | H4: YEAR
E5: MONTHLY MOTOR-FUEL CONSUMPTION | H5: 2023
H6: MONTH OF SALE
A7: Federal Highway | H7: November
A8: Administration | H8: UNITS (check one)
H9: Gallons X
H10: Liters
C11: LI | F11: PRIVATE AND COMMERCIAL
B12: ITEM | C12: NE | D12: GASOLINE | E12: GASOHOL | F12: HWY DIESEL | G12: HWY LPG | H12: TOTAL
C13: # | D13: -1 | E13: -2 | F13: -3 | G13: -4 | H13: -5
A14: 1. Gross | B14: a. Gross Volume Reported | C14: 1 | D14: =D15+D21+D22 -> 7590916 | E14: =E15+E21+E22 -> 97175574 | F14: =(F16-F17)/0.26 -> 40001623 | G14: =(G16-G17)/0.23 -> 723778.26 | H14: =SUM(D14:G14) -> 1.4549189e+08
B15: Net After Deduction | D15: 7043909 | E15: 97044870
B16: Special Fuel Tax Receipts ($) | F16: 10892747 | G16: 166469
B17: Special Fuel Tax Refunds ($) | F17: 492325 | G17: 0
A18: Volume | B18: b. IFTA | C18: 2
A19: 2. Fully | B19: a. Losses - Flat % | C19: 21 | D19: 167370 | E19: 2266435 | H19: =SUM(D19:G19) -> 2433805
A20: Tax | B20: b. Losses - Actual | C20: 22 | H20: =SUM(D20:G20) -> 0
A21: Exempt | B21: c. Federal | C21: 23 | D21: 48730 | E21: 130624 | H21: =SUM(D21:G21) -> 179354
B22: d. Aviation | C22: 24 | D22: 498277 | E22: 80 | H22: =SUM(D22:G22) -> 498357
B23: e. Native American | C23: 25 | H23: =SUM(D23:G23) -> 0
B24: f. Assessments | C24: 26 | D24: 1851.5417 | H24: =SUM(D24:G24) -> 1851.5417
B25: g. | C25: 27 | H25: =SUM(D25:G25) -> 0
B26: h. | C26: 28 | H26: =SUM(D26:G26) -> 0
B27: i. | C27: 29 | H27: =SUM(D27:G27) -> 0
B28: j. Total (sum a. through e - f.) | C28: 30 | D28: =SUM(D19:D23)-D24 -> 712525.46 | E28: =SUM(E19:E23)-E24 -> 2397139 | F28: =SUM(F19:F23)-F24 -> 0 | G28: =SUM(G19:G23)-G24 -> 0 | H28: =SUM(H19:H23)-H24 -> 3109664.5
A29: 3. Gross Volume Taxed (1-2j) | C29: 40 | D29: =D14-D28 -> 6878390.5 | E29: =E14-E28 -> 94778435 | F29: =F14+F18-F28 -> 40001623 | G29: =G14-G28 -> 723778.26 | H29: =H14-H28 -> 1.4238223e+08
A30: 4. Fully | B30: a. Agriculture | C30: 51 | D30: 4069 | E30: 3770 | H30: =SUM(D30:G30) -> 7839
A31: Refunded | B31: b. Aviation | C31: 52 | H31: =SUM(D31:G31) -> 0
B32: c. Industrial/Commercial | C32: 53 | H32: =SUM(D32:G32) -> 0
B33: d. Construction | C33: 54 | H33: =SUM(D33:G33) -> 0
B34: e. Marine | C34: 55 | H34: =SUM(D34:G34) -> 0
B35: f. Municipal and Counties | C35: 56 | H35: =SUM(D35:G35) -> 0
B36: g. Other | C36: 57 | D36: 840 | E36: 3282 | H36: =SUM(D36:G36) -> 4122
B37: h. | C37: 58 | H37: =SUM(D37:G37) -> 0
B38: i. | C38: 59 | H38: =SUM(D38:G38) -> 0
B39: j. | C39: 60 | H39: =SUM(D39:G39) -> 0
B40: k. | C40: 61
B41: l. | C41: 62
B42: m. | C42: 63
B43: n. | C43: 64
B44: o. | C44: 65
B45: p. | C45: 66
B46: q. | C46: 67
B47: r. Total (a. thru s.) | C47: 70 | D47: =SUM(D30:D41) -> 4909 | E47: =SUM(E30:E41) -> 7052 | F47: =SUM(F30:F41) -> 0 | G47: =SUM(G30:G41) -> 0 | H47: =SUM(H30:H41) -> 11961
A48: 5. Net | B48: a. At Full Rate | C48: 81 | D48: =D29-D47 -> 6873481.5 | E48: =E29-E47 -> 94771383 | F48: =F29-F47 -> 40001623 | G48: =G29-G47 -> 723778.26 | H48: =SUM(D48:G48) -> 1.4237027e+08
A49: Volume | B49: b. | C49: 82
A50: Taxed | B50: c. | C50: 83
A51: Taxed at | B51: d. | C51: 84
A52: initial lower | B52: e. | C52: 85
A53: rate, partially | B53: f. | C53: 86
A54: exempt or | B54: g. | C54: 87
A55: partially | B55: h. | C55: 88
A56: refunded | B56: i. | C56: 89
B57: j. Total (a thru i, 3-4t) | C57: 90 | D57: =SUM(D48:D56) -> 6873481.5 | E57: =SUM(E48:E56) -> 94771383 | F57: =SUM(F48:F56) -> 40001623 | G57: =SUM(G48:G56) -> 723778.26 | H57: =SUM(H48:H56) -> 1.4237027e+08
B58: Calendar Year Cumulation | D58: =D57+'Oct23'!D58 -> 70984605 | E58: =E57+'Oct23'!E58 -> 1107041346 | F58: =F57+'Oct23'!F58 -> 4.4137298e+08 | G58: =G57+'Oct23'!G58 -> 9067978.3 | H58: =H57+'Oct23'!H58 -> 1.6284669e+09
A59: 6. Source | B59: a. Agency Preparing this Report:
B60: Kansas Department of Revenue, Office of Research and Analysis
B61: b. Compiled under Direction of: | G61: c. Date
B62: Mark Burghart, Secretary of Revenue
E63: PREVIOUS EDITIONS OBSOLETE | H63: (Next Page)
E64: 1
H67: =H2 -> STATE
H68: =H3 -> Kansas
D69: NOTES AND TECHNICAL INFORMATION | H69: =H4 -> YEAR
H70: =H5 -> 2023
H71: =H6 -> MONTH OF SALE
H72: =H7 -> November
A73: 1. Rate of tax at end month, in cents-per-gallon/liter. | D73: (If tax is ad valorem, post percentage, and briefly explain application basis below.)
E74: Rate | F74: Effective Date
C75: a. Gasoline | E75: 24¢/gallon | F75: 37803
C76: b. Gasohol | E76: 24¢/gallon | F76: 37803
C77: c. Gasohol E85 | E77: 17¢/gallon | F77: 39083
C78: d. Diesel | E78: 26¢/gallon | F78: 37803
C79: e. LPG | E79: 23¢/gallon | F79: 37803
C80: f. CNG * | E80: 23¢/gallon | F80: 37803
B81: * 120 cubic feet = one gallon
A82: 2. Computation of gross volume reported (page 1, item 1). | F82: Special Fuels
E83: Gasoline and Gasohol | F83: (Diesel and LPG)
B84: Gross sales from wholesaler/retailer returns | E84: =D14+E14 -> 104766490 | F84: =(+F28+F29+G29)-(F85-F86) -> 32464305
B85: Plus: IMC fuel volume used in state | F85: =2147885/0.26 -> 8261096.2
B86: Less: IMC fuel volume purchased tax paid in state
B87: ="= Gross consumption in State (enter on page 1, item 1)" -> = Gross consumption in State (enter on page 1, item 1) | E87: =(E84+E85)-E86 -> 104766490 | F87: =(F84+F85)-F86 -> 40725401
E89: Interstate motor carrier (fuel use tax) fuel volume shown above covers period:
F90: Diesel | G90: LP-Gas | H90: Combined
E91: * page 1, line 1 split | F91: =F14 -> 40001623 | G91: =G14 -> 723778.26 | H91: =F91+G91 -> 40725401
A92: 3. Stratification of gasohol by blend ratio
B94: The gasohol volume on page 1 column (2) includes: | E94: (show actual/estimated volume or percentage shares)
C96: Percent Alcohol | E96: Volume | F96: Percentage Share
D97: 5.7-7.6%
D98: 7.7-9.9%
D99: 10% or more | F99: 1
A101: 4. Notes and comments
A104: Note that diesel gallons include state, county and municipal government highway use, but does not include use by
A105: school buses.
A106: Line #26 (Assessments) - Assessments, either positive or negative, can be the result of audits, amended returns or
A107: office (KS Dept. of Revenue) assessments or abatements.
A124: Form FHWA-551M (Rev. 11-93) | E124: 2

Sheet Dec23
A1: The public report burden for this information is estimated to average 5.4 hours | H1: Form Approved OMB No. 2125-0032
H2: STATE
A3: U.S. Department of | H3: Kansas
A4: Transportation | H4: YEAR
E5: MONTHLY MOTOR-FUEL CONSUMPTION | H5: 2023
H6: MONTH OF SALE
A7: Federal Highway | H7: December
A8: Administration | H8: UNITS (check one)
H9: Gallons X
H10: Liters
C11: LI | F11: PRIVATE AND COMMERCIAL
B12: ITEM | C12: NE | D12: GASOLINE | E12: GASOHOL | F12: HWY DIESEL | G12: HWY LPG | H12: TOTAL
C13: # | D13: -1 | E13: -2 | F13: -3 | G13: -4 | H13: -5
A14: 1. Gross | B14: a. Gross Volume Reported | C14: 1 | D14: =D15+D21+D22 -> 7601737 | E14: =E15+E21+E22 -> 101857957 | F14: =(F16-F17)/0.26 -> 39721438 | G14: =(G16-G17)/0.23 -> 9292491.3 | H14: =SUM(D14:G14) -> 1.5847362e+08
B15: Net After Deduction | D15: 7069371 | E15: 101632387
B16: Special Fuel Tax Receipts ($) | F16: 10430660 | G16: 2137273
B17: Special Fuel Tax Refunds ($) | F17: 103086
A18: Volume | B18: b. IFTA | C18: 2 | F18: =2137273/0.26 -> 8220280.8
A19: 2. Fully | B19: a. Losses - Flat % | C19: 21 | D19: 168963 | E19: 2399128 | H19: =SUM(D19:G19) -> 2568091
A20: Tax | B20: b. Losses - Actual | C20: 22 | H20: =SUM(D20:G20) -> 0
A21: Exempt | B21: c. Federal | C21: 23 | D21: 77532 | E21: 225570 | H21: =SUM(D21:G21) -> 303102
B22: d. Aviation | C22: 24 | D22: 454834 | H22: =SUM(D22:G22) -> 454834
B23: e. Native American | C23: 25 | H23: =SUM(D23:G23) -> 0
B24: f. Assessments | C24: 26 | D24: 385202.08 | H24: =SUM(D24:G24) -> 385202.08
B25: g. | C25: 27 | H25: =SUM(D25:G25) -> 0
B26: h. | C26: 28 | H26: =SUM(D26:G26) -> 0
B27: i. | C27: 29 | H27: =SUM(D27:G27) -> 0
B28: j. Total (sum a. through e - f.) | C28: 30 | D28: =SUM(D19:D23)-D24 -> 316126.92 | E28: =SUM(E19:E23)-E24 -> 2624698 | F28: =SUM(F19:F23)-F24 -> 0 | G28: =SUM(G19:G23)-G24 -> 0 | H28: =SUM(H19:H23)-H24 -> 2940824.9
A29: 3. Gross Volume Taxed (1-2j) | C29: 40 | D29: =D14-D28 -> 7285610.1 | E29: =E14-E28 -> 99233259 | F29: =F14+F18-F28 -> 47941719 | G29: =G14-G28 -> 9292491.3 | H29: =H14-H28 -> 1.555328e+08
A30: 4. Fully | B30: a. Agriculture | C30: 51 | D30: 8852 | E30: 7063 | H30: =SUM(D30:G30) -> 15915
A31: Refunded | B31: b. Aviation | C31: 52 | H31: =SUM(D31:G31) -> 0
B32: c. Industrial/Commercial | C32: 53 | H32: =SUM(D32:G32) -> 0
B33: d. Construction | C33: 54 | H33: =SUM(D33:G33) -> 0
B34: e. Marine | C34: 55 | H34: =SUM(D34:G34) -> 0
B35: f. Municipal and Counties | C35: 56 | H35: =SUM(D35:G35) -> 0
B36: g. Other | C36: 57 | D36: 12315 | E36: 635776 | H36: =SUM(D36:G36) -> 648091
B37: h. | C37: 58 | H37: =SUM(D37:G37) -> 0
B38: i. | C38: 59 | H38: =SUM(D38:G38) -> 0
B39: j. | C39: 60 | H39: =SUM(D39:G39) -> 0
B40: k. | C40: 61
B41: l. | C41: 62
B42: m. | C42: 63
B43: n. | C43: 64
B44: o. | C44: 65
B45: p. | C45: 66
B46: q. | C46: 67
B47: r. Total (a. thru s.) | C47: 70 | D47: =SUM(D30:D41) -> 21167 | E47: =SUM(E30:E41) -> 642839 | F47: =SUM(F30:F41) -> 0 | G47: =SUM(G30:G41) -> 0 | H47: =SUM(H30:H41) -> 664006
A48: 5. Net | B48: a. At Full Rate | C48: 81 | D48: =D29-D47 -> 7264443.1 | E48: =E29-E47 -> 98590420 | F48: =F29-F47 -> 47941719 | G48: =G29-G47 -> 9292491.3 | H48: =SUM(D48:G48) -> 1.6308907e+08
A49: Volume | B49: b. | C49: 82
A50: Taxed | B50: c. | C50: 83
A51: Taxed at | B51: d. | C51: 84
A52: initial lower | B52: e. | C52: 85
A53: rate, partially | B53: f. | C53: 86
A54: exempt or | B54: g. | C54: 87
A55: partially | B55: h. | C55: 88
A56: refunded | B56: i. | C56: 89
B57: j. Total (a thru i, 3-4t) | C57: 90 | D57: =SUM(D48:D56) -> 7264443.1 | E57: =SUM(E48:E56) -> 98590420 | F57: =SUM(F48:F56) -> 47941719 | G57: =SUM(G48:G56) -> 9292491.3 | H57: =SUM(H48:H56) -> 1.6308907e+08
B58: Calendar Year Cumulation | D58: =D57+'Nov23'!D58 -> 78249048 | E58: =E57+'Nov23'!E58 -> 1205631766 | F58: =F57+'Nov23'!F58 -> 4.893147e+08 | G58: =G57+'Nov23'!G58 -> 18360470 | H58: =H57+'Nov23'!H58 -> 1.791556e+09
A59: 6. Source | B59: a. Agency Preparing this Report:
B60: Kansas Department of Revenue, Office of Research and Analysis
B61: b. Compiled under Direction of: | G61: c. Date
B62: Mark Burghart, Secretary of Revenue
E63: PREVIOUS EDITIONS OBSOLETE | H63: (Next Page)
E64: 1
H67: =H2 -> STATE
H68: =H3 -> Kansas
D69: NOTES AND TECHNICAL INFORMATION | H69: =H4 -> YEAR
H70: =H5 -> 2023
H71: =H6 -> MONTH OF SALE
H72: =H7 -> December
A73: 1. Rate of tax at end month, in cents-per-gallon/liter. | D73: (If tax is ad valorem, post percentage, and briefly explain application basis below.)
E74: Rate | F74: Effective Date
C75: a. Gasoline | E75: 24¢/gallon | F75: 37803
C76: b. Gasohol | E76: 24¢/gallon | F76: 37803
C77: c. Gasohol E85 | E77: 17¢/gallon | F77: 39083
C78: d. Diesel | E78: 26¢/gallon | F78: 37803
C79: e. LPG | E79: 23¢/gallon | F79: 37803
C80: f. CNG * | E80: 23¢/gallon | F80: 37803
B81: * 120 cubic feet = one gallon
A82: 2. Computation of gross volume reported (page 1, item 1). | F82: Special Fuels
E83: Gasoline and Gasohol | F83: (Diesel and LPG)
B84: Gross sales from wholesaler/retailer returns | E84: =D14+E14 -> 109459694 | F84: =(+F28+F29+G29)-(F85-F86) -> 48973114
B85: Plus: IMC fuel volume used in state | F85: =2147885/0.26 -> 8261096.2
B86: Less: IMC fuel volume purchased tax paid in state
B87: ="= Gross consumption in State (enter on page 1, item 1)" -> = Gross consumption in State (enter on page 1, item 1) | E87: =(E84+E85)-E86 -> 109459694 | F87: =(F84+F85)-F86 -> 57234211
E89: Interstate motor carrier (fuel use tax) fuel volume shown above covers period:
F90: Diesel | G90: LP-Gas | H90: Combined
E91: * page 1, line 1 split | F91: =F14 -> 39721438 | G91: =G14 -> 9292491.3 | H91: =F91+G91 -> 49013930
A92: 3. Stratification of gasohol by blend ratio
B94: The gasohol volume on page 1 column (2) includes: | E94: (show actual/estimated volume or percentage shares)
C96: Percent Alcohol | E96: Volume | F96: Percentage Share
D97: 5.7-7.6%
D98: 7.7-9.9%
D99: 10% or more | F99: 1
A101: 4. Notes and comments
A104: Note that diesel gallons include state, county and municipal government highway use, but does not include use by
A105: school buses.
A106: Line #26 (Assessments) - Assessments, either positive or negative, can be the result of audits, amended returns or
A107: office (KS Dept. of Revenue) assessments or abatements.
A124: Form FHWA-551M (Rev. 11-93) | E124: 2

Sheet 551m2023
A1: The public report burden for this information is estimated to average 5.4 hours | H1: Form Approved OMB No. 2125-0032
H2: STATE
A3: U.S. Department of | H3: Kansas
A4: Transportation | H4: YEAR
E5: MONTHLY MOTOR-FUEL CONSUMPTION | H5: 2023
H6: MONTH OF SALE
A7: Federal Highway | H7: December
A8: Administration | H8: UNITS (check one)
H9: Gallons X
H10: Liters
C11: LI | F11: PRIVATE AND COMMERCIAL
B12: ITEM | C12: NE | D12: GASOLINE | E12: GASOHOL | F12: HWY DIESEL | G12: HWY LPG | H12: TOTAL
C13: # | D13: -1 | E13: -2 | F13: -3 | G13: -4 | H13: -5
A14: 1. Gross | B14: a. Gross Volume Reported | C14: 1 | D14: ='Jan23'!D14+'Feb23'!D14+'Mar23'!D14+'Apr23'!D14+'May23'!D14+June23!D14+July23!D14+'Aug23'!D14+'Sep23'!D14+'Oct23'!D14+'Nov23'!D14+'Dec23'!D14 -> 103907358 | E14: ='Jan23'!E14+'Feb23'!E14+'Mar23'!E14+'Apr23'!E14+'May23'!E14+June23!E14+July23!E14+'Aug23'!E14+'Sep23'!E14+'Oct23'!E14+'Nov23'!E14+'Dec23'!E14 -> 1237240474 | F14: ='Jan23'!F14+'Feb23'!F14+'Mar23'!F14+'Apr23'!F14+'May23'!F14+June23!F14+July23!F14+'Aug23'!F14+'Sep23'!F14+'Oct23'!F14+'Nov23'!F14+'Dec23'!F14 -> 4.572305e+08 | G14: ='Jan23'!G14+'Feb23'!G14+'Mar23'!G14+'Apr23'!G14+'May23'!G14+June23!G14+July23!G14+'Aug23'!G14+'Sep23'!G14+'Oct23'!G14+'Nov23'!G14+'Dec23'!G14 -> 18360470 | H14: ='Jan23'!H14+'Feb23'!H14+'Mar23'!H14+'Apr23'!H14+'May23'!H14+June23!H14+July23!H14+'Aug23'!H14+'Sep23'!H14+'Oct23'!H14+'Nov23'!H14+'Dec23'!H14 -> 1.8167388e+09
B15: Net After Deduction | D15: ='Jan23'!D15+'Feb23'!D15+'Mar23'!D15+'Apr23'!D15+'May23'!D15+June23!D15+July23!D15+'Aug23'!D15+'Sep23'!D15+'Oct23'!D15+'Nov23'!D15+'Dec23'!D15 -> 96422589 | E15: ='Jan23'!E15+'Feb23'!E15+'Mar23'!E15+'Apr23'!E15+'May23'!E15+June23!E15+July23!E15+'Aug23'!E15+'Sep23'!E15+'Oct23'!E15+'Nov23'!E15+'Dec23'!E15 -> 1235652283 | F15: ='Jan23'!F15+'Feb23'!F15+'Mar23'!F15+'Apr23'!F15+'May23'!F15+June23!F15+July23!F15+'Aug23'!F15+'Sep23'!F15+'Oct23'!F15+'Nov23'!F15+'Dec23'!F15 -> 0 | G15: ='Jan23'!G15+'Feb23'!G15+'Mar23'!G15+'Apr23'!G15+'May23'!G15+June23!G15+July23!G15+'Aug23'!G15+'Sep23'!G15+'Oct23'!G15+'Nov23'!G15+'Dec23'!G15 -> 0 | H15: ='Jan23'!H15+'Feb23'!H15+'Mar23'!H15+'Apr23'!H15+'May23'!H15+June23!H15+July23!H15+'Aug23'!H15+'Sep23'!H15+'Oct23'!H15+'Nov23'!H15+'Dec23'!H15 -> 0
B16: Special Fuel Tax Receipts ($) | D16: ='Jan23'!D16+'Feb23'!D16+'Mar23'!D16+'Apr23'!D16+'May23'!D16+June23!D16+July23!D16+'Aug23'!D16+'Sep23'!D16+'Oct23'!D16+'Nov23'!D16+'Dec23'!D16 -> 0 | E16: ='Jan23'!E16+'Feb23'!E16+'Mar23'!E16+'Apr23'!E16+'May23'!E16+June23!E16+July23!E16+'Aug23'!E16+'Sep23'!E16+'Oct23'!E16+'Nov23'!E16+'Dec23'!E16 -> 0 | F16: ='Jan23'!F16+'Feb23'!F16+'Mar23'!F16+'Apr23'!F16+'May23'!F16+June23!F16+July23!F16+'Aug23'!F16+'Sep23'!F16+'Oct23'!F16+'Nov23'!F16+'Dec23'!F16 -> 123949531 | G16: ='Jan23'!G16+'Feb23'!G16+'Mar23'!G16+'Apr23'!G16+'May23'!G16+June23!G16+July23!G16+'Aug23'!G16+'Sep23'!G16+'Oct23'!G16+'Nov23'!G16+'Dec23'!G16 -> 4222908 | H16: ='Jan23'!H16+'Feb23'!H16+'Mar23'!H16+'Apr23'!H16+'May23'!H16+June23!H16+July23!H16+'Aug23'!H16+'Sep23'!H16+'Oct23'!H16+'Nov23'!H16+'Dec23'!H16 -> 0
B17: Special Fuel Tax Refunds ($) | D17: ='Jan23'!D17+'Feb23'!D17+'Mar23'!D17+'Apr23'!D17+'May23'!D17+June23!D17+July23!D17+'Aug23'!D17+'Sep23'!D17+'Oct23'!D17+'Nov23'!D17+'Dec23'!D17 -> 0 | E17: ='Jan23'!E17+'Feb23'!E17+'Mar23'!E17+'Apr23'!E17+'May23'!E17+June23!E17+July23!E17+'Aug23'!E17+'Sep23'!E17+'Oct23'!E17+'Nov23'!E17+'Dec23'!E17 -> 0 | F17: ='Jan23'!F17+'Feb23'!F17+'Mar23'!F17+'Apr23'!F17+'May23'!F17+June23!F17+July23!F17+'Aug23'!F17+'Sep23'!F17+'Oct23'!F17+'Nov23'!F17+'Dec23'!F17 -> 5069602 | G17: ='Jan23'!G17+'Feb23'!G17+'Mar23'!G17+'Apr23'!G17+'May23'!G17+June23!G17+July23!G17+'Aug23'!G17+'Sep23'!G17+'Oct23'!G17+'Nov23'!G17+'Dec23'!G17 -> 0 | H17: ='Jan23'!H17+'Feb23'!H17+'Mar23'!H17+'Apr23'!H17+'May23'!H17+June23!H17+July23!H17+'Aug23'!H17+'Sep23'!H17+'Oct23'!H17+'Nov23'!H17+'Dec23'!H17 -> 0
A18: Volume | B18: b. IFTA | C18: 2 | D18: ='Jan23'!D18+'Feb23'!D18+'Mar23'!D18+'Apr23'!D18+'May23'!D18+June23!D18+July23!D18+'Aug23'!D18+'Sep23'!D18+'Oct23'!D18+'Nov23'!D18+'Dec23'!D18 -> 0 | E18: ='Jan23'!E18+'Feb23'!E18+'Mar23'!E18+'Apr23'!E18+'May23'!E18+June23!E18+July23!E18+'Aug23'!E18+'Sep23'!E18+'Oct23'!E18+'Nov23'!E18+'Dec23'!E18 -> 0 | F18: ='Jan23'!F18+'Feb23'!F18+'Mar23'!F18+'Apr23'!F18+'May23'!F18+June23!F18+July23!F18+'Aug23'!F18+'Sep23'!F18+'Oct23'!F18+'Nov23'!F18+'Dec23'!F18 -> 32084204 | G18: ='Jan23'!G18+'Feb23'!G18+'Mar23'!G18+'Apr23'!G18+'May23'!G18+June23!G18+July23!G18+'Aug23'!G18+'Sep23'!G18+'Oct23'!G18+'Nov23'!G18+'Dec23'!G18 -> 0 | H18: ='Jan23'!H18+'Feb23'!H18+'Mar23'!H18+'Apr23'!H18+'May23'!H18+June23!H18+July23!H18+'Aug23'!H18+'Sep23'!H18+'Oct23'!H18+'Nov23'!H18+'Dec23'!H18 -> 0
A19: 2. Fully | B19: a. Losses - Flat % | C19: 21 | D19: ='Jan23'!D19+'Feb23'!D19+'Mar23'!D19+'Apr23'!D19+'May23'!D19+June23!D19+July23!D19+'Aug23'!D19+'Sep23'!D19+'Oct23'!D19+'Nov23'!D19+'Dec23'!D19 -> 2292575 | E19: ='Jan23'!E19+'Feb23'!E19+'Mar23'!E19+'Apr23'!E19+'May23'!E19+June23!E19+July23!E19+'Aug23'!E19+'Sep23'!E19+'Oct23'!E19+'Nov23'!E19+'Dec23'!E19 -> 28971570 | F19: ='Jan23'!F19+'Feb23'!F19+'Mar23'!F19+'Apr23'!F19+'May23'!F19+June23!F19+July23!F19+'Aug23'!F19+'Sep23'!F19+'Oct23'!F19+'Nov23'!F19+'Dec23'!F19 -> 0 | G19: ='Jan23'!G19+'Feb23'!G19+'Mar23'!G19+'Apr23'!G19+'May23'!G19+June23!G19+July23!G19+'Aug23'!G19+'Sep23'!G19+'Oct23'!G19+'Nov23'!G19+'Dec23'!G19 -> 0 | H19: ='Jan23'!H19+'Feb23'!H19+'Mar23'!H19+'Apr23'!H19+'May23'!H19+June23!H19+July23!H19+'Aug23'!H19+'Sep23'!H19+'Oct23'!H19+'Nov23'!H19+'Dec23'!H19 -> 31264145
A20: Tax | B20: b. Losses - Actual | C20: 22 | D20: ='Jan23'!D20+'Feb23'!D20+'Mar23'!D20+'Apr23'!D20+'May23'!D20+June23!D20+July23!D20+'Aug23'!D20+'Sep23'!D20+'Oct23'!D20+'Nov23'!D20+'Dec23'!D20 -> 0 | E20: ='Jan23'!E20+'Feb23'!E20+'Mar23'!E20+'Apr23'!E20+'May23'!E20+June23!E20+July23!E20+'Aug23'!E20+'Sep23'!E20+'Oct23'!E20+'Nov23'!E20+'Dec23'!E20 -> 14104 | F20: ='Jan23'!F20+'Feb23'!F20+'Mar23'!F20+'Apr23'!F20+'May23'!F20+June23!F20+July23!F20+'Aug23'!F20+'Sep23'!F20+'Oct23'!F20+'Nov23'!F20+'Dec23'!F20 -> 0 | G20: ='Jan23'!G20+'Feb23'!G20+'Mar23'!G20+'Apr23'!G20+'May23'!G20+June23!G20+July23!G20+'Aug23'!G20+'Sep23'!G20+'Oct23'!G20+'Nov23'!G20+'Dec23'!G20 -> 0 | H20: ='Jan23'!H20+'Feb23'!H20+'Mar23'!H20+'Apr23'!H20+'May23'!H20+June23!H20+July23!H20+'Aug23'!H20+'Sep23'!H20+'Oct23'!H20+'Nov23'!H20+'Dec23'!H20 -> 14104
A21: Exempt | B21: c. Federal | C21: 23 | D21: ='Jan23'!D21+'Feb23'!D21+'Mar23'!D21+'Apr23'!D21+'May23'!D21+June23!D21+July23!D21+'Aug23'!D21+'Sep23'!D21+'Oct23'!D21+'Nov23'!D21+'Dec23'!D21 -> 643752 | E21: ='Jan23'!E21+'Feb23'!E21+'Mar23'!E21+'Apr23'!E21+'May23'!E21+June23!E21+July23!E21+'Aug23'!E21+'Sep23'!E21+'Oct23'!E21+'Nov23'!E21+'Dec23'!E21 -> 1549571 | F21: ='Jan23'!F21+'Feb23'!F21+'Mar23'!F21+'Apr23'!F21+'May23'!F21+June23!F21+July23!F21+'Aug23'!F21+'Sep23'!F21+'Oct23'!F21+'Nov23'!F21+'Dec23'!F21 -> 0 | G21: ='Jan23'!G21+'Feb23'!G21+'Mar23'!G21+'Apr23'!G21+'May23'!G21+June23!G21+July23!G21+'Aug23'!G21+'Sep23'!G21+'Oct23'!G21+'Nov23'!G21+'Dec23'!G21 -> 0 | H21: ='Jan23'!H21+'Feb23'!H21+'Mar23'!H21+'Apr23'!H21+'May23'!H21+June23!H21+July23!H21+'Aug23'!H21+'Sep23'!H21+'Oct23'!H21+'Nov23'!H21+'Dec23'!H21 -> 2193323
B22: d. Aviation | C22: 24 | D22: ='Jan23'!D22+'Feb23'!D22+'Mar23'!D22+'Apr23'!D22+'May23'!D22+June23!D22+July23!D22+'Aug23'!D22+'Sep23'!D22+'Oct23'!D22+'Nov23'!D22+'Dec23'!D22 -> 6841017 | E22: ='Jan23'!E22+'Feb23'!E22+'Mar23'!E22+'Apr23'!E22+'May23'!E22+June23!E22+July23!E22+'Aug23'!E22+'Sep23'!E22+'Oct23'!E22+'Nov23'!E22+'Dec23'!E22 -> 38620 | F22: ='Jan23'!F22+'Feb23'!F22+'Mar23'!F22+'Apr23'!F22+'May23'!F22+June23!F22+July23!F22+'Aug23'!F22+'Sep23'!F22+'Oct23'!F22+'Nov23'!F22+'Dec23'!F22 -> 0 | G22: ='Jan23'!G22+'Feb23'!G22+'Mar23'!G22+'Apr23'!G22+'May23'!G22+June23!G22+July23!G22+'Aug23'!G22+'Sep23'!G22+'Oct23'!G22+'Nov23'!G22+'Dec23'!G22 -> 0 | H22: ='Jan23'!H22+'Feb23'!H22+'Mar23'!H22+'Apr23'!H22+'May23'!H22+June23!H22+July23!H22+'Aug23'!H22+'Sep23'!H22+'Oct23'!H22+'Nov23'!H22+'Dec23'!H22 -> 6879637
B23: e. Native American | C23: 25 | D23: ='Jan23'!D23+'Feb23'!D23+'Mar23'!D23+'Apr23'!D23+'May23'!D23+June23!D23+July23!D23+'Aug23'!D23+'Sep23'!D23+'Oct23'!D23+'Nov23'!D23+'Dec23'!D23 -> 0 | E23: ='Jan23'!E23+'Feb23'!E23+'Mar23'!E23+'Apr23'!E23+'May23'!E23+June23!E23+July23!E23+'Aug23'!E23+'Sep23'!E23+'Oct23'!E23+'Nov23'!E23+'Dec23'!E23 -> 0 | F23: ='Jan23'!F23+'Feb23'!F23+'Mar23'!F23+'Apr23'!F23+'May23'!F23+June23!F23+July23!F23+'Aug23'!F23+'Sep23'!F23+'Oct23'!F23+'Nov23'!F23+'Dec23'!F23 -> 0 | G23: ='Jan23'!G23+'Feb23'!G23+'Mar23'!G23+'Apr23'!G23+'May23'!G23+June23!G23+July23!G23+'Aug23'!G23+'Sep23'!G23+'Oct23'!G23+'Nov23'!G23+'Dec23'!G23 -> 0 | H23: ='Jan23'!H23+'Feb23'!H23+'Mar23'!H23+'Apr23'!H23+'May23'!H23+June23!H23+July23!H23+'Aug23'!H23+'Sep23'!H23+'Oct23'!H23+'Nov23'!H23+'Dec23'!H23 -> 0
B24: f. Assessments | C24: 26 | D24: ='Jan23'!D24+'Feb23'!D24+'Mar23'!D24+'Apr23'!D24+'May23'!D24+June23!D24+July23!D24+'Aug23'!D24+'Sep23'!D24+'Oct23'!D24+'Nov23'!D24+'Dec23'!D24 -> -15567189 | E24: ='Jan23'!E24+'Feb23'!E24+'Mar23'!E24+'Apr23'!E24+'May23'!E24+June23!E24+July23!E24+'Aug23'!E24+'Sep23'!E24+'Oct23'!E24+'Nov23'!E24+'Dec23'!E24 -> 0 | F24: ='Jan23'!F24+'Feb23'!F24+'Mar23'!F24+'Apr23'!F24+'May23'!F24+June23!F24+July23!F24+'Aug23'!F24+'Sep23'!F24+'Oct23'!F24+'Nov23'!F24+'Dec23'!F24 -> 0 | G24: ='Jan23'!G24+'Feb23'!G24+'Mar23'!G24+'Apr23'!G24+'May23'!G24+June23!G24+July23!G24+'Aug23'!G24+'Sep23'!G24+'Oct23'!G24+'Nov23'!G24+'Dec23'!G24 -> 0 | H24: ='Jan23'!H24+'Feb23'!H24+'Mar23'!H24+'Apr23'!H24+'May23'!H24+June23!H24+July23!H24+'Aug23'!H24+'Sep23'!H24+'Oct23'!H24+'Nov23'!H24+'Dec23'!H24 -> -15567189
B25: g. | C25: 27
B26: h. | C26: 28
B27: i. | C27: 29
B28: j. Total (sum a. through e - f.) | C28: 30 | D28: ='Jan23'!D28+'Feb23'!D28+'Mar23'!D28+'Apr23'!D28+'May23'!D28+June23!D28+July23!D28+'Aug23'!D28+'Sep23'!D28+'Oct23'!D28+'Nov23'!D28+'Dec23'!D28 -> 25344533 | E28: ='Jan23'!E28+'Feb23'!E28+'Mar23'!E28+'Apr23'!E28+'May23'!E28+June23!E28+July23!E28+'Aug23'!E28+'Sep23'!E28+'Oct23'!E28+'Nov23'!E28+'Dec23'!E28 -> 30573865 | F28: ='Jan23'!F28+'Feb23'!F28+'Mar23'!F28+'Apr23'!F28+'May23'!F28+June23!F28+July23!F28+'Aug23'!F28+'Sep23'!F28+'Oct23'!F28+'Nov23'!F28+'Dec23'!F28 -> 0 | G28: ='Jan23'!G28+'Feb23'!G28+'Mar23'!G28+'Apr23'!G28+'May23'!G28+June23!G28+July23!G28+'Aug23'!G28+'Sep23'!G28+'Oct23'!G28+'Nov23'!G28+'Dec23'!G28 -> 0 | H28: ='Jan23'!H28+'Feb23'!H28+'Mar23'!H28+'Apr23'!H28+'May23'!H28+June23!H28+July23!H28+'Aug23'!H28+'Sep23'!H28+'Oct23'!H28+'Nov23'!H28+'Dec23'!H28 -> 55918398
A29: 3. Gross Volume Taxed (1-2j) | C29: 40 | D29: ='Jan23'!D29+'Feb23'!D29+'Mar23'!D29+'Apr23'!D29+'May23'!D29+June23!D29+July23!D29+'Aug23'!D29+'Sep23'!D29+'Oct23'!D29+'Nov23'!D29+'Dec23'!D29 -> 78562825 | E29: ='Jan23'!E29+'Feb23'!E29+'Mar23'!E29+'Apr23'!E29+'May23'!E29+June23!E29+July23!E29+'Aug23'!E29+'Sep23'!E29+'Oct23'!E29+'Nov23'!E29+'Dec23'!E29 -> 1206666609 | F29: ='Jan23'!F29+'Feb23'!F29+'Mar23'!F29+'Apr23'!F29+'May23'!F29+June23!F29+July23!F29+'Aug23'!F29+'Sep23'!F29+'Oct23'!F29+'Nov23'!F29+'Dec23'!F29 -> 4.893147e+08 | G29: ='Jan23'!G29+'Feb23'!G29+'Mar23'!G29+'Apr23'!G29+'May23'!G29+June23!G29+July23!G29+'Aug23'!G29+'Sep23'!G29+'Oct23'!G29+'Nov23'!G29+'Dec23'!G29 -> 18360470 | H29: ='Jan23'!H29+'Feb23'!H29+'Mar23'!H29+'Apr23'!H29+'May23'!H29+June23!H29+July23!H29+'Aug23'!H29+'Sep23'!H29+'Oct23'!H29+'Nov23'!H29+'Dec23'!H29 -> 1.7608204e+09
A30: 4. Fully | B30: a. Agriculture | C30: 51 | D30: ='Jan23'!D30+'Feb23'!D30+'Mar23'!D30+'Apr23'!D30+'May23'!D30+June23!D30+July23!D30+'Aug23'!D30+'Sep23'!D30+'Oct23'!D30+'Nov23'!D30+'Dec23'!D30 -> 135377 | E30: ='Jan23'!E30+'Feb23'!E30+'Mar23'!E30+'Apr23'!E30+'May23'!E30+June23!E30+July23!E30+'Aug23'!E30+'Sep23'!E30+'Oct23'!E30+'Nov23'!E30+'Dec23'!E30 -> 118312 | F30: ='Jan23'!F30+'Feb23'!F30+'Mar23'!F30+'Apr23'!F30+'May23'!F30+June23!F30+July23!F30+'Aug23'!F30+'Sep23'!F30+'Oct23'!F30+'Nov23'!F30+'Dec23'!F30 -> 0 | G30: ='Jan23'!G30+'Feb23'!G30+'Mar23'!G30+'Apr23'!G30+'May23'!G30+June23!G30+July23!G30+'Aug23'!G30+'Sep23'!G30+'Oct23'!G30+'Nov23'!G30+'Dec23'!G30 -> 0 | H30: ='Jan23'!H30+'Feb23'!H30+'Mar23'!H30+'Apr23'!H30+'May23'!H30+June23!H30+July23!H30+'Aug23'!H30+'Sep23'!H30+'Oct23'!H30+'Nov23'!H30+'Dec23'!H30 -> 253689
A31: Refunded | B31: b. Aviation | C31: 52 | D31: ='Jan23'!D31+'Feb23'!D31+'Mar23'!D31+'Apr23'!D31+'May23'!D31+June23!D31+July23!D31+'Aug23'!D31+'Sep23'!D31+'Oct23'!D31+'Nov23'!D31+'Dec23'!D31 -> 0 | E31: ='Jan23'!E31+'Feb23'!E31+'Mar23'!E31+'Apr23'!E31+'May23'!E31+June23!E31+July23!E31+'Aug23'!E31+'Sep23'!E31+'Oct23'!E31+'Nov23'!E31+'Dec23'!E31 -> 0 | F31: ='Jan23'!F31+'Feb23'!F31+'Mar23'!F31+'Apr23'!F31+'May23'!F31+June23!F31+July23!F31+'Aug23'!F31+'Sep23'!F31+'Oct23'!F31+'Nov23'!F31+'Dec23'!F31 -> 0 | G31: ='Jan23'!G31+'Feb23'!G31+'Mar23'!G31+'Apr23'!G31+'May23'!G31+June23!G31+July23!G31+'Aug23'!G31+'Sep23'!G31+'Oct23'!G31+'Nov23'!G31+'Dec23'!G31 -> 0 | H31: ='Jan23'!H31+'Feb23'!H31+'Mar23'!H31+'Apr23'!H31+'May23'!H31+June23!H31+July23!H31+'Aug23'!H31+'Sep23'!H31+'Oct23'!H31+'Nov23'!H31+'Dec23'!H31 -> 0
B32: c. Industrial/Commercial | C32: 53 | D32: ='Jan23'!D32+'Feb23'!D32+'Mar23'!D32+'Apr23'!D32+'May23'!D32+June23!D32+July23!D32+'Aug23'!D32+'Sep23'!D32+'Oct23'!D32+'Nov23'!D32+'Dec23'!D32 -> 0 | E32: ='Jan23'!E32+'Feb23'!E32+'Mar23'!E32+'Apr23'!E32+'May23'!E32+June23!E32+July23!E32+'Aug23'!E32+'Sep23'!E32+'Oct23'!E32+'Nov23'!E32+'Dec23'!E32 -> 0 | F32: ='Jan23'!F32+'Feb23'!F32+'Mar23'!F32+'Apr23'!F32+'May23'!F32+June23!F32+July23!F32+'Aug23'!F32+'Sep23'!F32+'Oct23'!F32+'Nov23'!F32+'Dec23'!F32 -> 0 | G32: ='Jan23'!G32+'Feb23'!G32+'Mar23'!G32+'Apr23'!G32+'May23'!G32+June23!G32+July23!G32+'Aug23'!G32+'Sep23'!G32+'Oct23'!G32+'Nov23'!G32+'Dec23'!G32 -> 0 | H32: ='Jan23'!H32+'Feb23'!H32+'Mar23'!H32+'Apr23'!H32+'May23'!H32+June23!H32+July23!H32+'Aug23'!H32+'Sep23'!H32+'Oct23'!H32+'Nov23'!H32+'Dec23'!H32 -> 0
B33: d. Construction | C33: 54 | D33: ='Jan23'!D33+'Feb23'!D33+'Mar23'!D33+'Apr23'!D33+'May23'!D33+June23!D33+July23!D33+'Aug23'!D33+'Sep23'!D33+'Oct23'!D33+'Nov23'!D33+'Dec23'!D33 -> 0 | E33: ='Jan23'!E33+'Feb23'!E33+'Mar23'!E33+'Apr23'!E33+'May23'!E33+June23!E33+July23!E33+'Aug23'!E33+'Sep23'!E33+'Oct23'!E33+'Nov23'!E33+'Dec23'!E33 -> 0 | F33: ='Jan23'!F33+'Feb23'!F33+'Mar23'!F33+'Apr23'!F33+'May23'!F33+June23!F33+July23!F33+'Aug23'!F33+'Sep23'!F33+'Oct23'!F33+'Nov23'!F33+'Dec23'!F33 -> 0 | G33: ='Jan23'!G33+'Feb23'!G33+'Mar23'!G33+'Apr23'!G33+'May23'!G33+June23!G33+July23!G33+'Aug23'!G33+'Sep23'!G33+'Oct23'!G33+'Nov23'!G33+'Dec23'!G33 -> 0 | H33: ='Jan23'!H33+'Feb23'!H33+'Mar23'!H33+'Apr23'!H33+'May23'!H33+June23!H33+July23!H33+'Aug23'!H33+'Sep23'!H33+'Oct23'!H33+'Nov23'!H33+'Dec23'!H33 -> 0
B34: e. Marine | C34: 55 | D34: ='Jan23'!D34+'Feb23'!D34+'Mar23'!D34+'Apr23'!D34+'May23'!D34+June23!D34+July23!D34+'Aug23'!D34+'Sep23'!D34+'Oct23'!D34+'Nov23'!D34+'Dec23'!D34 -> 0 | E34: ='Jan23'!E34+'Feb23'!E34+'Mar23'!E34+'Apr23'!E34+'May23'!E34+June23!E34+July23!E34+'Aug23'!E34+'Sep23'!E34+'Oct23'!E34+'Nov23'!E34+'Dec23'!E34 -> 0 | F34: ='Jan23'!F34+'Feb23'!F34+'Mar23'!F34+'Apr23'!F34+'May23'!F34+June23!F34+July23!F34+'Aug23'!F34+'Sep23'!F34+'Oct23'!F34+'Nov23'!F34+'Dec23'!F34 -> 0 | G34: ='Jan23'!G34+'Feb23'!G34+'Mar23'!G34+'Apr23'!G34+'May23'!G34+June23!G34+July23!G34+'Aug23'!G34+'Sep23'!G34+'Oct23'!G34+'Nov23'!G34+'Dec23'!G34 -> 0 | H34: ='Jan23'!H34+'Feb23'!H34+'Mar23'!H34+'Apr23'!H34+'May23'!H34+June23!H34+July23!H34+'Aug23'!H34+'Sep23'!H34+'Oct23'!H34+'Nov23'!H34+'Dec23'!H34 -> 0
B35: f. Municipal and Counties | C35: 56 | D35: ='Jan23'!D35+'Feb23'!D35+'Mar23'!D35+'Apr23'!D35+'May23'!D35+June23!D35+July23!D35+'Aug23'!D35+'Sep23'!D35+'Oct23'!D35+'Nov23'!D35+'Dec23'!D35 -> 3959 | E35: ='Jan23'!E35+'Feb23'!E35+'Mar23'!E35+'Apr23'!E35+'May23'!E35+June23!E35+July23!E35+'Aug23'!E35+'Sep23'!E35+'Oct23'!E35+'Nov23'!E35+'Dec23'!E35 -> 0 | F35: ='Jan23'!F35+'Feb23'!F35+'Mar23'!F35+'Apr23'!F35+'May23'!F35+June23!F35+July23!F35+'Aug23'!F35+'Sep23'!F35+'Oct23'!F35+'Nov23'!F35+'Dec23'!F35 -> 0 | G35: ='Jan23'!G35+'Feb23'!G35+'Mar23'!G35+'Apr23'!G35+'May23'!G35+June23!G35+July23!G35+'Aug23'!G35+'Sep23'!G35+'Oct23'!G35+'Nov23'!G35+'Dec23'!G35 -> 0 | H35: ='Jan23'!H35+'Feb23'!H35+'Mar23'!H35+'Apr23'!H35+'May23'!H35+June23!H35+July23!H35+'Aug23'!H35+'Sep23'!H35+'Oct23'!H35+'Nov23'!H35+'Dec23'!H35 -> 3959
B36: g. Other | C36: 57 | D36: ='Jan23'!D36+'Feb23'!D36+'Mar23'!D36+'Apr23'!D36+'May23'!D36+June23!D36+July23!D36+'Aug23'!D36+'Sep23'!D36+'Oct23'!D36+'Nov23'!D36+'Dec23'!D36 -> 174441 | E36: ='Jan23'!E36+'Feb23'!E36+'Mar23'!E36+'Apr23'!E36+'May23'!E36+June23!E36+July23!E36+'Aug23'!E36+'Sep23'!E36+'Oct23'!E36+'Nov23'!E36+'Dec23'!E36 -> 916531 | F36: ='Jan23'!F36+'Feb23'!F36+'Mar23'!F36+'Apr23'!F36+'May23'!F36+June23!F36+July23!F36+'Aug23'!F36+'Sep23'!F36+'Oct23'!F36+'Nov23'!F36+'Dec23'!F36 -> 0 | G36: ='Jan23'!G36+'Feb23'!G36+'Mar23'!G36+'Apr23'!G36+'May23'!G36+June23!G36+July23!G36+'Aug23'!G36+'Sep23'!G36+'Oct23'!G36+'Nov23'!G36+'Dec23'!G36 -> 0 | H36: ='Jan23'!H36+'Feb23'!H36+'Mar23'!H36+'Apr23'!H36+'May23'!H36+June23!H36+July23!H36+'Aug23'!H36+'Sep23'!H36+'Oct23'!H36+'Nov23'!H36+'Dec23'!H36 -> 1090972
B37: h. | C37: 58
B38: i. | C38: 59
B39: j. | C39: 60
B40: k. | C40: 61
B41: l. | C41: 62
B42: m. | C42: 63
B43: n. | C43: 64
B44: o. | C44: 65
B45: p. | C45: 66
B46: q. | C46: 67
B47: r. Total (a. thru s.) | C47: 70 | D47: ='Jan23'!D47+'Feb23'!D47+'Mar23'!D47+'Apr23'!D47+'May23'!D47+June23!D47+July23!D47+'Aug23'!D47+'Sep23'!D47+'Oct23'!D47+'Nov23'!D47+'Dec23'!D47 -> 313777 | E47: ='Jan23'!E47+'Feb23'!E47+'Mar23'!E47+'Apr23'!E47+'May23'!E47+June23!E47+July23!E47+'Aug23'!E47+'Sep23'!E47+'Oct23'!E47+'Nov23'!E47+'Dec23'!E47 -> 1034843 | F47: ='Jan23'!F47+'Feb23'!F47+'Mar23'!F47+'Apr23'!F47+'May23'!F47+June23!F47+July23!F47+'Aug23'!F47+'Sep23'!F47+'Oct23'!F47+'Nov23'!F47+'Dec23'!F47 -> 0 | G47: ='Jan23'!G47+'Feb23'!G47+'Mar23'!G47+'Apr23'!G47+'May23'!G47+June23!G47+July23!G47+'Aug23'!G47+'Sep23'!G47+'Oct23'!G47+'Nov23'!G47+'Dec23'!G47 -> 0 | H47: ='Jan23'!H47+'Feb23'!H47+'Mar23'!H47+'Apr23'!H47+'May23'!H47+June23!H47+July23!H47+'Aug23'!H47+'Sep23'!H47+'Oct23'!H47+'Nov23'!H47+'Dec23'!H47 -> 1348620
A48: 5. Net | B48: a. At Full Rate | D48: ='Jan23'!D48+'Feb23'!D48+'Mar23'!D48+'Apr23'!D48+'May23'!D48+June23!D48+July23!D48+'Aug23'!D48+'Sep23'!D48+'Oct23'!D48+'Nov23'!D48+'Dec23'!D48 -> 78249048 | E48: ='Jan23'!E48+'Feb23'!E48+'Mar23'!E48+'Apr23'!E48+'May23'!E48+June23!E48+July23!E48+'Aug23'!E48+'Sep23'!E48+'Oct23'!E48+'Nov23'!E48+'Dec23'!E48 -> 1205631766 | F48: ='Jan23'!F48+'Feb23'!F48+'Mar23'!F48+'Apr23'!F48+'May23'!F48+June23!F48+July23!F48+'Aug23'!F48+'Sep23'!F48+'Oct23'!F48+'Nov23'!F48+'Dec23'!F48 -> 4.893147e+08 | G48: ='Jan23'!G48+'Feb23'!G48+'Mar23'!G48+'Apr23'!G48+'May23'!G48+June23!G48+July23!G48+'Aug23'!G48+'Sep23'!G48+'Oct23'!G48+'Nov23'!G48+'Dec23'!G48 -> 18360470 | H48: ='Jan23'!H48+'Feb23'!H48+'Mar23'!H48+'Apr23'!H48+'May23'!H48+June23!H48+July23!H48+'Aug23'!H48+'Sep23'!H48+'Oct23'!H48+'Nov23'!H48+'Dec23'!H48 -> 1.791556e+09
A49: Volume
A50: Taxed | B50: IMC fuel volume used in state | F50: =F18 -> 32084204
B51: IMC fuel volume purchased in state | F51: 0
B52: Net IMC | F52: =F50-F51 -> 32084204
