Workbook

Sheet Jan22
A1: The public report burden for this information is estimated to average 5.4 hours | H1: Form Approved OMB No. 2125-0032
H2: STATE
A3: U.S. Department of | H3: Kansas
A4: Transportation | H4: YEAR
E5: MONTHLY MOTOR-FUEL CONSUMPTION | H5: 2022
H6: MONTH OF SALE
A7: Federal Highway | H7: January
A8: Administration | H8: UNITS (check one)
H9: Gallons X
H10: Liters
C11: LI | F11: PRIVATE AND COMMERCIAL
B12: ITEM | C12: NE | D12: GASOLINE | E12: GASOHOL | F12: HWY DIESEL | G12: HWY LPG | H12: TOTAL
C13: # | D13: -1 | E13: -2 | F13: -3 | G13: -4 | H13: -5
A14: 1. Gross | B14: a. Gross Volume Reported | C14: 1 | D14: =D15+D21+D22 -> 9797350 | E14: =E15+E21+E22 -> 89371889 | F14: =(F16-F17)/0.26 -> 38763404 | G14: =(G16-G17)/0.23 -> 1510430.4 | H14: =SUM(D14:G14) -> 1.3944307e+08
B15: Net After Deduction | D15: 9329381 | E15: 89196655
B16: Special Fuel Tax Receipts | F16: 10301239 | G16: 347399
B17: Special Fuel Tax Refunds | F17: 222754
A18: Volume | B18: b. IFTA | C18: 2 | F18: =F85 -> 0
A19: 2. Fully | B19: a. Losses - Flat % | C19: 21 | D19: 211413 | E19: 2099301 | H19: =SUM(D19:G19) -> 2310714
A20: Tax | B20: b. Losses - Actual | C20: 22 | D20: 0 | E20: 0 | H20: =SUM(D20:G20) -> 0
A21: Exempt | B21: c. Federal | C21: 23 | D21: 47194 | E21: 146450 | H21: =SUM(D21:G21) -> 193644
B22: d. Aviation | C22: 24 | D22: 420775 | E22: 28784 | H22: =SUM(D22:G22) -> 449559
B23: e. Native American | C23: 25 | H23: =SUM(D23:G23) -> 0
B24: f. Assessments | C24: 26 | D24: 174071.17 | H24: =SUM(D24:G24) -> 174071.17
B25: g. | C25: 27 | H25: =SUM(D25:G25) -> 0
B26: h. | C26: 28 | H26: =SUM(D26:G26) -> 0
B27: i. | C27: 29 | H27: =SUM(D27:G27) -> 0
B28: j. Total (sum a. through e - f.) | C28: 30 | D28: =SUM(D19:D23)-D24 -> 505310.83 | E28: =SUM(E19:E23)-E24 -> 2274535 | F28: =SUM(F19:F23)-F24 -> 0 | G28: =SUM(G19:G23)-G24 -> 0 | H28: =SUM(H19:H23)-H24 -> 2779845.8
A29: 3. Gross Volume Taxed (1-2j) | C29: 40 | D29: =D14-D28 -> 9292039.2 | E29: =E14-E28 -> 87097354 | F29: =F14+F18-F28 -> 38763404 | G29: =G14-G28 -> 1510430.4 | H29: =H14-H28 -> 1.3666323e+08
A30: 4. Fully | B30: a. Agriculture | C30: 51 | D30: 31433 | E30: 28434 | H30: =SUM(D30:G30) -> 59867
A31: Refunded | B31: b. Aviation | C31: 52 | H31: =SUM(D31:G31) -> 0
B32: c. Industrial/Commercial | C32: 53 | H32: =SUM(D32:G32) -> 0
B33: d. Construction | C33: 54 | H33: =SUM(D33:G33) -> 0
B34: e. Marine | C34: 55 | H34: =SUM(D34:G34) -> 0
B35: f. Municipal and Counties | C35: 56 | H35: =SUM(D35:G35) -> 0
B36: g. Other | C36: 57 | D36: 21062 | E36: 63937 | H36: =SUM(D36:G36) -> 84999
B37: h. | C37: 58 | H37: =SUM(D37:G37) -> 0
B38: i. | C38: 59 | H38: =SUM(D38:G38) -> 0
B39: j. | C39: 60 | H39: =SUM(D39:G39) -> 0
B40: k. | C40: 61
B41: l. | C41: 62
B42: m. | C42: 63
B43: n. | C43: 64
B44: o. | C44: 65
B45: p. | C45: 66
B46: q. | C46: 67
B47: r. Total (a. thru s.) | C47: 70 | D47: =SUM(D30:D41) -> 52495 | E47: =SUM(E30:E41) -> 92371 | F47: =SUM(F30:F41) -> 0 | G47: =SUM(G30:G41) -> 0 | H47: =SUM(H30:H41) -> 144866
A48: 5. Net | B48: a. At Full Rate | C48: 81 | D48: =D29-D47 -> 9239544.2 | E48: =E29-E47 -> 87004983 | F48: =F29-F47 -> 38763404 | G48: =G29-G47 -> 1510430.4 | H48: =SUM(D48:G48) -> 1.3651836e+08
A49: Volume | B49: b. | C49: 82
A50: Taxed | B50: c. | C50: 83
A51: Taxed at | B51: d. | C51: 84
A52: initial lower | B52: e. | C52: 85
A53: rate, partially | B53: f. | C53: 86
A54: exempt or | B54: g. | C54: 87
A55: partially | B55: h. | C55: 88
A56: refunded | B56: i. | C56: 89
B57: j. Total (a thru i, 3-4t) | C57: 90 | D57: =SUM(D48:D56) -> 9239544.2 | E57: =SUM(E48:E56) -> 87004983 | F57: =SUM(F48:F56) -> 38763404 | G57: =SUM(G48:G56) -> 1510430.4 | H57: =SUM(H48:H56) -> 1.3651836e+08
B58: Calendar Year Cumulation | D58: =D57 -> 9239544.2 | E58: =E57 -> 87004983 | F58: =F57 -> 38763404 | G58: =G57 -> 1510430.4 | H58: =H57 -> 1.3651836e+08
A59: 6. Source | B59: a. Agency Preparing this Report:
B60: Kansas Department of Revenue, Office of Research and Analysis
B61: b. Compiled under Direction of: | G61: c. Date
B62: Mark Burghart, Secretary of Revenue
E63: PREVIOUS EDITIONS OBSOLETE | H63: (Next Page)
E64: 1
H67: =H2 -> STATE
H68: =H3 -> Kansas
D69: NOTES AND TECHNICAL INFORMATION | H69: =H4 -> YEAR
H70: =H5 -> 2022
H71: =H6 -> MONTH OF SALE
H72: =H7 -> January
A73: 1. Rate of tax at end month, in cents-per-gallon/liter. | D73: (If tax is ad valorem, post percentage, and briefly explain application basis below.)
E74: Rate | F74: Effective Date
C75: a. Gasoline | E75: 24¢/gallon | F75: 37803
C76: b. Gasohol | E76: 24¢/gallon | F76: 37803
C77: c. Gasohol E85 | E77: 17¢/gallon | F77: 39083
C78: d. Diesel | E78: 26¢/gallon | F78: 37803
C79: e. LPG | E79: 23¢/gallon | F79: 37803
C80: f. CNG * | E80: 23¢/gallon | F80: 37803
B81: * 120 cubic feet = one gallon
A82: 2. Computation of gross volume reported (page 1, item 1). | F82: Special Fuels
E83: Gasoline and Gasohol | F83: (Diesel and LPG)
B84: Gross sales from wholesaler/retailer returns | E84: =D14+E14 -> 99169239 | F84: =(+F28+F29+G29)-(F85-F86) -> 40273834
B85: Plus: IMC fuel volume used in state | F85: =0/0.26 -> 0
B86: Less: IMC fuel volume purchased tax paid in state
B87: ="= Gross consumption in State (enter on page 1, item 1)" -> = Gross consumption in State (enter on page 1, item 1) | E87: =(E84+E85)-E86 -> 99169239 | F87: =(F84+F85)-F86 -> 40273834
E89: Interstate motor carrier (fuel use tax) fuel volume shown above covers period:
F90: Diesel | G90: LP-Gas | H90: Combined
E91: * page 1, line 1 split | F91: =F14 -> 38763404 | G91: =G14 -> 1510430.4 | H91: =F91+G91 -> 40273834
A92: 3. Stratification of gasohol by blend ratio
B94: The gasohol volume on page 1 column (2) includes: | E94: (show actual/estimated volume or percentage shares)
C96: Percent Alcohol | E96: Volume | F96: Percentage Share
D97: 5.7-7.6%
D98: 7.7-9.9%
D99: 10% or more | F99: 1
A101: 4. Notes and comments
A104: Note that diesel gallons include state, county and municipal government highway use, but does not include use by
A105: school buses.
A106: Line #26 (Assessments) - Assessments, either positive or negative, can be the result of audits, amended returns or
A107: office (KS Dept. of Revenue) assessments or abatements.
A124: Form FHWA-551M (Rev. 11-93) | E124: 2

Sheet Feb22
A1: The public report burden for this information is estimated to average 5.4 hours | H1: Form Approved OMB No. 2125-0032
H2: STATE
A3: U.S. Department of | H3: Kansas
A4: Transportation | H4: YEAR
E5: MONTHLY MOTOR-FUEL CONSUMPTION | H5: 2022
H6: MONTH OF SALE
A7: Federal Highway | H7: February
A8: Administration | H8: UNITS (check one)
H9: Gallons X
H10: Liters
C11: LI | F11: PRIVATE AND COMMERCIAL
B12: ITEM | C12: NE | D12: GASOLINE | E12: GASOHOL | F12: HWY DIESEL | G12: HWY LPG | H12: TOTAL
C13: # | D13: -1 | E13: -2 | F13: -3 | G13: -4 | H13: -5
A14: 1. Gross | B14: a. Gross Volume Reported | C14: 1 | D14: =D15+D21+D22 -> 8821572 | E14: =E15+E21+E22 -> 86004746 | F14: =(F16-F17)/0.26 -> 33934042 | G14: =(G16-G17)/0.23 -> 151608.7 | H14: =SUM(D14:G14) -> 1.2891197e+08
B15: Net After Deduction | D15: 8443897 | E15: 85892074
B16: Special Fuel Tax Receipts | F16: 9116493 | G16: 34870
B17: Special Fuel Tax Refunds | F17: 293642
A18: Volume | B18: b. IFTA | C18: 2 | F18: =F85 -> 0
A19: 2. Fully | B19: a. Losses - Flat % | C19: 21 | D19: 198375 | E19: 1980336 | H19: =SUM(D19:G19) -> 2178711
A20: Tax | B20: b. Losses - Actual | C20: 22 | D20: 0 | E20: 0 | H20: =SUM(D20:G20) -> 0
A21: Exempt | B21: c. Federal | C21: 23 | D21: 44350 | E21: 112672 | H21: =SUM(D21:G21) -> 157022
B22: d. Aviation | C22: 24 | D22: 333325 | E22: 0 | H22: =SUM(D22:G22) -> 333325
B23: e. Native American | C23: 25 | H23: =SUM(D23:G23) -> 0
B24: f. Assessments | C24: 26 | D24: 164499.5 | H24: =SUM(D24:G24) -> 164499.5
B25: g. | C25: 27 | H25: =SUM(D25:G25) -> 0
B26: h. | C26: 28 | H26: =SUM(D26:G26) -> 0
B27: i. | C27: 29 | H27: =SUM(D27:G27) -> 0
B28: j. Total (sum a. through e - f.) | C28: 30 | D28: =SUM(D19:D23)-D24 -> 411550.5 | E28: =SUM(E19:E23)-E24 -> 2093008 | F28: =SUM(F19:F23)-F24 -> 0 | G28: =SUM(G19:G23)-G24 -> 0 | H28: =SUM(H19:H23)-H24 -> 2504558.5
A29: 3. Gross Volume Taxed (1-2j) | C29: 40 | D29: =D14-D28 -> 8410021.5 | E29: =E14-E28 -> 83911738 | F29: =F14+F18-F28 -> 33934042 | G29: =G14-G28 -> 151608.7 | H29: =H14-H28 -> 1.2640741e+08
A30: 4. Fully | B30: a. Agriculture | C30: 51 | D30: 23375 | E30: 9354 | H30: =SUM(D30:G30) -> 32729
A31: Refunded | B31: b. Aviation | C31: 52 | H31: =SUM(D31:G31) -> 0
B32: c. Industrial/Commercial | C32: 53 | H32: =SUM(D32:G32) -> 0
B33: d. Construction | C33: 54 | H33: =SUM(D33:G33) -> 0
B34: e. Marine | C34: 55 | H34: =SUM(D34:G34) -> 0
B35: f. Municipal and Counties | C35: 56 | H35: =SUM(D35:G35) -> 0
B36: g. Other | C36: 57 | D36: 5115 | E36: 28879 | H36: =SUM(D36:G36) -> 33994
B37: h. | C37: 58 | H37: =SUM(D37:G37) -> 0
B38: i. | C38: 59 | H38: =SUM(D38:G38) -> 0
B39: j. | C39: 60 | H39: =SUM(D39:G39) -> 0
B40: k. | C40: 61
B41: l. | C41: 62
B42: m. | C42: 63
B43: n. | C43: 64
B44: o. | C44: 65
B45: p. | C45: 66
B46: q. | C46: 67
B47: r. Total (a. thru s.) | C47: 70 | D47: =SUM(D30:D41) -> 28490 | E47: =SUM(E30:E41) -> 38233 | F47: =SUM(F30:F41) -> 0 | G47: =SUM(G30:G41) -> 0 | H47: =SUM(H30:H41) -> 66723
A48: 5. Net | B48: a. At Full Rate | C48: 81 | D48: =D29-D47 -> 8381531.5 | E48: =E29-E47 -> 83873505 | F48: =F29-F47 -> 33934042 | G48: =G29-G47 -> 151608.7 | H48: =SUM(D48:G48) -> 1.2634069e+08
A49: Volume | B49: b. | C49: 82
A50: Taxed | B50: c. | C50: 83
A51: Taxed at | B51: d. | C51: 84
A52: initial lower | B52: e. | C52: 85
A53: rate, partially | B53: f. | C53: 86
A54: exempt or | B54: g. | C54: 87
A55: partially | B55: h. | C55: 88
A56: refunded | B56: i. | C56: 89
B57: j. Total (a thru i, 3-4t) | C57: 90 | D57: =SUM(D48:D56) -> 8381531.5 | E57: =SUM(E48:E56) -> 83873505 | F57: =SUM(F48:F56) -> 33934042 | G57: =SUM(G48:G56) -> 151608.7 | H57: =SUM(H48:H56) -> 1.2634069e+08
B58: Calendar Year Cumulation | D58: =D57+'Jan22'!D58 -> 17621076 | E58: =E57+'Jan22'!E58 -> 170878488 | F58: =F57+'Jan22'!F58 -> 72697446 | G58: =G57+'Jan22'!G58 -> 1662039.1 | H58: =H57+'Jan22'!H58 -> 2.6285905e+08
A59: 6. Source | B59: a. Agency Preparing this Report:
B60: Kansas Department of Revenue, Office of Research and Analysis
B61: b. Compiled under Direction of: | G61: c. Date
B62: Mark Burghart, Secretary of Revenue
E63: PREVIOUS EDITIONS OBSOLETE | H63: (Next Page)
E64: 1
H67: =H2 -> STATE
H68: =H3 -> Kansas
D69: NOTES AND TECHNICAL INFORMATION | H69: =H4 -> YEAR
H70: =H5 -> 2022
H71: =H6 -> MONTH OF SALE
H72: =H7 -> February
A73: 1. Rate of tax at end month, in cents-per-gallon/liter. | D73: (If tax is ad valorem, post percentage, and briefly explain application basis below.)
E74: Rate | F74: Effective Date
C75: a. Gasoline | E75: 24¢/gallon | F75: 37803
C76: b. Gasohol | E76: 24¢/gallon | F76: 37803
C77: c. Gasohol E85 | E77: 17¢/gallon | F77: 39083
C78: d. Diesel | E78: 26¢/gallon | F78: 37803
C79: e. LPG | E79: 23¢/gallon | F79: 37803
C80: f. CNG * | E80: 23¢/gallon | F80: 37803
B81: * 120 cubic feet = one gallon
A82: 2. Computation of gross volume reported (page 1, item 1). | F82: Special Fuels
E83: Gasoline and Gasohol | F83: (Diesel and LPG)
B84: Gross sales from wholesaler/retailer returns | E84: =D14+E14 -> 94826318 | F84: =(+F28+F29+G29)-(F85-F86) -> 34085651
B85: Plus: IMC fuel volume used in state | F85: =0/0.26 -> 0
B86: Less: IMC fuel volume purchased tax paid in state
B87: ="= Gross consumption in State (enter on page 1, item 1)" -> = Gross consumption in State (enter on page 1, item 1) | E87: =(E84+E85)-E86 -> 94826318 | F87: =(F84+F85)-F86 -> 34085651
E89: Interstate motor carrier (fuel use tax) fuel volume shown above covers period:
F90: Diesel | G90: LP-Gas | H90: Combined
E91: * page 1, line 1 split | F91: =F14 -> 33934042 | G91: =G14 -> 151608.7 | H91: =F91+G91 -> 34085651
A92: 3. Stratification of gasohol by blend ratio
B94: The gasohol volume on page 1 column (2) includes: | E94: (show actual/estimated volume or percentage shares)
C96: Percent Alcohol | E96: Volume | F96: Percentage Share
D97: 5.7-7.6%
D98: 7.7-9.9%
D99: 10% or more | F99: 1
A101: 4. Notes and comments
A104: Note that diesel gallons include state, county and municipal government highway use, but does not include use by
A105: school buses.
A106: Line #26 (Assessments) - Assessments, either positive or negative, can be the result of audits, amended returns or
A107: office (KS Dept. of Revenue) assessments or abatements.
A124: Form FHWA-551M (Rev. 11-93) | E124: 2

Sheet Mar22
A1: The public report burden for this information is estimated to average 5.4 hours | H1: Form Approved OMB No. 2125-0032
H2: STATE
A3: U.S. Department of | H3: Kansas
A4: Transportation | H4: YEAR
E5: MONTHLY MOTOR-FUEL CONSUMPTION | H5: 2022
H6: MONTH OF SALE
A7: Federal Highway | H7: March
A8: Administration | H8: UNITS (check one)
H9: Gallons X
H10: Liters
C11: LI | F11: PRIVATE AND COMMERCIAL
B12: ITEM | C12: NE | D12: GASOLINE | E12: GASOHOL | F12: HWY DIESEL | G12: HWY LPG | H12: TOTAL
C13: # | D13: -1 | E13: -2 | F13: -3 | G13: -4 | H13: -5
A14: 1. Gross | B14: a. Gross Volume Reported | C14: 1 | D14: =D15+D21+D22 -> 9059674 | E14: =E15+E21+E22 -> 98426807 | F14: =(F16-F17)/0.26 -> 39991535 | G14: =(G16-G17)/0.23 -> 1544530.4 | H14: =SUM(D14:G14) -> 1.4902255e+08
B15: Net After Deduction | D15: 8469709 | E15: 98291592
B16: Special Fuel Tax Receipts | F16: 10454675 | G16: 355242
B17: Special Fuel Tax Refunds | F17: 56876
A18: Volume | B18: b. IFTA | C18: 2 | F18: =F85 -> 8879061.5
A19: 2. Fully | B19: a. Losses - Flat % | C19: 21 | D19: 200380 | E19: 2319465 | H19: =SUM(D19:G19) -> 2519845
A20: Tax | B20: b. Losses - Actual | C20: 22 | D20: 0 | E20: 0 | H20: =SUM(D20:G20) -> 0
A21: Exempt | B21: c. Federal | C21: 23 | D21: 57017 | E21: 135215 | H21: =SUM(D21:G21) -> 192232
B22: d. Aviation | C22: 24 | D22: 532948 | E22: 0 | H22: =SUM(D22:G22) -> 532948
B23: e. Native American | C23: 25 | H23: =SUM(D23:G23) -> 0
B24: f. Assessments | C24: 26 | D24: 25210 | H24: =SUM(D24:G24) -> 25210
B25: g. | C25: 27 | H25: =SUM(D25:G25) -> 0
B26: h. | C26: 28 | H26: =SUM(D26:G26) -> 0
B27: i. | C27: 29 | H27: =SUM(D27:G27) -> 0
B28: j. Total (sum a. through e - f.) | C28: 30 | D28: =SUM(D19:D23)-D24 -> 765135 | E28: =SUM(E19:E23)-E24 -> 2454680 | F28: =SUM(F19:F23)-F24 -> 0 | G28: =SUM(G19:G23)-G24 -> 0 | H28: =SUM(H19:H23)-H24 -> 3219815
A29: 3. Gross Volume Taxed (1-2j) | C29: 40 | D29: =D14-D28 -> 8294539 | E29: =E14-E28 -> 95972127 | F29: =F14+F18-F28 -> 48870596 | G29: =G14-G28 -> 1544530.4 | H29: =H14-H28 -> 1.4580273e+08
A30: 4. Fully | B30: a. Agriculture | C30: 51 | D30: 7109 | E30: 11632 | H30: =SUM(D30:G30) -> 18741
A31: Refunded | B31: b. Aviation | C31: 52 | H31: =SUM(D31:G31) -> 0
B32: c. Industrial/Commercial | C32: 53 | H32: =SUM(D32:G32) -> 0
B33: d. Construction | C33: 54 | H33: =SUM(D33:G33) -> 0
B34: e. Marine | C34: 55 | H34: =SUM(D34:G34) -> 0
B35: f. Municipal and Counties | C35: 56 | H35: =SUM(D35:G35) -> 0
B36: g. Other | C36: 57 | D36: 19556 | E36: 12592 | H36: =SUM(D36:G36) -> 32148
B37: h. | C37: 58 | H37: =SUM(D37:G37) -> 0
B38: i. | C38: 59 | H38: =SUM(D38:G38) -> 0
B39: j. | C39: 60 | H39: =SUM(D39:G39) -> 0
B40: k. | C40: 61
B41: l. | C41: 62
B42: m. | C42: 63
B43: n. | C43: 64
B44: o. | C44: 65
B45: p. | C45: 66
B46: q. | C46: 67
B47: r. Total (a. thru s.) | C47: 70 | D47: =SUM(D30:D41) -> 26665 | E47: =SUM(E30:E41) -> 24224 | F47: =SUM(F30:F41) -> 0 | G47: =SUM(G30:G41) -> 0 | H47: =SUM(H30:H41) -> 50889
A48: 5. Net | B48: a. At Full Rate | C48: 81 | D48: =D29-D47 -> 8267874 | E48: =E29-E47 -> 95947903 | F48: =F29-F47 -> 48870596 | G48: =G29-G47 -> 1544530.4 | H48: =SUM(D48:G48) -> 1.546309e+08
A49: Volume | B49: b. | C49: 82
A50: Taxed | B50: c. | C50: 83
A51: Taxed at | B51: d. | C51: 84
A52: initial lower | B52: e. | C52: 85
A53: rate, partially | B53: f. | C53: 86
A54: exempt or | B54: g. | C54: 87
A55: partially | B55: h. | C55: 88
A56: refunded | B56: i. | C56: 89
B57: j. Total (a thru i, 3-4t) | C57: 90 | D57: =SUM(D48:D56) -> 8267874 | E57: =SUM(E48:E56) -> 95947903 | F57: =SUM(F48:F56) -> 48870596 | G57: =SUM(G48:G56) -> 1544530.4 | H57: =SUM(H48:H56) -> 1.546309e+08
B58: Calendar Year Cumulation | D58: =D57+'Feb22'!D58 -> 25888950 | E58: =E57+'Feb22'!E58 -> 266826391 | F58: =F57+'Feb22'!F58 -> 1.2156804e+08 | G58: =G57+'Feb22'!G58 -> 3206569.6 | H58: =H57+'Feb22'!H58 -> 4.1748995e+08
A59: 6. Source | B59: a. Agency Preparing this Report:
B60: Kansas Department of Revenue, Office of Research and Analysis
B61: b. Compiled under Direction of: | G61: c. Date
B62: Mark Burghart, Secretary of Revenue
E63: PREVIOUS EDITIONS OBSOLETE | H63: (Next Page)
E64: 1
H67: =H2 -> STATE
H68: =H3 -> Kansas
D69: NOTES AND TECHNICAL INFORMATION | H69: =H4 -> YEAR
H70: =H5 -> 2022
H71: =H6 -> MONTH OF SALE
H72: =H7 -> March
A73: 1. Rate of tax at end month, in cents-per-gallon/liter. | D73: (If tax is ad valorem, post percentage, and briefly explain application basis below.)
E74: Rate | F74: Effective Date
C75: a. Gasoline | E75: 24¢/gallon | F75: 37803
C76: b. Gasohol | E76: 24¢/gallon | F76: 37803
C77: c. Gasohol E85 | E77: 17¢/gallon | F77: 39083
C78: d. Diesel | E78: 26¢/gallon | F78: 37803
C79: e. LPG | E79: 23¢/gallon | F79: 37803
C80: f. CNG * | E80: 23¢/gallon | F80: 37803
B81: * 120 cubic feet = one gallon
A82: 2. Computation of gross volume reported (page 1, item 1). | F82: Special Fuels
E83: Gasoline and Gasohol | F83: (Diesel and LPG)
B84: Gross sales from wholesaler/retailer returns | E84: =D14+E14 -> 107486481 | F84: =(+F28+F29+G29)-(F85-F86) -> 41536065
B85: Plus: IMC fuel volume used in state | F85: =2308556/0.26 -> 8879061.5
B86: Less: IMC fuel volume purchased tax paid in state
B87: ="= Gross consumption in State (enter on page 1, item 1)" -> = Gross consumption in State (enter on page 1, item 1) | E87: =(E84+E85)-E86 -> 107486481 | F87: =(F84+F85)-F86 -> 50415127
E89: Interstate motor carrier (fuel use tax) fuel volume shown above covers period:
F90: Diesel | G90: LP-Gas | H90: Combined
E91: * page 1, line 1 split | F91: =F14 -> 39991535 | G91: =G14 -> 1544530.4 | H91: =F91+G91 -> 41536065
A92: 3. Stratification of gasohol by blend ratio
B94: The gasohol volume on page 1 column (2) includes: | E94: (show actual/estimated volume or percentage shares)
C96: Percent Alcohol | E96: Volume | F96: Percentage Share
D97: 5.7-7.6%
D98: 7.7-9.9%
D99: 10% or more | F99: 1
A101: 4. Notes and comments
A104: Note that diesel gallons include state, county and municipal government highway use, but does not include use by
A105: school buses.
A106: Line #26 (Assessments) - Assessments, either positive or negative, can be the result of audits, amended returns or
A107: office (KS Dept. of Revenue) assessments or abatements.
A124: Form FHWA-551M (Rev. 11-93) | E124: 2

Sheet Apr22
A1: The public report burden for this information is estimated to average 5.4 hours | H1: Form Approved OMB No. 2125-0032
H2: STATE
A3: U.S. Department of | H3: Kansas
A4: Transportation | H4: YEAR
E5: MONTHLY MOTOR-FUEL CONSUMPTION | H5: 2022
H6: MONTH OF SALE
A7: Federal Highway | H7: April
A8: Administration | H8: UNITS (check one)
H9: Gallons X
H10: Liters
C11: LI | F11: PRIVATE AND COMMERCIAL
B12: ITEM | C12: NE | D12: GASOLINE | E12: GASOHOL | F12: HWY DIESEL | G12: HWY LPG | H12: TOTAL
C13: # | D13: -1 | E13: -2 | F13: -3 | G13: -4 | H13: -5
A14: 1. Gross | B14: a. Gross Volume Reported | C14: 1 | D14: =D15+D21+D22 -> 8811154 | E14: =E15+E21+E22 -> 95100509 | F14: =(F16-F17)/0.26 -> 37184423 | G14: =(G16-G17)/0.23 -> 35926.087 | H14: =SUM(D14:G14) -> 1.4113201e+08
B15: Net After Deduction | D15: 8355491 | E15: 94964657
B16: Special Fuel Tax Receipts ($) | F16: 9722677 | G16: 8263
B17: Special Fuel Tax Refunds ($) | F17: 54727 | G17: 0
A18: Volume | B18: b. IFTA | C18: 2 | F18: =F85 -> 0
A19: 2. Fully | B19: a. Losses - Flat % | C19: 21 | D19: 199845 | E19: 2227033 | H19: =SUM(D19:G19) -> 2426878
A20: Tax | B20: b. Losses - Actual | C20: 22 | D20: 0 | E20: 0 | H20: =SUM(D20:G20) -> 0
A21: Exempt | B21: c. Federal | C21: 23 | D21: 65980 | E21: 135852 | H21: =SUM(D21:G21) -> 201832
B22: d. Aviation | C22: 24 | D22: 389683 | E22: 0 | H22: =SUM(D22:G22) -> 389683
B23: e. Native American | C23: 25 | D23: 0 | H23: =SUM(D23:G23) -> 0
B24: f. Assessments | C24: 26 | D24: 11479 | H24: =SUM(D24:G24) -> 11479
B25: g. | C25: 27 | H25: =SUM(D25:G25) -> 0
B26: h. | C26: 28 | H26: =SUM(D26:G26) -> 0
B27: i. | C27: 29 | H27: =SUM(D27:G27) -> 0
B28: j. Total (sum a. through e - f.) | C28: 30 | D28: =SUM(D19:D23)-D24 -> 644029 | E28: =SUM(E19:E23)-E24 -> 2362885 | F28: =SUM(F19:F23)-F24 -> 0 | G28: =SUM(G19:G23)-G24 -> 0 | H28: =SUM(H19:H23)-H24 -> 3006914
A29: 3. Gross Volume Taxed (1-2j) | C29: 40 | D29: =D14-D28 -> 8167125 | E29: =E14-E28 -> 92737624 | F29: =F14+F18-F28 -> 37184423 | G29: =G14-G28 -> 35926.087 | H29: =H14-H28 -> 1.381251e+08
A30: 4. Fully | B30: a. Agriculture | C30: 51 | D30: 23375 | E30: 9354 | H30: =SUM(D30:G30) -> 32729
A31: Refunded | B31: b. Aviation | C31: 52 | H31: =SUM(D31:G31) -> 0
B32: c. Industrial/Commercial | C32: 53 | H32: =SUM(D32:G32) -> 0
B33: d. Construction | C33: 54 | H33: =SUM(D33:G33) -> 0
B34: e. Marine | C34: 55 | H34: =SUM(D34:G34) -> 0
B35: f. Municipal and Counties | C35: 56 | D35: 780 | H35: =SUM(D35:G35) -> 780
B36: g. Other | C36: 57 | D36: 4335 | E36: 28879 | H36: =SUM(D36:G36) -> 33214
B37: h. | C37: 58 | H37: =SUM(D37:G37) -> 0
B38: i. | C38: 59 | H38: =SUM(D38:G38) -> 0
B39: j. | C39: 60 | H39: =SUM(D39:G39) -> 0
B40: k. | C40: 61
B41: l. | C41: 62
B42: m. | C42: 63
B43: n. | C43: 64
B44: o. | C44: 65
B45: p. | C45: 66
B46: q. | C46: 67
B47: r. Total (a. thru s.) | C47: 70 | D47: =SUM(D30:D41) -> 28490 | E47: =SUM(E30:E41) -> 38233 | F47: =SUM(F30:F41) -> 0 | G47: =SUM(G30:G41) -> 0 | H47: =SUM(H30:H41) -> 66723
A48: 5. Net | B48: a. At Full Rate | C48: 81 | D48: =D29-D47 -> 8138635 | E48: =E29-E47 -> 92699391 | F48: =F29-F47 -> 37184423 | G48: =G29-G47 -> 35926.087 | H48: =SUM(D48:G48) -> 1.3805838e+08
A49: Volume | B49: b. | C49: 82
A50: Taxed | B50: c. | C50: 83
A51: Taxed at | B51: d. | C51: 84
A52: initial lower | B52: e. | C52: 85
A53: rate, partially | B53: f. | C53: 86
A54: exempt or | B54: g. | C54: 87
A55: partially | B55: h. | C55: 88
A56: refunded | B56: i. | C56: 89
B57: j. Total (a thru i, 3-4t) | C57: 90 | D57: =SUM(D48:D56) -> 8138635 | E57: =SUM(E48:E56) -> 92699391 | F57: =SUM(F48:F56) -> 37184423 | G57: =SUM(G48:G56) -> 35926.087 | H57: =SUM(H48:H56) -> 1.3805838e+08
B58: Calendar Year Cumulation | D58: =D57+'Mar22'!D58 -> 34027585 | E58: =E57+'Mar22'!E58 -> 359525782 | F58: =F57+'Mar22'!F58 -> 1.5875247e+08 | G58: =G57+'Mar22'!G58 -> 3242495.7 | H58: =H57+'Mar22'!H58 -> 5.5554833e+08
A59: 6. Source | B59: a. Agency Preparing this Report:
B60: Kansas Department of Revenue, Office of Research and Analysis
B61: b. Compiled under Direction of: | G61: c. Date
B62: Mark Burghart, Secretary of Revenue
E63: PREVIOUS EDITIONS OBSOLETE | H63: (Next Page)
E64: 1
H67: =H2 -> STATE
H68: =H3 -> Kansas
D69: NOTES AND TECHNICAL INFORMATION | H69: =H4 -> YEAR
H70: =H5 -> 2022
H71: =H6 -> MONTH OF SALE
H72: =H7 -> April
A73: 1. Rate of tax at end month, in cents-per-gallon/liter. | D73: (If tax is ad valorem, post percentage, and briefly explain application basis below.)
E74: Rate | F74: Effective Date
C75: a. Gasoline | E75: 24¢/gallon | F75: 37803
C76: b. Gasohol | E76: 24¢/gallon | F76: 37803
C77: c. Gasohol E85 | E77: 17¢/gallon | F77: 39083
C78: d. Diesel | E78: 26¢/gallon | F78: 37803
C79: e. LPG | E79: 23¢/gallon | F79: 37803
C80: f. CNG * | E80: 23¢/gallon | F80: 37803
B81: * 120 cubic feet = one gallon
A82: 2. Computation of gross volume reported (page 1, item 1). | F82: Special Fuels
E83: Gasoline and Gasohol | F83: (Diesel and LPG)
B84: Gross sales from wholesaler/retailer returns | E84: =D14+E14 -> 103911663 | F84: =(+F28+F29+G29)-(F85-F86) -> 37220349
B85: Plus: IMC fuel volume used in state | F85: =0/0.26 -> 0
B86: Less: IMC fuel volume purchased tax paid in state
B87: ="= Gross consumption in State (enter on page 1, item 1)" -> = Gross consumption in State (enter on page 1, item 1) | E87: =(E84+E85)-E86 -> 103911663 | F87: =(F84+F85)-F86 -> 37220349
E89: Interstate motor carrier (fuel use tax) fuel volume shown above covers period:
F90: Diesel | G90: LP-Gas | H90: Combined
E91: * page 1, line 1 split | F91: =F14 -> 37184423 | G91: =G14 -> 35926.087 | H91: =F91+G91 -> 37220349
A92: 3. Stratification of gasohol by blend ratio
B94: The gasohol volume on page 1 column (2) includes: | E94: (show actual/estimated volume or percentage shares)
C96: Percent Alcohol | E96: Volume | F96: Percentage Share
D97: 5.7-7.6%
D98: 7.7-9.9%
D99: 10% or more | F99: 1
A101: 4. Notes and comments
A104: Note that diesel gallons include state, county and municipal government highway use, but does not include use by
A105: school buses.
A106: Line #26 (Assessments) - Assessments, either positive or negative, can be the result of audits, amended returns or
A107: office (KS Dept. of Revenue) assessments or abatements.
A124: Form FHWA-551M (Rev. 11-93) | E124: 2

Sheet May22
A1: The public report burden for this information is estimated to average 5.4 hours | H1: Form Approved OMB No. 2125-0032
H2: STATE
A3: U.S. Department of | H3: Kansas
A4: Transportation | H4: YEAR
E5: MONTHLY MOTOR-FUEL CONSUMPTION | H5: 2022
H6: MONTH OF SALE
A7: Federal Highway | H7: May
A8: Administration | H8: UNITS (check one)
H9: Gallons X
H10: Liters
C11: LI | F11: PRIVATE AND COMMERCIAL
B12: ITEM | C12: NE | D12: GASOLINE | E12: GASOHOL | F12: HWY DIESEL | G12: HWY LPG | H12: TOTAL
C13: # | D13: -1 | E13: -2 | F13: -3 | G13: -4 | H13: -5
A14: 1. Gross | B14: a. Gross Volume Reported | C14: 1 | D14: =D15+D21+D22 -> 10768645 | E14: =E15+E21+E22 -> 106659819 | F14: =(F16-F17)/0.26 -> 39396496 | G14: =(G16-G17)/0.23 -> 760613.04 | H14: =SUM(D14:G14) -> 1.5758557e+08
B15: Net After Deduction | D15: 10202743 | E15: 106533030
B16: Special Fuel Tax Receipts ($) | F16: 10348356 | G16: 174941
B17: Special Fuel Tax Refunds ($) | F17: 105267 | G17: 0
A18: Volume | B18: b. IFTA | C18: 2 | F18: =F85 -> 0
A19: 2. Fully | B19: a. Losses - Flat % | C19: 21 | D19: 244216 | E19: 2515598 | H19: =SUM(D19:G19) -> 2759814
A20: Tax | B20: b. Losses - Actual | C20: 22 | D20: 0 | E20: 0 | H20: =SUM(D20:G20) -> 0
A21: Exempt | B21: c. Federal | C21: 23 | D21: 55073 | E21: 126789 | H21: =SUM(D21:G21) -> 181862
B22: d. Aviation | C22: 24 | D22: 510829 | E22: 0 | H22: =SUM(D22:G22) -> 510829
B23: e. Native American | C23: 25 | D23: 0 | H23: =SUM(D23:G23) -> 0
B24: f. Assessments | C24: 26 | D24: 62375 | H24: =SUM(D24:G24) -> 62375
B25: g. | C25: 27 | H25: =SUM(D25:G25) -> 0
B26: h. | C26: 28 | H26: =SUM(D26:G26) -> 0
B27: i. | C27: 29 | H27: =SUM(D27:G27) -> 0
B28: j. Total (sum a. through e - f.) | C28: 30 | D28: =SUM(D19:D23)-D24 -> 747743 | E28: =SUM(E19:E23)-E24 -> 2642387 | F28: =SUM(F19:F23)-F24 -> 0 | G28: =SUM(G19:G23)-G24 -> 0 | H28: =SUM(H19:H23)-H24 -> 3390130
A29: 3. Gross Volume Taxed (1-2j) | C29: 40 | D29: =D14-D28 -> 10020902 | E29: =E14-E28 -> 104017432 | F29: =F14+F18-F28 -> 39396496 | G29: =G14-G28 -> 760613.04 | H29: =H14-H28 -> 1.5419544e+08
A30: 4. Fully | B30: a. Agriculture | C30: 51 | D30: 5088 | E30: 2012 | H30: =SUM(D30:G30) -> 7100
A31: Refunded | B31: b. Aviation | C31: 52 | H31: =SUM(D31:G31) -> 0
B32: c. Industrial/Commercial | C32: 53 | H32: =SUM(D32:G32) -> 0
B33: d. Construction | C33: 54 | H33: =SUM(D33:G33) -> 0
B34: e. Marine | C34: 55 | H34: =SUM(D34:G34) -> 0
B35: f. Municipal and Counties | C35: 56 | H35: =SUM(D35:G35) -> 0
B36: g. Other | C36: 57 | D36: 32966 | E36: 19123 | H36: =SUM(D36:G36) -> 52089
B37: h. | C37: 58 | H37: =SUM(D37:G37) -> 0
B38: i. | C38: 59 | H38: =SUM(D38:G38) -> 0
B39: j. | C39: 60 | H39: =SUM(D39:G39) -> 0
B40: k. | C40: 61
B41: l. | C41: 62
B42: m. | C42: 63
B43: n. | C43: 64
B44: o. | C44: 65
B45: p. | C45: 66
B46: q. | C46: 67
B47: r. Total (a. thru s.) | C47: 70 | D47: =SUM(D30:D41) -> 38054 | E47: =SUM(E30:E41) -> 21135 | F47: =SUM(F30:F41) -> 0 | G47: =SUM(G30:G41) -> 0 | H47: =SUM(H30:H41) -> 59189
A48: 5. Net | B48: a. At Full Rate | C48: 81 | D48: =D29-D47 -> 9982848 | E48: =E29-E47 -> 103996297 | F48: =F29-F47 -> 39396496 | G48: =G29-G47 -> 760613.04 | H48: =SUM(D48:G48) -> 1.5413625e+08
A49: Volume | B49: b. | C49: 82
A50: Taxed | B50: c. | C50: 83
A51: Taxed at | B51: d. | C51: 84
A52: initial lower | B52: e. | C52: 85
A53: rate, partially | B53: f. | C53: 86
A54: exempt or | B54: g. | C54: 87
A55: partially | B55: h. | C55: 88
A56: refunded | B56: i. | C56: 89
B57: j. Total (a thru i, 3-4t) | C57: 90 | D57: =SUM(D48:D56) -> 9982848 | E57: =SUM(E48:E56) -> 103996297 | F57: =SUM(F48:F56) -> 39396496 | G57: =SUM(G48:G56) -> 760613.04 | H57: =SUM(H48:H56) -> 1.5413625e+08
B58: Calendar Year Cumulation | D58: =D57+'Apr22'!D58 -> 44010433 | E58: =E57+'Apr22'!E58 -> 463522079 | F58: =F57+'Apr22'!F58 -> 1.9814896e+08 | G58: =G57+'Apr22'!G58 -> 4003108.7 | H58: =H57+'Apr22'!H58 -> 7.0968458e+08
A59: 6. Source | B59: a. Agency Preparing this Report:
B60: Kansas Department of Revenue, Office of Research and Analysis
B61: b. Compiled under Direction of: | G61: c. Date
B62: Mark Burghart, Secretary of Revenue
E63: PREVIOUS EDITIONS OBSOLETE | H63: (Next Page)
E64: 1
H67: =H2 -> STATE
H68: =H3 -> Kansas
D69: NOTES AND TECHNICAL INFORMATION | H69: =H4 -> YEAR
H70: =H5 -> 2022
H71: =H6 -> MONTH OF SALE
H72: =H7 -> May
A73: 1. Rate of tax at end month, in cents-per-gallon/liter. | D73: (If tax is ad valorem, post percentage, and briefly explain application basis below.)
E74: Rate | F74: Effective Date
C75: a. Gasoline | E75: 24¢/gallon | F75: 37803
C76: b. Gasohol | E76: 24¢/gallon | F76: 37803
C77: c. Gasohol E85 | E77: 17¢/gallon | F77: 39083
C78: d. Diesel | E78: 26¢/gallon | F78: 37803
C79: e. LPG | E79: 23¢/gallon | F79: 37803
C80: f. CNG * | E80: 23¢/gallon | F80: 37803
B81: * 120 cubic feet = one gallon
A82: 2. Computation of gross volume reported (page 1, item 1). | F82: Special Fuels
E83: Gasoline and Gasohol | F83: (Diesel and LPG)
B84: Gross sales from wholesaler/retailer returns | E84: =D14+E14 -> 117428464 | F84: =(+F28+F29+G29)-(F85-F86) -> 40157109
B85: Plus: IMC fuel volume used in state | F85: =0/0.26 -> 0
B86: Less: IMC fuel volume purchased tax paid in state
B87: ="= Gross consumption in State (enter on page 1, item 1)" -> = Gross consumption in State (enter on page 1, item 1) | E87: =(E84+E85)-E86 -> 117428464 | F87: =(F84+F85)-F86 -> 40157109
E89: Interstate motor carrier (fuel use tax) fuel volume shown above covers period:
F90: Diesel | G90: LP-Gas | H90: Combined
E91: * page 1, line 1 split | F91: =F14 -> 39396496 | G91: =G14 -> 760613.04 | H91: =F91+G91 -> 40157109
A92: 3. Stratification of gasohol by blend ratio
B94: The gasohol volume on page 1 column (2) includes: | E94: (show actual/estimated volume or percentage shares)
C96: Percent Alcohol | E96: Volume | F96: Percentage Share
D97: 5.7-7.6%
D98: 7.7-9.9%
D99: 10% or more | F99: 1
A101: 4. Notes and comments
A104: Note that diesel gallons include state, county and municipal government highway use, but does not include use by
A105: school buses.
A106: Line #26 (Assessments) - Assessments, either positive or negative, can be the result of audits, amended returns or
A107: office (KS Dept. of Revenue) assessments or abatements.
A124: Form FHWA-551M (Rev. 11-93) | E124: 2

Sheet June22
A1: The public report burden for this information is estimated to average 5.4 hours | H1: Form Approved OMB No. 2125-0032
H2: STATE
A3: U.S. Department of | H3: Kansas
A4: Transportation | H4: YEAR
E5: MONTHLY MOTOR-FUEL CONSUMPTION | H5: 2022
H6: MONTH OF SALE
A7: Federal Highway | H7: June
A8: Administration | H8: UNITS (check one)
H9: Gallons X
H10: Liters
C11: LI | F11: PRIVATE AND COMMERCIAL
B12: ITEM | C12: NE | D12: GASOLINE | E12: GASOHOL | F12: HWY DIESEL | G12: HWY LPG | H12: TOTAL
C13: # | D13: -1 | E13: -2 | F13: -3 | G13: -4 | H13: -5
A14: 1. Gross | B14: a. Gross Volume Reported | C14: 1 | D14: =D15+D21+D22 -> 9817157 | E14: =E15+E21+E22 -> 101501938 | F14: =(F16-F17)/0.26 -> 40550081 | G14: =(G16-G17)/0.23 -> 746082.61 | H14: =SUM(D14:G14) -> 1.5261526e+08
B15: Net After Deduction | D15: 9229467 | E15: 101376181
B16: Special Fuel Tax Receipts ($) | F16: 10711232 | G16: 171599
B17: Special Fuel Tax Refunds ($) | F17: 168211 | G17: 0
A18: Volume | B18: b. IFTA | C18: 2 | F18: =F85 -> 8261096.2
A19: 2. Fully | B19: a. Losses - Flat % | C19: 21 | D19: 219565 | E19: 2379166 | H19: =SUM(D19:G19) -> 2598731
A20: Tax | B20: b. Losses - Actual | C20: 22 | D20: 0 | E20: 0 | H20: =SUM(D20:G20) -> 0
A21: Exempt | B21: c. Federal | C21: 23 | D21: 48867 | E21: 125757 | H21: =SUM(D21:G21) -> 174624
B22: d. Aviation | C22: 24 | D22: 538823 | E22: 0 | H22: =SUM(D22:G22) -> 538823
B23: e. Native American | C23: 25 | D23: 0 | H23: =SUM(D23:G23) -> 0
B24: f. Assessments | C24: 26 | D24: 26747.25 | H24: =SUM(D24:G24) -> 26747.25
B25: g. | C25: 27 | H25: =SUM(D25:G25) -> 0
B26: h. | C26: 28 | H26: =SUM(D26:G26) -> 0
B27: i. | C27: 29 | H27: =SUM(D27:G27) -> 0
B28: j. Total (sum a. through e - f.) | C28: 30 | D28: =SUM(D19:D23)-D24 -> 780507.75 | E28: =SUM(E19:E23)-E24 -> 2504923 | F28: =SUM(F19:F23)-F24 -> 0 | G28: =SUM(G19:G23)-G24 -> 0 | H28: =SUM(H19:H23)-H24 -> 3285430.8
A29: 3. Gross Volume Taxed (1-2j) | C29: 40 | D29: =D14-D28 -> 9036649.2 | E29: =E14-E28 -> 98997015 | F29: =F14+F18-F28 -> 48811177 | G29: =G14-G28 -> 746082.61 | H29: =H14-H28 -> 1.4932983e+08
A30: 4. Fully | B30: a. Agriculture | C30: 51 | D30: 2693 | E30: 2073 | H30: =SUM(D30:G30) -> 4766
A31: Refunded | B31: b. Aviation | C31: 52 | H31: =SUM(D31:G31) -> 0
B32: c. Industrial/Commercial | C32: 53 | H32: =SUM(D32:G32) -> 0
B33: d. Construction | C33: 54 | H33: =SUM(D33:G33) -> 0
B34: e. Marine | C34: 55 | H34: =SUM(D34:G34) -> 0
B35: f. Municipal and Counties | C35: 56 | D35: 25 | E35: =29565+5395 -> 34960 | H35: =SUM(D35:G35) -> 34985
B36: g. Other | C36: 57 | D36: =2198+27072 -> 29270 | E36: =52+6240 -> 6292 | H36: =SUM(D36:G36) -> 35562
B37: h. | C37: 58 | H37: =SUM(D37:G37) -> 0
B38: i. | C38: 59 | H38: =SUM(D38:G38) -> 0
B39: j. | C39: 60 | H39: =SUM(D39:G39) -> 0
B40: k. | C40: 61
B41: l. | C41: 62
B42: m. | C42: 63
B43: n. | C43: 64
B44: o. | C44: 65
B45: p. | C45: 66
B46: q. | C46: 67
B47: r. Total (a. thru s.) | C47: 70 | D47: =SUM(D30:D41) -> 31988 | E47: =SUM(E30:E41) -> 43325 | F47: =SUM(F30:F41) -> 0 | G47: =SUM(G30:G41) -> 0 | H47: =SUM(H30:H41) -> 75313
A48: 5. Net | B48: a. At Full Rate | C48: 81 | D48: =D29-D47 -> 9004661.2 | E48: =E29-E47 -> 98953690 | F48: =F29-F47 -> 48811177 | G48: =G29-G47 -> 746082.61 | H48: =SUM(D48:G48) -> 1.5751561e+08
A49: Volume | B49: b. | C49: 82
A50: Taxed | B50: c. | C50: 83
A51: Taxed at | B51: d. | C51: 84
A52: initial lower | B52: e. | C52: 85
A53: rate, partially | B53: f. | C53: 86
A54: exempt or | B54: g. | C54: 87
A55: partially | B55: h. | C55: 88
A56: refunded | B56: i. | C56: 89
B57: j. Total (a thru i, 3-4t) | C57: 90 | D57: =SUM(D48:D56) -> 9004661.2 | E57: =SUM(E48:E56) -> 98953690 | F57: =SUM(F48:F56) -> 48811177 | G57: =SUM(G48:G56) -> 746082.61 | H57: =SUM(H48:H56) -> 1.5751561e+08
B58: Calendar Year Cumulation | D58: =D57+'May22'!D58 -> 53015094 | E58: =E57+'May22'!E58 -> 562475769 | F58: =F57+'May22'!F58 -> 2.4696014e+08 | G58: =G57+'May22'!G58 -> 4749191.3 | H58: =H57+'May22'!H58 -> 8.6720019e+08
A59: 6. Source | B59: a. Agency Preparing this Report:
B60: Kansas Department of Revenue, Office of Research and Analysis
B61: b. Compiled under Direction of: | G61: c. Date
B62: Mark Burghart, Secretary of Revenue
E63: PREVIOUS EDITIONS OBSOLETE | H63: (Next Page)
E64: 1
H67: =H2 -> STATE
H68: =H3 -> Kansas
D69: NOTES AND TECHNICAL INFORMATION | H69: =H4 -> YEAR
H70: =H5 -> 2022
H71: =H6 -> MONTH OF SALE
H72: =H7 -> June
A73: 1. Rate of tax at end month, in cents-per-gallon/liter. | D73: (If tax is ad valorem, post percentage, and briefly explain application basis below.)
E74: Rate | F74: Effective Date
C75: a. Gasoline | E75: 24¢/gallon | F75: 37803
C76: b. Gasohol | E76: 24¢/gallon | F76: 37803
C77: c. Gasohol E85 | E77: 17¢/gallon | F77: 39083
C78: d. Diesel | E78: 26¢/gallon | F78: 37803
C79: e. LPG | E79: 23¢/gallon | F79: 37803
C80: f. CNG * | E80: 23¢/gallon | F80: 37803
B81: * 120 cubic feet = one gallon
A82: 2. Computation of gross volume reported (page 1, item 1). | F82: Special Fuels
E83: Gasoline and Gasohol | F83: (Diesel and LPG)
B84: Gross sales from wholesaler/retailer returns | E84: =D14+E14 -> 111319095 | F84: =(+F28+F29+G29)-(F85-F86) -> 41296163
B85: Plus: IMC fuel volume used in state | F85: =2147885/0.26 -> 8261096.2
B86: Less: IMC fuel volume purchased tax paid in state
B87: ="= Gross consumption in State (enter on page 1, item 1)" -> = Gross consumption in State (enter on page 1, item 1) | E87: =(E84+E85)-E86 -> 111319095 | F87: =(F84+F85)-F86 -> 49557260
E89: Interstate motor carrier (fuel use tax) fuel volume shown above covers period:
F90: Diesel | G90: LP-Gas | H90: Combined
E91: * page 1, line 1 split | F91: =F14 -> 40550081 | G91: =G14 -> 746082.61 | H91: =F91+G91 -> 41296163
A92: 3. Stratification of gasohol by blend ratio
B94: The gasohol volume on page 1 column (2) includes: | E94: (show actual/estimated volume or percentage shares)
C96: Percent Alcohol | E96: Volume | F96: Percentage Share
D97: 5.7-7.6%
D98: 7.7-9.9%
D99: 10% or more | F99: 1
A101: 4. Notes and comments
A104: Note that diesel gallons include state, county and municipal government highway use, but does not include use by
A105: school buses.
A106: Line #26 (Assessments) - Assessments, either positive or negative, can be the result of audits, amended returns or
A107: office (KS Dept. of Revenue) assessments or abatements.
A124: Form FHWA-551M (Rev. 11-93) | E124: 2

Sheet July22
A1: The public report burden for this information is estimated to average 5.4 hours | H1: Form Approved OMB No. 2125-0032
H2: STATE
A3: U.S. Department of | H3: Kansas
A4: Transportation | H4: YEAR
E5: MONTHLY MOTOR-FUEL CONSUMPTION | H5: 2022
H6: MONTH OF SALE
A7: Federal Highway | H7: July
A8: Administration | H8: UNITS (check one)
H9: Gallons X
H10: Liters
C11: LI | F11: PRIVATE AND COMMERCIAL
B12: ITEM | C12: NE | D12: GASOLINE | E12: GASOHOL | F12: HWY DIESEL | G12: HWY LPG | H12: TOTAL
C13: # | D13: -1 | E13: -2 | F13: -3 | G13: -4 | H13: -5
A14: 1. Gross | B14: a. Gross Volume Reported | C14: 1 | D14: =D15+D21+D22 -> 10030543 | E14: =E15+E21+E22 -> 80978257 | F14: =(F16-F17)/0.26 -> 40667546 | G14: =(G16-G17)/0.23 -> 698126.09 | H14: =SUM(D14:G14) -> 1.3237447e+08
B15: Net After Deduction | D15: 9375198 | E15: 80848507
B16: Special Fuel Tax Receipts ($) | F16: 10628500 | G16: 160569
B17: Special Fuel Tax Refunds ($) | F17: 54938 | G17: 0
A18: Volume | B18: b. IFTA | C18: 2
A19: 2. Fully | B19: a. Losses - Flat % | C19: 21 | D19: 224997 | E19: 1877376 | H19: =SUM(D19:G19) -> 2102373
A20: Tax | B20: b. Losses - Actual | C20: 22 | D20: 0 | E20: 0 | H20: =SUM(D20:G20) -> 0
A21: Exempt | B21: c. Federal | C21: 23 | D21: 53180 | E21: 129750 | H21: =SUM(D21:G21) -> 182930
B22: d. Aviation | C22: 24 | D22: 602165 | E22: 0 | H22: =SUM(D22:G22) -> 602165
B23: e. Native American | C23: 25 | D23: 0 | H23: =SUM(D23:G23) -> 0
B24: f. Assessments | C24: 26 | D24: 27063.83 | H24: =SUM(D24:G24) -> 27063.83
B25: g. | C25: 27 | H25: =SUM(D25:G25) -> 0
B26: h. | C26: 28 | H26: =SUM(D26:G26) -> 0
B27: i. | C27: 29 | H27: =SUM(D27:G27) -> 0
B28: j. Total (sum a. through e - f.) | C28: 30 | D28: =SUM(D19:D23)-D24 -> 853278.17 | E28: =SUM(E19:E23)-E24 -> 2007126 | F28: =SUM(F19:F23)-F24 -> 0 | G28: =SUM(G19:G23)-G24 -> 0 | H28: =SUM(H19:H23)-H24 -> 2860404.2
A29: 3. Gross Volume Taxed (1-2j) | C29: 40 | D29: =D14-D28 -> 9177264.8 | E29: =E14-E28 -> 78971131 | F29: =F14+F18-F28 -> 40667546 | G29: =G14-G28 -> 698126.09 | H29: =H14-H28 -> 1.2951407e+08
A30: 4. Fully | B30: a. Agriculture | C30: 51 | D30: 4562 | E30: 2737 | H30: =SUM(D30:G30) -> 7299
A31: Refunded | B31: b. Aviation | C31: 52 | H31: =SUM(D31:G31) -> 0
B32: c. Industrial/Commercial | C32: 53 | H32: =SUM(D32:G32) -> 0
B33: d. Construction | C33: 54 | H33: =SUM(D33:G33) -> 0
B34: e. Marine | C34: 55 | H34: =SUM(D34:G34) -> 0
B35: f. Municipal and Counties | C35: 56 | H35: =SUM(D35:G35) -> 0
B36: g. Other | C36: 57 | D36: 13066 | E36: 7235 | H36: =SUM(D36:G36) -> 20301
B37: h. | C37: 58 | H37: =SUM(D37:G37) -> 0
B38: i. | C38: 59 | H38: =SUM(D38:G38) -> 0
B39: j. | C39: 60 | H39: =SUM(D39:G39) -> 0
B40: k. | C40: 61
B41: l. | C41: 62
B42: m. | C42: 63
B43: n. | C43: 64
B44: o. | C44: 65
B45: p. | C45: 66
B46: q. | C46: 67
B47: r. Total (a. thru s.) | C47: 70 | D47: =SUM(D30:D41) -> 17628 | E47: =SUM(E30:E41) -> 9972 | F47: =SUM(F30:F41) -> 0 | G47: =SUM(G30:G41) -> 0 | H47: =SUM(H30:H41) -> 27600
A48: 5. Net | B48: a. At Full Rate | C48: 81 | D48: =D29-D47 -> 9159636.8 | E48: =E29-E47 -> 78961159 | F48: =F29-F47 -> 40667546 | G48: =G29-G47 -> 698126.09 | H48: =SUM(D48:G48) -> 1.2948647e+08
A49: Volume | B49: b. | C49: 82
A50: Taxed | B50: c. | C50: 83
A51: Taxed at | B51: d. | C51: 84
A52: initial lower | B52: e. | C52: 85
A53: rate, partially | B53: f. | C53: 86
A54: exempt or | B54: g. | C54: 87
A55: partially | B55: h. | C55: 88
A56: refunded | B56: i. | C56: 89
B57: j. Total (a thru i, 3-4t) | C57: 90 | D57: =SUM(D48:D56) -> 9159636.8 | E57: =SUM(E48:E56) -> 78961159 | F57: =SUM(F48:F56) -> 40667546 | G57: =SUM(G48:G56) -> 698126.09 | H57: =SUM(H48:H56) -> 1.2948647e+08
B58: Calendar Year Cumulation | D58: =D57+June22!D58 -> 62174731 | E58: =E57+June22!E58 -> 641436928 | F58: =F57+June22!F58 -> 2.8762768e+08 | G58: =G57+June22!G58 -> 5447317.4 | H58: =H57+June22!H58 -> 9.9668666e+08
A59: 6. Source | B59: a. Agency Preparing this Report:
B60: Kansas Department of Revenue, Office of Research and Analysis
B61: b. Compiled under Direction of: | G61: c. Date
B62: Mark Burghart, Secretary of Revenue
E63: PREVIOUS EDITIONS OBSOLETE | H63: (Next Page)
E64: 1
H67: =H2 -> STATE
H68: =H3 -> Kansas
D69: NOTES AND TECHNICAL INFORMATION | H69: =H4 -> YEAR
H70: =H5 -> 2022
H71: =H6 -> MONTH OF SALE
H72: =H7 -> July
A73: 1. Rate of tax at end month, in cents-per-gallon/liter. | D73: (If tax is ad valorem, post percentage, and briefly explain application basis below.)
E74: Rate | F74: Effective Date
C75: a. Gasoline | E75: 24¢/gallon | F75: 37803
C76: b. Gasohol | E76: 24¢/gallon | F76: 37803
C77: c. Gasohol E85 | E77: 17¢/gallon | F77: 39083
C78: d. Diesel | E78: 26¢/gallon | F78: 37803
C79: e. LPG | E79: 23¢/gallon | F79: 37803
C80: f. CNG * | E80: 23¢/gallon | F80: 37803
B81: * 120 cubic feet = one gallon
A82: 2. Computation of gross volume reported (page 1, item 1). | F82: Special Fuels
E83: Gasoline and Gasohol | F83: (Diesel and LPG)
B84: Gross sales from wholesaler/retailer returns | E84: =D14+E14 -> 91008800 | F84: =(+F28+F29+G29)-(F85-F86) -> 33104576
B85: Plus: IMC fuel volume used in state | F85: =2147885/0.26 -> 8261096.2
B86: Less: IMC fuel volume purchased tax paid in state
B87: ="= Gross consumption in State (enter on page 1, item 1)" -> = Gross consumption in State (enter on page 1, item 1) | E87: =(E84+E85)-E86 -> 91008800 | F87: =(F84+F85)-F86 -> 41365672
E89: Interstate motor carrier (fuel use tax) fuel volume shown above covers period:
F90: Diesel | G90: LP-Gas | H90: Combined
E91: * page 1, line 1 split | F91: =F14 -> 40667546 | G91: =G14 -> 698126.09 | H91: =F91+G91 -> 41365672
A92: 3. Stratification of gasohol by blend ratio
B94: The gasohol volume on page 1 column (2) includes: | E94: (show actual/estimated volume or percentage shares)
C96: Percent Alcohol | E96: Volume | F96: Percentage Share
D97: 5.7-7.6%
D98: 7.7-9.9%
D99: 10% or more | F99: 1
A101: 4. Notes and comments
A104: Note that diesel gallons include state, county and municipal government highway use, but does not include use by
A105: school buses.
A106: Line #26 (Assessments) - Assessments, either positive or negative, can be the result of audits, amended returns or
A107: office (KS Dept. of Revenue) assessments or abatements.
A124: Form FHWA-551M (Rev. 11-93) | E124: 2

Sheet Aug22
A1: The public report burden for this information is estimated to average 5.4 hours | H1: Form Approved OMB No. 2125-0032
H2: STATE
A3: U.S. Department of | H3: Kansas
A4: Transportation | H4: YEAR
E5: MONTHLY MOTOR-FUEL CONSUMPTION | H5: 2022
H6: MONTH OF SALE
A7: Federal Highway | H7: August
A8: Administration | H8: UNITS (check one)
H9: Gallons X
H10: Liters
C11: LI | F11: PRIVATE AND COMMERCIAL
B12: ITEM | C12: NE | D12: GASOLINE | E12: GASOHOL | F12: HWY DIESEL | G12: HWY LPG | H12: TOTAL
C13: # | D13: -1 | E13: -2 | F13: -3 | G13: -4 | H13: -5
A14: 1. Gross | B14: a. Gross Volume Reported | C14: 1 | D14: =D15+D21+D22 -> 9741640 | E14: =E15+E21+E22 -> 81861256 | F14: =(F16-F17)/0.26 -> 41134158 | G14: =(G16-G17)/0.23 -> 763086.96 | H14: =SUM(D14:G14) -> 1.3350014e+08
B15: Net After Deduction | D15: 9062789 | E15: 81782089
B16: Special Fuel Tax Receipts ($) | F16: 10808753 | G16: 175510
B17: Special Fuel Tax Refunds ($) | F17: 113872 | G17: 0
A18: Volume | B18: b. IFTA | C18: 2
A19: 2. Fully | B19: a. Losses - Flat % | C19: 21 | D19: 215267 | E19: 1905859 | H19: =SUM(D19:G19) -> 2121126
A20: Tax | B20: b. Losses - Actual | C20: 22 | D20: 0 | E20: 0 | H20: =SUM(D20:G20) -> 0
A21: Exempt | B21: c. Federal | C21: 23 | D21: 50585 | E21: 79167 | H21: =SUM(D21:G21) -> 129752
B22: d. Aviation | C22: 24 | D22: 628266 | E22: 0 | H22: =SUM(D22:G22) -> 628266
B23: e. Native American | C23: 25 | D23: 0 | H23: =SUM(D23:G23) -> 0
B24: f. Assessments | C24: 26 | D24: 3619179 | H24: =SUM(D24:G24) -> 3619179
B25: g. | C25: 27 | H25: =SUM(D25:G25) -> 0
B26: h. | C26: 28 | H26: =SUM(D26:G26) -> 0
B27: i. | C27: 29 | H27: =SUM(D27:G27) -> 0
B28: j. Total (sum a. through e - f.) | C28: 30 | D28: =SUM(D19:D23)-D24 -> -2725061 | E28: =SUM(E19:E23)-E24 -> 1985026 | F28: =SUM(F19:F23)-F24 -> 0 | G28: =SUM(G19:G23)-G24 -> 0 | H28: =SUM(H19:H23)-H24 -> -740035
A29: 3. Gross Volume Taxed (1-2j) | C29: 40 | D29: =D14-D28 -> 12466701 | E29: =E14-E28 -> 79876230 | F29: =F14+F18-F28 -> 41134158 | G29: =G14-G28 -> 763086.96 | H29: =H14-H28 -> 1.3424018e+08
A30: 4. Fully | B30: a. Agriculture | C30: 51 | E30: 5920 | H30: =SUM(D30:G30) -> 5920
A31: Refunded | B31: b. Aviation | C31: 52 | H31: =SUM(D31:G31) -> 0
B32: c. Industrial/Commercial | C32: 53 | H32: =SUM(D32:G32) -> 0
B33: d. Construction | C33: 54 | H33: =SUM(D33:G33) -> 0
B34: e. Marine | C34: 55 | H34: =SUM(D34:G34) -> 0
B35: f. Municipal and Counties | C35: 56 | H35: =SUM(D35:G35) -> 0
B36: g. Other | C36: 57 | D36: 7849 | E36: 5397 | H36: =SUM(D36:G36) -> 13246
B37: h. | C37: 58 | H37: =SUM(D37:G37) -> 0
B38: i. | C38: 59 | H38: =SUM(D38:G38) -> 0
B39: j. | C39: 60 | H39: =SUM(D39:G39) -> 0
B40: k. | C40: 61
B41: l. | C41: 62
B42: m. | C42: 63
B43: n. | C43: 64
B44: o. | C44: 65
B45: p. | C45: 66
B46: q. | C46: 67
B47: r. Total (a. thru s.) | C47: 70 | D47: =SUM(D30:D41) -> 7849 | E47: =SUM(E30:E41) -> 11317 | F47: =SUM(F30:F41) -> 0 | G47: =SUM(G30:G41) -> 0 | H47: =SUM(H30:H41) -> 19166
A48: 5. Net | B48: a. At Full Rate | C48: 81 | D48: =D29-D47 -> 12458852 | E48: =E29-E47 -> 79864913 | F48: =F29-F47 -> 41134158 | G48: =G29-G47 -> 763086.96 | H48: =SUM(D48:G48) -> 1.3422101e+08
A49: Volume | B49: b. | C49: 82
A50: Taxed | B50: c. | C50: 83
A51: Taxed at | B51: d. | C51: 84
A52: initial lower | B52: e. | C52: 85
A53: rate, partially | B53: f. | C53: 86
A54: exempt or | B54: g. | C54: 87
A55: partially | B55: h. | C55: 88
A56: refunded | B56: i. | C56: 89
B57: j. Total (a thru i, 3-4t) | C57: 90 | D57: =SUM(D48:D56) -> 12458852 | E57: =SUM(E48:E56) -> 79864913 | F57: =SUM(F48:F56) -> 41134158 | G57: =SUM(G48:G56) -> 763086.96 | H57: =SUM(H48:H56) -> 1.3422101e+08
B58: Calendar Year Cumulation | D58: =D57+July22!D58 -> 74633583 | E58: =E57+July22!E58 -> 721301841 | F58: =F57+July22!F58 -> 3.2876184e+08 | G58: =G57+July22!G58 -> 6210404.3 | H58: =H57+July22!H58 -> 1.1309077e+09
A59: 6. Source | B59: a. Agency Preparing this Report:
B60: Kansas Department of Revenue, Office of Research and Analysis
B61: b. Compiled under Direction of: | G61: c. Date
B62: Mark Burghart, Secretary of Revenue
E63: PREVIOUS EDITIONS OBSOLETE | H63: (Next Page)
E64: 1
H67: =H2 -> STATE
H68: =H3 -> Kansas
D69: NOTES AND TECHNICAL INFORMATION | H69: =H4 -> YEAR
H70: =H5 -> 2022
H71: =H6 -> MONTH OF SALE
H72: =H7 -> August
A73: 1. Rate of tax at end month, in cents-per-gallon/liter. | D73: (If tax is ad valorem, post percentage, and briefly explain application basis below.)
E74: Rate | F74: Effective Date
C75: a. Gasoline | E75: 24¢/gallon | F75: 37803
C76: b. Gasohol | E76: 24¢/gallon | F76: 37803
C77: c. Gasohol E85 | E77: 17¢/gallon | F77: 39083
C78: d. Diesel | E78: 26¢/gallon | F78: 37803
C79: e. LPG | E79: 23¢/gallon | F79: 37803
C80: f. CNG * | E80: 23¢/gallon | F80: 37803
B81: * 120 cubic feet = one gallon
A82: 2. Computation of gross volume reported (page 1, item 1). | F82: Special Fuels
E83: Gasoline and Gasohol | F83: (Diesel and LPG)
B84: Gross sales from wholesaler/retailer returns | E84: =D14+E14 -> 91602896 | F84: =(+F28+F29+G29)-(F85-F86) -> 33636148
B85: Plus: IMC fuel volume used in state | F85: =2147885/0.26 -> 8261096.2
B86: Less: IMC fuel volume purchased tax paid in state
B87: ="= Gross consumption in State (enter on page 1, item 1)" -> = Gross consumption in State (enter on page 1, item 1) | E87: =(E84+E85)-E86 -> 91602896 | F87: =(F84+F85)-F86 -> 41897245
E89: Interstate motor carrier (fuel use tax) fuel volume shown above covers period:
F90: Diesel | G90: LP-Gas | H90: Combined
E91: * page 1, line 1 split | F91: =F14 -> 41134158 | G91: =G14 -> 763086.96 | H91: =F91+G91 -> 41897245
A92: 3. Stratification of gasohol by blend ratio
B94: The gasohol volume on page 1 column (2) includes: | E94: (show actual/estimated volume or percentage shares)
C96: Percent Alcohol | E96: Volume | F96: Percentage Share
D97: 5.7-7.6%
D98: 7.7-9.9%
D99: 10% or more | F99: 1
A101: 4. Notes and comments
A104: Note that diesel gallons include state, county and municipal government highway use, but does not include use by
A105: school buses.
A106: Line #26 (Assessments) - Assessments, either positive or negative, can be the result of audits, amended returns or
A107: office (KS Dept. of Revenue) assessments or abatements.
A124: Form FHWA-551M (Rev. 11-93) | E124: 2

Sheet Sep22
A1: The public report burden for this information is estimated to average 5.4 hours | H1: Form Approved OMB No. 2125-0032
H2: STATE
A3: U.S. Department of | H3: Kansas
A4: Transportation | H4: YEAR
E5: MONTHLY MOTOR-FUEL CONSUMPTION | H5: 2022
H6: MONTH OF SALE
A7: Federal Highway | H7: September
A8: Administration | H8: UNITS (check one)
H9: Gallons X
H10: Liters
C11: LI | F11: PRIVATE AND COMMERCIAL
B12: ITEM | C12: NE | D12: GASOLINE | E12: GASOHOL | F12: HWY DIESEL | G12: HWY LPG | H12: TOTAL
C13: # | D13: -1 | E13: -2 | F13: -3 | G13: -4 | H13: -5
A14: 1. Gross | B14: a. Gross Volume Reported | C14: 1 | D14: =D15+D21+D22 -> 9674362 | E14: =E15+E21+E22 -> 100191433 | F14: =(F16-F17)/0.26 -> 37672031 | G14: =(G16-G17)/0.23 -> 695686.96 | H14: =SUM(D14:G14) -> 1.4823351e+08
B15: Net After Deduction | D15: 8965437 | E15: 100048107
B16: Special Fuel Tax Receipts ($) | F16: 10640831 | G16: 160008
B17: Special Fuel Tax Refunds ($) | F17: 846103 | G17: 0
A18: Volume | B18: b. IFTA | C18: 2 | F18: =1931793/0.26 -> 7429973.1
A19: 2. Fully | B19: a. Losses - Flat % | C19: 21 | D19: 211689 | E19: 2347637 | H19: =SUM(D19:G19) -> 2559326
A20: Tax | B20: b. Losses - Actual | C20: 22 | D20: 0 | E20: 0 | H20: =SUM(D20:G20) -> 0
A21: Exempt | B21: c. Federal | C21: 23 | D21: 51254 | E21: 143326 | H21: =SUM(D21:G21) -> 194580
B22: d. Aviation | C22: 24 | D22: 657671 | E22: 0 | H22: =SUM(D22:G22) -> 657671
B23: e. Native American | C23: 25 | D23: 0 | H23: =SUM(D23:G23) -> 0
B24: f. Assessments | C24: 26 | D24: -331088 | H24: =SUM(D24:G24) -> -331088
B25: g. | C25: 27 | H25: =SUM(D25:G25) -> 0
B26: h. | C26: 28 | H26: =SUM(D26:G26) -> 0
B27: i. | C27: 29 | H27: =SUM(D27:G27) -> 0
B28: j. Total (sum a. through e - f.) | C28: 30 | D28: =SUM(D19:D23)-D24 -> 1251702 | E28: =SUM(E19:E23)-E24 -> 2490963 | F28: =SUM(F19:F23)-F24 -> 0 | G28: =SUM(G19:G23)-G24 -> 0 | H28: =SUM(H19:H23)-H24 -> 3742665
A29: 3. Gross Volume Taxed (1-2j) | C29: 40 | D29: =D14-D28 -> 8422660 | E29: =E14-E28 -> 97700470 | F29: =F14+F18-F28 -> 45102004 | G29: =G14-G28 -> 695686.96 | H29: =H14-H28 -> 1.4449085e+08
A30: 4. Fully | B30: a. Agriculture | C30: 51 | D30: 6630 | E30: 6058 | H30: =SUM(D30:G30) -> 12688
A31: Refunded | B31: b. Aviation | C31: 52 | H31: =SUM(D31:G31) -> 0
B32: c. Industrial/Commercial | C32: 53 | H32: =SUM(D32:G32) -> 0
B33: d. Construction | C33: 54 | H33: =SUM(D33:G33) -> 0
B34: e. Marine | C34: 55 | H34: =SUM(D34:G34) -> 0
B35: f. Municipal and Counties | C35: 56 | H35: =SUM(D35:G35) -> 0
B36: g. Other | C36: 57 | D36: 7142 | E36: 129111 | H36: =SUM(D36:G36) -> 136253
B37: h. | C37: 58 | H37: =SUM(D37:G37) -> 0
B38: i. | C38: 59 | H38: =SUM(D38:G38) -> 0
B39: j. | C39: 60 | H39: =SUM(D39:G39) -> 0
B40: k. | C40: 61
B41: l. | C41: 62
B42: m. | C42: 63
B43: n. | C43: 64
B44: o. | C44: 65
B45: p. | C45: 66
B46: q. | C46: 67
B47: r. Total (a. thru s.) | C47: 70 | D47: =SUM(D30:D41) -> 13772 | E47: =SUM(E30:E41) -> 135169 | F47: =SUM(F30:F41) -> 0 | G47: =SUM(G30:G41) -> 0 | H47: =SUM(H30:H41) -> 148941
A48: 5. Net | B48: a. At Full Rate | C48: 81 | D48: =D29-D47 -> 8408888 | E48: =E29-E47 -> 97565301 | F48: =F29-F47 -> 45102004 | G48: =G29-G47 -> 695686.96 | H48: =SUM(D48:G48) -> 1.5177188e+08
A49: Volume | B49: b. | C49: 82
A50: Taxed | B50: c. | C50: 83
A51: Taxed at | B51: d. | C51: 84
A52: initial lower | B52: e. | C52: 85
A53: rate, partially | B53: f. | C53: 86
A54: exempt or | B54: g. | C54: 87
A55: partially | B55: h. | C55: 88
A56: refunded | B56: i. | C56: 89
B57: j. Total (a thru i, 3-4t) | C57: 90 | D57: =SUM(D48:D56) -> 8408888 | E57: =SUM(E48:E56) -> 97565301 | F57: =SUM(F48:F56) -> 45102004 | G57: =SUM(G48:G56) -> 695686.96 | H57: =SUM(H48:H56) -> 1.5177188e+08
B58: Calendar Year Cumulation | D58: =D57+'Aug22'!D58 -> 83042471 | E58: =E57+'Aug22'!E58 -> 818867142 | F58: =F57+'Aug22'!F58 -> 3.7386385e+08 | G58: =G57+'Aug22'!G58 -> 6906091.3 | H58: =H57+'Aug22'!H58 -> 1.2826796e+09
A59: 6. Source | B59: a. Agency Preparing this Report:
B60: Kansas Department of Revenue, Office of Research and Analysis
B61: b. Compiled under Direction of: | G61: c. Date
B62: Mark Burghart, Secretary of Revenue
E63: PREVIOUS EDITIONS OBSOLETE | H63: (Next Page)
E64: 1
H67: =H2 -> STATE
H68: =H3 -> Kansas
D69: NOTES AND TECHNICAL INFORMATION | H69: =H4 -> YEAR
H70: =H5 -> 2022
H71: =H6 -> MONTH OF SALE
H72: =H7 -> September
A73: 1. Rate of tax at end month, in cents-per-gallon/liter. | D73: (If tax is ad valorem, post percentage, and briefly explain application basis below.)
E74: Rate | F74: Effective Date
C75: a. Gasoline | E75: 24¢/gallon | F75: 37803
C76: b. Gasohol | E76: 24¢/gallon | F76: 37803
C77: c. Gasohol E85 | E77: 17¢/gallon | F77: 39083
C78: d. Diesel | E78: 26¢/gallon | F78: 37803
C79: e. LPG | E79: 23¢/gallon | F79: 37803
C80: f. CNG * | E80: 23¢/gallon | F80: 37803
B81: * 120 cubic feet = one gallon
A82: 2. Computation of gross volume reported (page 1, item 1). | F82: Special Fuels
E83: Gasoline and Gasohol | F83: (Diesel and LPG)
B84: Gross sales from wholesaler/retailer returns | E84: =D14+E14 -> 109865795 | F84: =(+F28+F29+G29)-(F85-F86) -> 37536595
B85: Plus: IMC fuel volume used in state | F85: =2147885/0.26 -> 8261096.2
B86: Less: IMC fuel volume purchased tax paid in state
B87: ="= Gross consumption in State (enter on page 1, item 1)" -> = Gross consumption in State (enter on page 1, item 1) | E87: =(E84+E85)-E86 -> 109865795 | F87: =(F84+F85)-F86 -> 45797691
E89: Interstate motor carrier (fuel use tax) fuel volume shown above covers period:
F90: Diesel | G90: LP-Gas | H90: Combined
E91: * page 1, line 1 split | F91: =F14 -> 37672031 | G91: =G14 -> 695686.96 | H91: =F91+G91 -> 38367718
A92: 3. Stratification of gasohol by blend ratio
B94: The gasohol volume on page 1 column (2) includes: | E94: (show actual/estimated volume or percentage shares)
C96: Percent Alcohol | E96: Volume | F96: Percentage Share
D97: 5.7-7.6%
D98: 7.7-9.9%
D99: 10% or more | F99: 1
A101: 4. Notes and comments
A104: Note that diesel gallons include state, county and municipal government highway use, but does not include use by
A105: school buses.
A106: Line #26 (Assessments) - Assessments, either positive or negative, can be the result of audits, amended returns or
A107: office (KS Dept. of Revenue) assessments or abatements.
A124: Form FHWA-551M (Rev. 11-93) | E124: 2

Sheet Oct22
A1: The public report burden for this information is estimated to average 5.4 hours | H1: Form Approved OMB No. 2125-0032
H2: STATE
A3: U.S. Department of | H3: Kansas
A4: Transportation | H4: YEAR
E5: MONTHLY MOTOR-FUEL CONSUMPTION | H5: 2022
H6: MONTH OF SALE
A7: Federal Highway | H7: October
A8: Administration | H8: UNITS (check one)
H9: Gallons X
H10: Liters
C11: LI | F11: PRIVATE AND COMMERCIAL
B12: ITEM | C12: NE | D12: GASOLINE | E12: GASOHOL | F12: HWY DIESEL | G12: HWY LPG | H12: TOTAL
C13: # | D13: -1 | E13: -2 | F13: -3 | G13: -4 | H13: -5
A14: 1. Gross | B14: a. Gross Volume Reported | C14: 1 | D14: =D15+D21+D22 -> 9424780 | E14: =E15+E21+E22 -> 102941576 | F14: =(F16-F17)/0.26 -> 35898642 | G14: =(G16-G17)/0.23 -> 778360.87 | H14: =SUM(D14:G14) -> 1.4904336e+08
B15: Net After Deduction | D15: 8798580 | E15: 102820055
B16: Special Fuel Tax Receipts ($) | F16: 9887199 | G16: 179023
B17: Special Fuel Tax Refunds ($) | F17: 553552 | G17: 0
A18: Volume | B18: b. IFTA | C18: 2
A19: 2. Fully | B19: a. Losses - Flat % | C19: 21 | D19: 210367 | E19: 2416230 | H19: =SUM(D19:G19) -> 2626597
A20: Tax | B20: b. Losses - Actual | C20: 22 | D20: 0 | E20: 0 | H20: =SUM(D20:G20) -> 0
A21: Exempt | B21: c. Federal | C21: 23 | D21: 53466 | E21: 121521 | H21: =SUM(D21:G21) -> 174987
B22: d. Aviation | C22: 24 | D22: 572734 | E22: 0 | H22: =SUM(D22:G22) -> 572734
B23: e. Native American | C23: 25 | D23: 0 | H23: =SUM(D23:G23) -> 0
B24: f. Assessments | C24: 26 | D24: 26140 | H24: =SUM(D24:G24) -> 26140
B25: g. | C25: 27 | H25: =SUM(D25:G25) -> 0
B26: h. | C26: 28 | H26: =SUM(D26:G26) -> 0
B27: i. | C27: 29 | H27: =SUM(D27:G27) -> 0
B28: j. Total (sum a. through e - f.) | C28: 30 | D28: =SUM(D19:D23)-D24 -> 810427 | E28: =SUM(E19:E23)-E24 -> 2537751 | F28: =SUM(F19:F23)-F24 -> 0 | G28: =SUM(G19:G23)-G24 -> 0 | H28: =SUM(H19:H23)-H24 -> 3348178
A29: 3. Gross Volume Taxed (1-2j) | C29: 40 | D29: =D14-D28 -> 8614353 | E29: =E14-E28 -> 100403825 | F29: =F14+F18-F28 -> 35898642 | G29: =G14-G28 -> 778360.87 | H29: =H14-H28 -> 1.4569518e+08
A30: 4. Fully | B30: a. Agriculture | C30: 51 | D30: 4608 | E30: 4266 | H30: =SUM(D30:G30) -> 8874
A31: Refunded | B31: b. Aviation | C31: 52 | H31: =SUM(D31:G31) -> 0
B32: c. Industrial/Commercial | C32: 53 | H32: =SUM(D32:G32) -> 0
B33: d. Construction | C33: 54 | H33: =SUM(D33:G33) -> 0
B34: e. Marine | C34: 55 | H34: =SUM(D34:G34) -> 0
B35: f. Municipal and Counties | C35: 56 | H35: =SUM(D35:G35) -> 0
B36: g. Other | C36: 57 | D36: 6940 | E36: 4911 | H36: =SUM(D36:G36) -> 11851
B37: h. | C37: 58 | H37: =SUM(D37:G37) -> 0
B38: i. | C38: 59 | H38: =SUM(D38:G38) -> 0
B39: j. | C39: 60 | H39: =SUM(D39:G39) -> 0
B40: k. | C40: 61
B41: l. | C41: 62
B42: m. | C42: 63
B43: n. | C43: 64
B44: o. | C44: 65
B45: p. | C45: 66
B46: q. | C46: 67
B47: r. Total (a. thru s.) | C47: 70 | D47: =SUM(D30:D41) -> 11548 | E47: =SUM(E30:E41) -> 9177 | F47: =SUM(F30:F41) -> 0 | G47: =SUM(G30:G41) -> 0 | H47: =SUM(H30:H41) -> 20725
A48: 5. Net | B48: a. At Full Rate | C48: 81 | D48: =D29-D47 -> 8602805 | E48: =E29-E47 -> 100394648 | F48: =F29-F47 -> 35898642 | G48: =G29-G47 -> 778360.87 | H48: =SUM(D48:G48) -> 1.4567446e+08
A49: Volume | B49: b. | C49: 82
A50: Taxed | B50: c. | C50: 83
A51: Taxed at | B51: d. | C51: 84
A52: initial lower | B52: e. | C52: 85
A53: rate, partially | B53: f. | C53: 86
A54: exempt or | B54: g. | C54: 87
A55: partially | B55: h. | C55: 88
A56: refunded | B56: i. | C56: 89
B57: j. Total (a thru i, 3-4t) | C57: 90 | D57: =SUM(D48:D56) -> 8602805 | E57: =SUM(E48:E56) -> 100394648 | F57: =SUM(F48:F56) -> 35898642 | G57: =SUM(G48:G56) -> 778360.87 | H57: =SUM(H48:H56) -> 1.4567446e+08
B58: Calendar Year Cumulation | D58: =D57+'Sep22'!D58 -> 91645276 | E58: =E57+'Sep22'!E58 -> 919261790 | F58: =F57+'Sep22'!F58 -> 4.0976249e+08 | G58: =G57+'Sep22'!G58 -> 7684452.2 | H58: =H57+'Sep22'!H58 -> 1.428354e+09
A59: 6. Source | B59: a. Agency Preparing this Report:
B60: Kansas Department of Revenue, Office of Research and Analysis
B61: b. Compiled under Direction of: | G61: c. Date
B62: Mark Burghart, Secretary of Revenue
E63: PREVIOUS EDITIONS OBSOLETE | H63: (Next Page)
E64: 1
H67: =H2 -> STATE
H68: =H3 -> Kansas
D69: NOTES AND TECHNICAL INFORMATION | H69: =H4 -> YEAR
H70: =H5 -> 2022
H71: =H6 -> MONTH OF SALE
H72: =H7 -> October
A73: 1. Rate of tax at end month, in cents-per-gallon/liter. | D73: (If tax is ad valorem, post percentage, and briefly explain application basis below.)
E74: Rate | F74: Effective Date
C75: a. Gasoline | E75: 24¢/gallon | F75: 37803
C76: b. Gasohol | E76: 24¢/gallon | F76: 37803
C77: c. Gasohol E85 | E77: 17¢/gallon | F77: 39083
C78: d. Diesel | E78: 26¢/gallon | F78: 37803
C79: e. LPG | E79: 23¢/gallon | F79: 37803
C80: f. CNG * | E80: 23¢/gallon | F80: 37803
B81: * 120 cubic feet = one gallon
A82: 2. Computation of gross volume reported (page 1, item 1). | F82: Special Fuels
E83: Gasoline and Gasohol | F83: (Diesel and LPG)
B84: Gross sales from wholesaler/retailer returns | E84: =D14+E14 -> 112366356 | F84: =(+F28+F29+G29)-(F85-F86) -> 28415907
B85: Plus: IMC fuel volume used in state | F85: =2147885/0.26 -> 8261096.2
B86: Less: IMC fuel volume purchased tax paid in state
B87: ="= Gross consumption in State (enter on page 1, item 1)" -> = Gross consumption in State (enter on page 1, item 1) | E87: =(E84+E85)-E86 -> 112366356 | F87: =(F84+F85)-F86 -> 36677003
E89: Interstate motor carrier (fuel use tax) fuel volume shown above covers period:
F90: Diesel | G90: LP-Gas | H90: Combined
E91: * page 1, line 1 split | F91: =F14 -> 35898642 | G91: =G14 -> 778360.87 | H91: =F91+G91 -> 36677003
A92: 3. Stratification of gasohol by blend ratio
B94: The gasohol volume on page 1 column (2) includes: | E94: (show actual/estimated volume or percentage shares)
C96: Percent Alcohol | E96: Volume | F96: Percentage Share
D97: 5.7-7.6%
D98: 7.7-9.9%
D99: 10% or more | F99: 1
A101: 4. Notes and comments
A104: Note that diesel gallons include state, county and municipal government highway use, but does not include use by
A105: school buses.
A106: Line #26 (Assessments) - Assessments, either positive or negative, can be the result of audits, amended returns or
A107: office (KS Dept. of Revenue) assessments or abatements.
A124: Form FHWA-551M (Rev. 11-93) | E124: 2

Sheet Nov22
A1: The public report burden for this information is estimated to average 5.4 hours | H1: Form Approved OMB No. 2125-0032
H2: STATE
A3: U.S. Department of | H3: Kansas
A4: Transportation | H4: YEAR
E5: MONTHLY MOTOR-FUEL CONSUMPTION | H5: 2022
H6: MONTH OF SALE
A7: Federal Highway | H7: November
A8: Administration | H8: UNITS (check one)
H9: Gallons X
H10: Liters
C11: LI | F11: PRIVATE AND COMMERCIAL
B12: ITEM | C12: NE | D12: GASOLINE | E12: GASOHOL | F12: HWY DIESEL | G12: HWY LPG | H12: TOTAL
C13: # | D13: -1 | E13: -2 | F13: -3 | G13: -4 | H13: -5
A14: 1. Gross | B14: a. Gross Volume Reported | C14: 1 | D14: =D15+D21+D22 -> 8973861 | E14: =E15+E21+E22 -> 77160209 | F14: =(F16-F17)/0.26 -> 42910196 | G14: =(G16-G17)/0.23 -> 785734.78 | H14: =SUM(D14:G14) -> 1.2983e+08
B15: Net After Deduction | D15: 8868885 | E15: 77096428
B16: Special Fuel Tax Receipts ($) | F16: 11249082 | G16: 180719
B17: Special Fuel Tax Refunds ($) | F17: 92431 | G17: 0
A18: Volume | B18: b. IFTA | C18: 2
A19: 2. Fully | B19: a. Losses - Flat % | C19: 21 | D19: 213919 | E19: 1796194 | H19: =SUM(D19:G19) -> 2010113
A20: Tax | B20: b. Losses - Actual | C20: 22 | D20: 0 | E20: 0 | H20: =SUM(D20:G20) -> 0
A21: Exempt | B21: c. Federal | C21: 23 | D21: 26788 | E21: 63781 | H21: =SUM(D21:G21) -> 90569
B22: d. Aviation | C22: 24 | D22: 78188 | E22: 0 | H22: =SUM(D22:G22) -> 78188
B23: e. Native American | C23: 25 | D23: 0 | H23: =SUM(D23:G23) -> 0
B24: f. Assessments | C24: 26 | D24: 16939 | H24: =SUM(D24:G24) -> 16939
B25: g. | C25: 27 | H25: =SUM(D25:G25) -> 0
B26: h. | C26: 28 | H26: =SUM(D26:G26) -> 0
B27: i. | C27: 29 | H27: =SUM(D27:G27) -> 0
B28: j. Total (sum a. through e - f.) | C28: 30 | D28: =SUM(D19:D23)-D24 -> 301956 | E28: =SUM(E19:E23)-E24 -> 1859975 | F28: =SUM(F19:F23)-F24 -> 0 | G28: =SUM(G19:G23)-G24 -> 0 | H28: =SUM(H19:H23)-H24 -> 2161931
A29: 3. Gross Volume Taxed (1-2j) | C29: 40 | D29: =D14-D28 -> 8671905 | E29: =E14-E28 -> 75300234 | F29: =F14+F18-F28 -> 42910196 | G29: =G14-G28 -> 785734.78 | H29: =H14-H28 -> 1.2766807e+08
A30: 4. Fully | B30: a. Agriculture | C30: 51 | D30: 15376 | E30: 12629 | H30: =SUM(D30:G30) -> 28005
A31: Refunded | B31: b. Aviation | C31: 52 | H31: =SUM(D31:G31) -> 0
B32: c. Industrial/Commercial | C32: 53 | H32: =SUM(D32:G32) -> 0
B33: d. Construction | C33: 54 | H33: =SUM(D33:G33) -> 0
B34: e. Marine | C34: 55 | H34: =SUM(D34:G34) -> 0
B35: f. Municipal and Counties | C35: 56 | H35: =SUM(D35:G35) -> 0
B36: g. Other | C36: 57 | D36: 26027 | E36: 21962 | H36: =SUM(D36:G36) -> 47989
B37: h. | C37: 58 | H37: =SUM(D37:G37) -> 0
B38: i. | C38: 59 | H38: =SUM(D38:G38) -> 0
B39: j. | C39: 60 | H39: =SUM(D39:G39) -> 0
B40: k. | C40: 61
B41: l. | C41: 62
B42: m. | C42: 63
B43: n. | C43: 64
B44: o. | C44: 65
B45: p. | C45: 66
B46: q. | C46: 67
B47: r. Total (a. thru s.) | C47: 70 | D47: =SUM(D30:D41) -> 41403 | E47: =SUM(E30:E41) -> 34591 | F47: =SUM(F30:F41) -> 0 | G47: =SUM(G30:G41) -> 0 | H47: =SUM(H30:H41) -> 75994
A48: 5. Net | B48: a. At Full Rate | C48: 81 | D48: =D29-D47 -> 8630502 | E48: =E29-E47 -> 75265643 | F48: =F29-F47 -> 42910196 | G48: =G29-G47 -> 785734.78 | H48: =SUM(D48:G48) -> 1.2759208e+08
A49: Volume | B49: b. | C49: 82
A50: Taxed | B50: c. | C50: 83
A51: Taxed at | B51: d. | C51: 84
A52: initial lower | B52: e. | C52: 85
A53: rate, partially | B53: f. | C53: 86
A54: exempt or | B54: g. | C54: 87
A55: partially | B55: h. | C55: 88
A56: refunded | B56: i. | C56: 89
B57: j. Total (a thru i, 3-4t) | C57: 90 | D57: =SUM(D48:D56) -> 8630502 | E57: =SUM(E48:E56) -> 75265643 | F57: =SUM(F48:F56) -> 42910196 | G57: =SUM(G48:G56) -> 785734.78 | H57: =SUM(H48:H56) -> 1.2759208e+08
B58: Calendar Year Cumulation | D58: =D57+'Oct22'!D58 -> 1.0027578e+08 | E58: =E57+'Oct22'!E58 -> 994527433 | F58: =F57+'Oct22'!F58 -> 4.5267268e+08 | G58: =G57+'Oct22'!G58 -> 8470187 | H58: =H57+'Oct22'!H58 -> 1.5559461e+09
A59: 6. Source | B59: a. Agency Preparing this Report:
B60: Kansas Department of Revenue, Office of Research and Analysis
B61: b. Compiled under Direction of: | G61: c. Date
B62: Mark Burghart, Secretary of Revenue
E63: PREVIOUS EDITIONS OBSOLETE | H63: (Next Page)
E64: 1
H67: =H2 -> STATE
H68: =H3 -> Kansas
D69: NOTES AND TECHNICAL INFORMATION | H69: =H4 -> YEAR
H70: =H5 -> 2022
H71: =H6 -> MONTH OF SALE
H72: =H7 -> November
A73: 1. Rate of tax at end month, in cents-per-gallon/liter. | D73: (If tax is ad valorem, post percentage, and briefly explain application basis below.)
E74: Rate | F74: Effective Date
C75: a. Gasoline | E75: 24¢/gallon | F75: 37803
C76: b. Gasohol | E76: 24¢/gallon | F76: 37803
C77: c. Gasohol E85 | E77: 17¢/gallon | F77: 39083
C78: d. Diesel | E78: 26¢/gallon | F78: 37803
C79: e. LPG | E79: 23¢/gallon | F79: 37803
C80: f. CNG * | E80: 23¢/gallon | F80: 37803
B81: * 120 cubic feet = one gallon
A82: 2. Computation of gross volume reported (page 1, item 1). | F82: Special Fuels
E83: Gasoline and Gasohol | F83: (Diesel and LPG)
B84: Gross sales from wholesaler/retailer returns | E84: =D14+E14 -> 86134070 | F84: =(+F28+F29+G29)-(F85-F86) -> 35434835
B85: Plus: IMC fuel volume used in state | F85: =2147885/0.26 -> 8261096.2
B86: Less: IMC fuel volume purchased tax paid in state
B87: ="= Gross consumption in State (enter on page 1, item 1)" -> = Gross consumption in State (enter on page 1, item 1) | E87: =(E84+E85)-E86 -> 86134070 | F87: =(F84+F85)-F86 -> 43695931
E89: Interstate motor carrier (fuel use tax) fuel volume shown above covers period:
F90: Diesel | G90: LP-Gas | H90: Combined
E91: * page 1, line 1 split | F91: =F14 -> 42910196 | G91: =G14 -> 785734.78 | H91: =F91+G91 -> 43695931
A92: 3. Stratification of gasohol by blend ratio
B94: The gasohol volume on page 1 column (2) includes: | E94: (show actual/estimated volume or percentage shares)
C96: Percent Alcohol | E96: Volume | F96: Percentage Share
D97: 5.7-7.6%
D98: 7.7-9.9%
D99: 10% or more | F99: 1
A101: 4. Notes and comments
A104: Note that diesel gallons include state, county and municipal government highway use, but does not include use by
A105: school buses.
A106: Line #26 (Assessments) - Assessments, either positive or negative, can be the result of audits, amended returns or
A107: office (KS Dept. of Revenue) assessments or abatements.
A124: Form FHWA-551M (Rev. 11-93) | E124: 2

Sheet Dec22
A1: The public report burden for this information is estimated to average 5.4 hours | H1: Form Approved OMB No. 2125-0032
H2: STATE
A3: U.S. Department of | H3: Kansas
A4: Transportation | H4: YEAR
E5: MONTHLY MOTOR-FUEL CONSUMPTION | H5: 2022
H6: MONTH OF SALE
A7: Federal Highway | H7: December
A8: Administration | H8: UNITS (check one)
H9: Gallons X
H10: Liters
C11: LI | F11: PRIVATE AND COMMERCIAL
B12: ITEM | C12: NE | D12: GASOLINE | E12: GASOHOL | F12: HWY DIESEL | G12: HWY LPG | H12: TOTAL
C13: # | D13: -1 | E13: -2 | F13: -3 | G13: -4 | H13: -5
A14: 1. Gross | B14: a. Gross Volume Reported | C14: 1 | D14: =D15+D21+D22 -> 9461874 | E14: =E15+E21+E22 -> 100610905 | F14: =(F16-F17)/0.26 -> 47346677 | G14: =(G16-G17)/0.23 -> 2756373.9 | H14: =SUM(D14:G14) -> 1.6017583e+08
B15: Net After Deduction | D15: 9022631 | E15: 100480448
B16: Special Fuel Tax Receipts ($) | F16: 12451852 | G16: 633966
B17: Special Fuel Tax Refunds ($) | F17: 141716 | G17: 0
A18: Volume | B18: b. IFTA | C18: 2 | F18: =1551678/0.26 -> 5967992.3
A19: 2. Fully | B19: a. Losses - Flat % | C19: 21 | D19: 216853 | E19: 2382819 | H19: =SUM(D19:G19) -> 2599672
A20: Tax | B20: b. Losses - Actual | C20: 22 | D20: 0 | E20: 0 | H20: =SUM(D20:G20) -> 0
A21: Exempt | B21: c. Federal | C21: 23 | D21: 80645 | E21: 130457 | H21: =SUM(D21:G21) -> 211102
B22: d. Aviation | C22: 24 | D22: 358598 | E22: 0 | H22: =SUM(D22:G22) -> 358598
B23: e. Native American | C23: 25 | D23: 0 | H23: =SUM(D23:G23) -> 0
B24: f. Assessments | C24: 26 | D24: 428601 | H24: =SUM(D24:G24) -> 428601
B25: g. | C25: 27 | H25: =SUM(D25:G25) -> 0
B26: h. | C26: 28 | H26: =SUM(D26:G26) -> 0
B27: i. | C27: 29 | H27: =SUM(D27:G27) -> 0
B28: j. Total (sum a. through e - f.) | C28: 30 | D28: =SUM(D19:D23)-D24 -> 227495 | E28: =SUM(E19:E23)-E24 -> 2513276 | F28: =SUM(F19:F23)-F24 -> 0 | G28: =SUM(G19:G23)-G24 -> 0 | H28: =SUM(H19:H23)-H24 -> 2740771
A29: 3. Gross Volume Taxed (1-2j) | C29: 40 | D29: =D14-D28 -> 9234379 | E29: =E14-E28 -> 98097629 | F29: =F14+F18-F28 -> 53314669 | G29: =G14-G28 -> 2756373.9 | H29: =H14-H28 -> 1.5743506e+08
A30: 4. Fully | B30: a. Agriculture | C30: 51 | D30: 59292 | E30: 19800 | H30: =SUM(D30:G30) -> 79092
A31: Refunded | B31: b. Aviation | C31: 52 | H31: =SUM(D31:G31) -> 0
B32: c. Industrial/Commercial | C32: 53 | H32: =SUM(D32:G32) -> 0
B33: d. Construction | C33: 54 | H33: =SUM(D33:G33) -> 0
B34: e. Marine | C34: 55 | H34: =SUM(D34:G34) -> 0
B35: f. Municipal and Counties | C35: 56 | H35: =SUM(D35:G35) -> 0
B36: g. Other | C36: 57 | D36: 35209 | E36: 11068 | H36: =SUM(D36:G36) -> 46277
B37: h. | C37: 58 | H37: =SUM(D37:G37) -> 0
B38: i. | C38: 59 | H38: =SUM(D38:G38) -> 0
B39: j. | C39: 60 | H39: =SUM(D39:G39) -> 0
B40: k. | C40: 61
B41: l. | C41: 62
B42: m. | C42: 63
B43: n. | C43: 64
B44: o. | C44: 65
B45: p. | C45: 66
B46: q. | C46: 67
B47: r. Total (a. thru s.) | C47: 70 | D47: =SUM(D30:D41) -> 94501 | E47: =SUM(E30:E41) -> 30868 | F47: =SUM(F30:F41) -> 0 | G47: =SUM(G30:G41) -> 0 | H47: =SUM(H30:H41) -> 125369
A48: 5. Net | B48: a. At Full Rate | C48: 81 | D48: =D29-D47 -> 9139878 | E48: =E29-E47 -> 98066761 | F48: =F29-F47 -> 53314669 | G48: =G29-G47 -> 2756373.9 | H48: =SUM(D48:G48) -> 1.6327768e+08
A49: Volume | B49: b. | C49: 82
A50: Taxed | B50: c. | C50: 83
A51: Taxed at | B51: d. | C51: 84
A52: initial lower | B52: e. | C52: 85
A53: rate, partially | B53: f. | C53: 86
A54: exempt or | B54: g. | C54: 87
A55: partially | B55: h. | C55: 88
A56: refunded | B56: i. | C56: 89
B57: j. Total (a thru i, 3-4t) | C57: 90 | D57: =SUM(D48:D56) -> 9139878 | E57: =SUM(E48:E56) -> 98066761 | F57: =SUM(F48:F56) -> 53314669 | G57: =SUM(G48:G56) -> 2756373.9 | H57: =SUM(H48:H56) -> 1.6327768e+08
B58: Calendar Year Cumulation | D58: =D57+'Nov22'!D58 -> 1.0941566e+08 | E58: =E57+'Nov22'!E58 -> 1092594194 | F58: =F57+'Nov22'!F58 -> 5.0598735e+08 | G58: =G57+'Nov22'!G58 -> 11226561 | H58: =H57+'Nov22'!H58 -> 1.7192238e+09
A59: 6. Source | B59: a. Agency Preparing this Report:
B60: Kansas Department of Revenue, Office of Research and Analysis
B61: b. Compiled under Direction of: | G61: c. Date
B62: Mark Burghart, Secretary of Revenue
E63: PREVIOUS EDITIONS OBSOLETE | H63: (Next Page)
E64: 1
H67: =H2 -> STATE
H68: =H3 -> Kansas
D69: NOTES AND TECHNICAL INFORMATION | H69: =H4 -> YEAR
H70: =H5 -> 2022
H71: =H6 -> MONTH OF SALE
H72: =H7 -> December
A73: 1. Rate of tax at end month, in cents-per-gallon/liter. | D73: (If tax is ad valorem, post percentage, and briefly explain application basis below.)
E74: Rate | F74: Effective Date
C75: a. Gasoline | E75: 24¢/gallon | F75: 37803
C76: b. Gasohol | E76: 24¢/gallon | F76: 37803
C77: c. Gasohol E85 | E77: 17¢/gallon | F77: 39083
C78: d. Diesel | E78: 26¢/gallon | F78: 37803
C79: e. LPG | E79: 23¢/gallon | F79: 37803
C80: f. CNG * | E80: 23¢/gallon | F80: 37803
B81: * 120 cubic feet = one gallon
A82: 2. Computation of gross volume reported (page 1, item 1). | F82: Special Fuels
E83: Gasoline and Gasohol | F83: (Diesel and LPG)
B84: Gross sales from wholesaler/retailer returns | E84: =D14+E14 -> 110072779 | F84: =(+F28+F29+G29)-(F85-F86) -> 47809947
B85: Plus: IMC fuel volume used in state | F85: =2147885/0.26 -> 8261096.2
B86: Less: IMC fuel volume purchased tax paid in state
B87: ="= Gross consumption in State (enter on page 1, item 1)" -> = Gross consumption in State (enter on page 1, item 1) | E87: =(E84+E85)-E86 -> 110072779 | F87: =(F84+F85)-F86 -> 56071043
E89: Interstate motor carrier (fuel use tax) fuel volume shown above covers period:
F90: Diesel | G90: LP-Gas | H90: Combined
E91: * page 1, line 1 split | F91: =F14 -> 47346677 | G91: =G14 -> 2756373.9 | H91: =F91+G91 -> 50103051
A92: 3. Stratification of gasohol by blend ratio
B94: The gasohol volume on page 1 column (2) includes: | E94: (show actual/estimated volume or percentage shares)
C96: Percent Alcohol | E96: Volume | F96: Percentage Share
D97: 5.7-7.6%
D98: 7.7-9.9%
D99: 10% or more | F99: 1
A101: 4. Notes and comments
A104: Note that diesel gallons include state, county and municipal government highway use, but does not include use by
A105: school buses.
A106: Line #26 (Assessments) - Assessments, either positive or negative, can be the result of audits, amended returns or
A107: office (KS Dept. of Revenue) assessments or abatements.
A124: Form FHWA-551M (Rev. 11-93) | E124: 2

Sheet 551m2022
A1: The public report burden for this information is estimated to average 5.4 hours | H1: Form Approved OMB No. 2125-0032
H2: STATE
A3: U.S. Department of | H3: Kansas
A4: Transportation | H4: YEAR
E5: MONTHLY MOTOR-FUEL CONSUMPTION | H5: 2019
H6: MONTH OF SALE
A7: Federal Highway | H7: December
A8: Administration | H8: UNITS (check one)
H9: Gallons X
H10: Liters
C11: LI | F11: PRIVATE AND COMMERCIAL
B12: ITEM | C12: NE | D12: GASOLINE | E12: GASOHOL | F12: HWY DIESEL | G12: HWY LPG | H12: TOTAL
C13: # | D13: -1 | E13: -2 | F13: -3 | G13: -4 | H13: -5
A14: 1. Gross | B14: a. Gross Volume Reported | C14: 1 | D14: ='Jan22'!D14+'Feb22'!D14+'Mar22'!D14+'Apr22'!D14+'May22'!D14+June22!D14+July22!D14+'Aug22'!D14+'Sep22'!D14+'Oct22'!D14+'Nov22'!D14+'Dec22'!D14 -> 114382612 | E14: ='Jan22'!E14+'Feb22'!E14+'Mar22'!E14+'Apr22'!E14+'May22'!E14+June22!E14+July22!E14+'Aug22'!E14+'Sep22'!E14+'Oct22'!E14+'Nov22'!E14+'Dec22'!E14 -> 1120809344 | F14: ='Jan22'!F14+'Feb22'!F14+'Mar22'!F14+'Apr22'!F14+'May22'!F14+June22!F14+July22!F14+'Aug22'!F14+'Sep22'!F14+'Oct22'!F14+'Nov22'!F14+'Dec22'!F14 -> 4.7544923e+08 | G14: ='Jan22'!G14+'Feb22'!G14+'Mar22'!G14+'Apr22'!G14+'May22'!G14+June22!G14+July22!G14+'Aug22'!G14+'Sep22'!G14+'Oct22'!G14+'Nov22'!G14+'Dec22'!G14 -> 11226561 | H14: ='Jan22'!H14+'Feb22'!H14+'Mar22'!H14+'Apr22'!H14+'May22'!H14+June22!H14+July22!H14+'Aug22'!H14+'Sep22'!H14+'Oct22'!H14+'Nov22'!H14+'Dec22'!H14 -> 1.7218677e+09
B15: Net After Deduction | D15: ='Jan22'!D15+'Feb22'!D15+'Mar22'!D15+'Apr22'!D15+'May22'!D15+June22!D15+July22!D15+'Aug22'!D15+'Sep22'!D15+'Oct22'!D15+'Nov22'!D15+'Dec22'!D15 -> 108124208 | E15: ='Jan22'!E15+'Feb22'!E15+'Mar22'!E15+'Apr22'!E15+'May22'!E15+June22!E15+July22!E15+'Aug22'!E15+'Sep22'!E15+'Oct22'!E15+'Nov22'!E15+'Dec22'!E15 -> 1119329823 | F15: ='Jan22'!F15+'Feb22'!F15+'Mar22'!F15+'Apr22'!F15+'May22'!F15+June22!F15+July22!F15+'Aug22'!F15+'Sep22'!F15+'Oct22'!F15+'Nov22'!F15+'Dec22'!F15 -> 0 | G15: ='Jan22'!G15+'Feb22'!G15+'Mar22'!G15+'Apr22'!G15+'May22'!G15+June22!G15+July22!G15+'Aug22'!G15+'Sep22'!G15+'Oct22'!G15+'Nov22'!G15+'Dec22'!G15 -> 0 | H15: ='Jan22'!H15+'Feb22'!H15+'Mar22'!H15+'Apr22'!H15+'May22'!H15+June22!H15+July22!H15+'Aug22'!H15+'Sep22'!H15+'Oct22'!H15+'Nov22'!H15+'Dec22'!H15 -> 0
B16: Special Fuel Tax Receipts ($) | D16: ='Jan22'!D16+'Feb22'!D16+'Mar22'!D16+'Apr22'!D16+'May22'!D16+June22!D16+July22!D16+'Aug22'!D16+'Sep22'!D16+'Oct22'!D16+'Nov22'!D16+'Dec22'!D16 -> 0 | E16: ='Jan22'!E16+'Feb22'!E16+'Mar22'!E16+'Apr22'!E16+'May22'!E16+June22!E16+July22!E16+'Aug22'!E16+'Sep22'!E16+'Oct22'!E16+'Nov22'!E16+'Dec22'!E16 -> 0 | F16: ='Jan22'!F16+'Feb22'!F16+'Mar22'!F16+'Apr22'!F16+'May22'!F16+June22!F16+July22!F16+'Aug22'!F16+'Sep22'!F16+'Oct22'!F16+'Nov22'!F16+'Dec22'!F16 -> 126320889 | G16: ='Jan22'!G16+'Feb22'!G16+'Mar22'!G16+'Apr22'!G16+'May22'!G16+June22!G16+July22!G16+'Aug22'!G16+'Sep22'!G16+'Oct22'!G16+'Nov22'!G16+'Dec22'!G16 -> 2582109 | H16: ='Jan22'!H16+'Feb22'!H16+'Mar22'!H16+'Apr22'!H16+'May22'!H16+June22!H16+July22!H16+'Aug22'!H16+'Sep22'!H16+'Oct22'!H16+'Nov22'!H16+'Dec22'!H16 -> 0
B17: Special Fuel Tax Refunds ($) | D17: ='Jan22'!D17+'Feb22'!D17+'Mar22'!D17+'Apr22'!D17+'May22'!D17+June22!D17+July22!D17+'Aug22'!D17+'Sep22'!D17+'Oct22'!D17+'Nov22'!D17+'Dec22'!D17 -> 0 | E17: ='Jan22'!E17+'Feb22'!E17+'Mar22'!E17+'Apr22'!E17+'May22'!E17+June22!E17+July22!E17+'Aug22'!E17+'Sep22'!E17+'Oct22'!E17+'Nov22'!E17+'Dec22'!E17 -> 0 | F17: ='Jan22'!F17+'Feb22'!F17+'Mar22'!F17+'Apr22'!F17+'May22'!F17+June22!F17+July22!F17+'Aug22'!F17+'Sep22'!F17+'Oct22'!F17+'Nov22'!F17+'Dec22'!F17 -> 2704089 | G17: ='Jan22'!G17+'Feb22'!G17+'Mar22'!G17+'Apr22'!G17+'May22'!G17+June22!G17+July22!G17+'Aug22'!G17+'Sep22'!G17+'Oct22'!G17+'Nov22'!G17+'Dec22'!G17 -> 0 | H17: ='Jan22'!H17+'Feb22'!H17+'Mar22'!H17+'Apr22'!H17+'May22'!H17+June22!H17+July22!H17+'Aug22'!H17+'Sep22'!H17+'Oct22'!H17+'Nov22'!H17+'Dec22'!H17 -> 0
A18: Volume | B18: b. IFTA | C18: 2 | D18: ='Jan22'!D18+'Feb22'!D18+'Mar22'!D18+'Apr22'!D18+'May22'!D18+June22!D18+July22!D18+'Aug22'!D18+'Sep22'!D18+'Oct22'!D18+'Nov22'!D18+'Dec22'!D18 -> 0 | E18: ='Jan22'!E18+'Feb22'!E18+'Mar22'!E18+'Apr22'!E18+'May22'!E18+June22!E18+July22!E18+'Aug22'!E18+'Sep22'!E18+'Oct22'!E18+'Nov22'!E18+'Dec22'!E18 -> 0 | F18: ='Jan22'!F18+'Feb22'!F18+'Mar22'!F18+'Apr22'!F18+'May22'!F18+June22!F18+July22!F18+'Aug22'!F18+'Sep22'!F18+'Oct22'!F18+'Nov22'!F18+'Dec22'!F18 -> 30538123 | G18: ='Jan22'!G18+'Feb22'!G18+'Mar22'!G18+'Apr22'!G18+'May22'!G18+June22!G18+July22!G18+'Aug22'!G18+'Sep22'!G18+'Oct22'!G18+'Nov22'!G18+'Dec22'!G18 -> 0 | H18: ='Jan22'!H18+'Feb22'!H18+'Mar22'!H18+'Apr22'!H18+'May22'!H18+June22!H18+July22!H18+'Aug22'!H18+'Sep22'!H18+'Oct22'!H18+'Nov22'!H18+'Dec22'!H18 -> 0
A19: 2. Fully | B19: a. Losses - Flat % | C19: 21 | D19: ='Jan22'!D19+'Feb22'!D19+'Mar22'!D19+'Apr22'!D19+'May22'!D19+June22!D19+July22!D19+'Aug22'!D19+'Sep22'!D19+'Oct22'!D19+'Nov22'!D19+'Dec22'!D19 -> 2566886 | E19: ='Jan22'!E19+'Feb22'!E19+'Mar22'!E19+'Apr22'!E19+'May22'!E19+June22!E19+July22!E19+'Aug22'!E19+'Sep22'!E19+'Oct22'!E19+'Nov22'!E19+'Dec22'!E19 -> 26247014 | F19: ='Jan22'!F19+'Feb22'!F19+'Mar22'!F19+'Apr22'!F19+'May22'!F19+June22!F19+July22!F19+'Aug22'!F19+'Sep22'!F19+'Oct22'!F19+'Nov22'!F19+'Dec22'!F19 -> 0 | G19: ='Jan22'!G19+'Feb22'!G19+'Mar22'!G19+'Apr22'!G19+'May22'!G19+June22!G19+July22!G19+'Aug22'!G19+'Sep22'!G19+'Oct22'!G19+'Nov22'!G19+'Dec22'!G19 -> 0 | H19: ='Jan22'!H19+'Feb22'!H19+'Mar22'!H19+'Apr22'!H19+'May22'!H19+June22!H19+July22!H19+'Aug22'!H19+'Sep22'!H19+'Oct22'!H19+'Nov22'!H19+'Dec22'!H19 -> 28813900
A20: Tax | B20: b. Losses - Actual | C20: 22 | D20: ='Jan22'!D20+'Feb22'!D20+'Mar22'!D20+'Apr22'!D20+'May22'!D20+June22!D20+July22!D20+'Aug22'!D20+'Sep22'!D20+'Oct22'!D20+'Nov22'!D20+'Dec22'!D20 -> 0 | E20: ='Jan22'!E20+'Feb22'!E20+'Mar22'!E20+'Apr22'!E20+'May22'!E20+June22!E20+July22!E20+'Aug22'!E20+'Sep22'!E20+'Oct22'!E20+'Nov22'!E20+'Dec22'!E20 -> 0 | F20: ='Jan22'!F20+'Feb22'!F20+'Mar22'!F20+'Apr22'!F20+'May22'!F20+June22!F20+July22!F20+'Aug22'!F20+'Sep22'!F20+'Oct22'!F20+'Nov22'!F20+'Dec22'!F20 -> 0 | G20: ='Jan22'!G20+'Feb22'!G20+'Mar22'!G20+'Apr22'!G20+'May22'!G20+June22!G20+July22!G20+'Aug22'!G20+'Sep22'!G20+'Oct22'!G20+'Nov22'!G20+'Dec22'!G20 -> 0 | H20: ='Jan22'!H20+'Feb22'!H20+'Mar22'!H20+'Apr22'!H20+'May22'!H20+June22!H20+July22!H20+'Aug22'!H20+'Sep22'!H20+'Oct22'!H20+'Nov22'!H20+'Dec22'!H20 -> 0
A21: Exempt | B21: c. Federal | C21: 23 | D21: ='Jan22'!D21+'Feb22'!D21+'Mar22'!D21+'Apr22'!D21+'May22'!D21+June22!D21+July22!D21+'Aug22'!D21+'Sep22'!D21+'Oct22'!D21+'Nov22'!D21+'Dec22'!D21 -> 634399 | E21: ='Jan22'!E21+'Feb22'!E21+'Mar22'!E21+'Apr22'!E21+'May22'!E21+June22!E21+July22!E21+'Aug22'!E21+'Sep22'!E21+'Oct22'!E21+'Nov22'!E21+'Dec22'!E21 -> 1450737 | F21: ='Jan22'!F21+'Feb22'!F21+'Mar22'!F21+'Apr22'!F21+'May22'!F21+June22!F21+July22!F21+'Aug22'!F21+'Sep22'!F21+'Oct22'!F21+'Nov22'!F21+'Dec22'!F21 -> 0 | G21: ='Jan22'!G21+'Feb22'!G21+'Mar22'!G21+'Apr22'!G21+'May22'!G21+June22!G21+July22!G21+'Aug22'!G21+'Sep22'!G21+'Oct22'!G21+'Nov22'!G21+'Dec22'!G21 -> 0 | H21: ='Jan22'!H21+'Feb22'!H21+'Mar22'!H21+'Apr22'!H21+'May22'!H21+June22!H21+July22!H21+'Aug22'!H21+'Sep22'!H21+'Oct22'!H21+'Nov22'!H21+'Dec22'!H21 -> 2085136
B22: d. Aviation | C22: 24 | D22: ='Jan22'!D22+'Feb22'!D22+'Mar22'!D22+'Apr22'!D22+'May22'!D22+June22!D22+July22!D22+'Aug22'!D22+'Sep22'!D22+'Oct22'!D22+'Nov22'!D22+'Dec22'!D22 -> 5624005 | E22: ='Jan22'!E22+'Feb22'!E22+'Mar22'!E22+'Apr22'!E22+'May22'!E22+June22!E22+July22!E22+'Aug22'!E22+'Sep22'!E22+'Oct22'!E22+'Nov22'!E22+'Dec22'!E22 -> 28784 | F22: ='Jan22'!F22+'Feb22'!F22+'Mar22'!F22+'Apr22'!F22+'May22'!F22+June22!F22+July22!F22+'Aug22'!F22+'Sep22'!F22+'Oct22'!F22+'Nov22'!F22+'Dec22'!F22 -> 0 | G22: ='Jan22'!G22+'Feb22'!G22+'Mar22'!G22+'Apr22'!G22+'May22'!G22+June22!G22+July22!G22+'Aug22'!G22+'Sep22'!G22+'Oct22'!G22+'Nov22'!G22+'Dec22'!G22 -> 0 | H22: ='Jan22'!H22+'Feb22'!H22+'Mar22'!H22+'Apr22'!H22+'May22'!H22+June22!H22+July22!H22+'Aug22'!H22+'Sep22'!H22+'Oct22'!H22+'Nov22'!H22+'Dec22'!H22 -> 5652789
B23: e. Native American | C23: 25 | D23: ='Jan22'!D23+'Feb22'!D23+'Mar22'!D23+'Apr22'!D23+'May22'!D23+June22!D23+July22!D23+'Aug22'!D23+'Sep22'!D23+'Oct22'!D23+'Nov22'!D23+'Dec22'!D23 -> 0 | E23: ='Jan22'!E23+'Feb22'!E23+'Mar22'!E23+'Apr22'!E23+'May22'!E23+June22!E23+July22!E23+'Aug22'!E23+'Sep22'!E23+'Oct22'!E23+'Nov22'!E23+'Dec22'!E23 -> 0 | F23: ='Jan22'!F23+'Feb22'!F23+'Mar22'!F23+'Apr22'!F23+'May22'!F23+June22!F23+July22!F23+'Aug22'!F23+'Sep22'!F23+'Oct22'!F23+'Nov22'!F23+'Dec22'!F23 -> 0 | G23: ='Jan22'!G23+'Feb22'!G23+'Mar22'!G23+'Apr22'!G23+'May22'!G23+June22!G23+July22!G23+'Aug22'!G23+'Sep22'!G23+'Oct22'!G23+'Nov22'!G23+'Dec22'!G23 -> 0 | H23: ='Jan22'!H23+'Feb22'!H23+'Mar22'!H23+'Apr22'!H23+'May22'!H23+June22!H23+July22!H23+'Aug22'!H23+'Sep22'!H23+'Oct22'!H23+'Nov22'!H23+'Dec22'!H23 -> 0
B24: f. Assessments | C24: 26 | D24: ='Jan22'!D24+'Feb22'!D24+'Mar22'!D24+'Apr22'!D24+'May22'!D24+June22!D24+July22!D24+'Aug22'!D24+'Sep22'!D24+'Oct22'!D24+'Nov22'!D24+'Dec22'!D24 -> 4251216.7 | E24: ='Jan22'!E24+'Feb22'!E24+'Mar22'!E24+'Apr22'!E24+'May22'!E24+June22!E24+July22!E24+'Aug22'!E24+'Sep22'!E24+'Oct22'!E24+'Nov22'!E24+'Dec22'!E24 -> 0 | F24: ='Jan22'!F24+'Feb22'!F24+'Mar22'!F24+'Apr22'!F24+'May22'!F24+June22!F24+July22!F24+'Aug22'!F24+'Sep22'!F24+'Oct22'!F24+'Nov22'!F24+'Dec22'!F24 -> 0 | G24: ='Jan22'!G24+'Feb22'!G24+'Mar22'!G24+'Apr22'!G24+'May22'!G24+June22!G24+July22!G24+'Aug22'!G24+'Sep22'!G24+'Oct22'!G24+'Nov22'!G24+'Dec22'!G24 -> 0 | H24: ='Jan22'!H24+'Feb22'!H24+'Mar22'!H24+'Apr22'!H24+'May22'!H24+June22!H24+July22!H24+'Aug22'!H24+'Sep22'!H24+'Oct22'!H24+'Nov22'!H24+'Dec22'!H24 -> 4251216.7
B25: g. | C25: 27
B26: h. | C26: 28
B27: i. | C27: 29
B28: j. Total (sum a. through e - f.) | C28: 30 | D28: ='Jan22'!D28+'Feb22'!D28+'Mar22'!D28+'Apr22'!D28+'May22'!D28+June22!D28+July22!D28+'Aug22'!D28+'Sep22'!D28+'Oct22'!D28+'Nov22'!D28+'Dec22'!D28 -> 4574073.3 | E28: ='Jan22'!E28+'Feb22'!E28+'Mar22'!E28+'Apr22'!E28+'May22'!E28+June22!E28+July22!E28+'Aug22'!E28+'Sep22'!E28+'Oct22'!E28+'Nov22'!E28+'Dec22'!E28 -> 27726535 | F28: ='Jan22'!F28+'Feb22'!F28+'Mar22'!F28+'Apr22'!F28+'May22'!F28+June22!F28+July22!F28+'Aug22'!F28+'Sep22'!F28+'Oct22'!F28+'Nov22'!F28+'Dec22'!F28 -> 0 | G28: ='Jan22'!G28+'Feb22'!G28+'Mar22'!G28+'Apr22'!G28+'May22'!G28+June22!G28+July22!G28+'Aug22'!G28+'Sep22'!G28+'Oct22'!G28+'Nov22'!G28+'Dec22'!G28 -> 0 | H28: ='Jan22'!H28+'Feb22'!H28+'Mar22'!H28+'Apr22'!H28+'May22'!H28+June22!H28+July22!H28+'Aug22'!H28+'Sep22'!H28+'Oct22'!H28+'Nov22'!H28+'Dec22'!H28 -> 32300608
A29: 3. Gross Volume Taxed (1-2j) | C29: 40 | D29: ='Jan22'!D29+'Feb22'!D29+'Mar22'!D29+'Apr22'!D29+'May22'!D29+June22!D29+July22!D29+'Aug22'!D29+'Sep22'!D29+'Oct22'!D29+'Nov22'!D29+'Dec22'!D29 -> 1.0980854e+08 | E29: ='Jan22'!E29+'Feb22'!E29+'Mar22'!E29+'Apr22'!E29+'May22'!E29+June22!E29+July22!E29+'Aug22'!E29+'Sep22'!E29+'Oct22'!E29+'Nov22'!E29+'Dec22'!E29 -> 1093082809 | F29: ='Jan22'!F29+'Feb22'!F29+'Mar22'!F29+'Apr22'!F29+'May22'!F29+June22!F29+July22!F29+'Aug22'!F29+'Sep22'!F29+'Oct22'!F29+'Nov22'!F29+'Dec22'!F29 -> 5.0598735e+08 | G29: ='Jan22'!G29+'Feb22'!G29+'Mar22'!G29+'Apr22'!G29+'May22'!G29+June22!G29+July22!G29+'Aug22'!G29+'Sep22'!G29+'Oct22'!G29+'Nov22'!G29+'Dec22'!G29 -> 11226561 | H29: ='Jan22'!H29+'Feb22'!H29+'Mar22'!H29+'Apr22'!H29+'May22'!H29+June22!H29+July22!H29+'Aug22'!H29+'Sep22'!H29+'Oct22'!H29+'Nov22'!H29+'Dec22'!H29 -> 1.6895671e+09
A30: 4. Fully | B30: a. Agriculture | C30: 51 | D30: ='Jan22'!D30+'Feb22'!D30+'Mar22'!D30+'Apr22'!D30+'May22'!D30+June22!D30+July22!D30+'Aug22'!D30+'Sep22'!D30+'Oct22'!D30+'Nov22'!D30+'Dec22'!D30 -> 183541 | E30: ='Jan22'!E30+'Feb22'!E30+'Mar22'!E30+'Apr22'!E30+'May22'!E30+June22!E30+July22!E30+'Aug22'!E30+'Sep22'!E30+'Oct22'!E30+'Nov22'!E30+'Dec22'!E30 -> 114269 | F30: ='Jan22'!F30+'Feb22'!F30+'Mar22'!F30+'Apr22'!F30+'May22'!F30+June22!F30+July22!F30+'Aug22'!F30+'Sep22'!F30+'Oct22'!F30+'Nov22'!F30+'Dec22'!F30 -> 0 | G30: ='Jan22'!G30+'Feb22'!G30+'Mar22'!G30+'Apr22'!G30+'May22'!G30+June22!G30+July22!G30+'Aug22'!G30+'Sep22'!G30+'Oct22'!G30+'Nov22'!G30+'Dec22'!G30 -> 0 | H30: ='Jan22'!H30+'Feb22'!H30+'Mar22'!H30+'Apr22'!H30+'May22'!H30+June22!H30+July22!H30+'Aug22'!H30+'Sep22'!H30+'Oct22'!H30+'Nov22'!H30+'Dec22'!H30 -> 297810
A31: Refunded | B31: b. Aviation | C31: 52 | D31: ='Jan22'!D31+'Feb22'!D31+'Mar22'!D31+'Apr22'!D31+'May22'!D31+June22!D31+July22!D31+'Aug22'!D31+'Sep22'!D31+'Oct22'!D31+'Nov22'!D31+'Dec22'!D31 -> 0 | E31: ='Jan22'!E31+'Feb22'!E31+'Mar22'!E31+'Apr22'!E31+'May22'!E31+June22!E31+July22!E31+'Aug22'!E31+'Sep22'!E31+'Oct22'!E31+'Nov22'!E31+'Dec22'!E31 -> 0 | F31: ='Jan22'!F31+'Feb22'!F31+'Mar22'!F31+'Apr22'!F31+'May22'!F31+June22!F31+July22!F31+'Aug22'!F31+'Sep22'!F31+'Oct22'!F31+'Nov22'!F31+'Dec22'!F31 -> 0 | G31: ='Jan22'!G31+'Feb22'!G31+'Mar22'!G31+'Apr22'!G31+'May22'!G31+June22!G31+July22!G31+'Aug22'!G31+'Sep22'!G31+'Oct22'!G31+'Nov22'!G31+'Dec22'!G31 -> 0 | H31: ='Jan22'!H31+'Feb22'!H31+'Mar22'!H31+'Apr22'!H31+'May22'!H31+June22!H31+July22!H31+'Aug22'!H31+'Sep22'!H31+'Oct22'!H31+'Nov22'!H31+'Dec22'!H31 -> 0
B32: c. Industrial/Commercial | C32: 53 | D32: ='Jan22'!D32+'Feb22'!D32+'Mar22'!D32+'Apr22'!D32+'May22'!D32+June22!D32+July22!D32+'Aug22'!D32+'Sep22'!D32+'Oct22'!D32+'Nov22'!D32+'Dec22'!D32 -> 0 | E32: ='Jan22'!E32+'Feb22'!E32+'Mar22'!E32+'Apr22'!E32+'May22'!E32+June22!E32+July22!E32+'Aug22'!E32+'Sep22'!E32+'Oct22'!E32+'Nov22'!E32+'Dec22'!E32 -> 0 | F32: ='Jan22'!F32+'Feb22'!F32+'Mar22'!F32+'Apr22'!F32+'May22'!F32+June22!F32+July22!F32+'Aug22'!F32+'Sep22'!F32+'Oct22'!F32+'Nov22'!F32+'Dec22'!F32 -> 0 | G32: ='Jan22'!G32+'Feb22'!G32+'Mar22'!G32+'Apr22'!G32+'May22'!G32+June22!G32+July22!G32+'Aug22'!G32+'Sep22'!G32+'Oct22'!G32+'Nov22'!G32+'Dec22'!G32 -> 0 | H32: ='Jan22'!H32+'Feb22'!H32+'Mar22'!H32+'Apr22'!H32+'May22'!H32+June22!H32+July22!H32+'Aug22'!H32+'Sep22'!H32+'Oct22'!H32+'Nov22'!H32+'Dec22'!H32 -> 0
B33: d. Construction | C33: 54 | D33: ='Jan22'!D33+'Feb22'!D33+'Mar22'!D33+'Apr22'!D33+'May22'!D33+June22!D33+July22!D33+'Aug22'!D33+'Sep22'!D33+'Oct22'!D33+'Nov22'!D33+'Dec22'!D33 -> 0 | E33: ='Jan22'!E33+'Feb22'!E33+'Mar22'!E33+'Apr22'!E33+'May22'!E33+June22!E33+July22!E33+'Aug22'!E33+'Sep22'!E33+'Oct22'!E33+'Nov22'!E33+'Dec22'!E33 -> 0 | F33: ='Jan22'!F33+'Feb22'!F33+'Mar22'!F33+'Apr22'!F33+'May22'!F33+June22!F33+July22!F33+'Aug22'!F33+'Sep22'!F33+'Oct22'!F33+'Nov22'!F33+'Dec22'!F33 -> 0 | G33: ='Jan22'!G33+'Feb22'!G33+'Mar22'!G33+'Apr22'!G33+'May22'!G33+June22!G33+July22!G33+'Aug22'!G33+'Sep22'!G33+'Oct22'!G33+'Nov22'!G33+'Dec22'!G33 -> 0 | H33: ='Jan22'!H33+'Feb22'!H33+'Mar22'!H33+'Apr22'!H33+'May22'!H33+June22!H33+July22!H33+'Aug22'!H33+'Sep22'!H33+'Oct22'!H33+'Nov22'!H33+'Dec22'!H33 -> 0
B34: e. Marine | C34: 55 | D34: ='Jan22'!D34+'Feb22'!D34+'Mar22'!D34+'Apr22'!D34+'May22'!D34+June22!D34+July22!D34+'Aug22'!D34+'Sep22'!D34+'Oct22'!D34+'Nov22'!D34+'Dec22'!D34 -> 0 | E34: ='Jan22'!E34+'Feb22'!E34+'Mar22'!E34+'Apr22'!E34+'May22'!E34+June22!E34+July22!E34+'Aug22'!E34+'Sep22'!E34+'Oct22'!E34+'Nov22'!E34+'Dec22'!E34 -> 0 | F34: ='Jan22'!F34+'Feb22'!F34+'Mar22'!F34+'Apr22'!F34+'May22'!F34+June22!F34+July22!F34+'Aug22'!F34+'Sep22'!F34+'Oct22'!F34+'Nov22'!F34+'Dec22'!F34 -> 0 | G34: ='Jan22'!G34+'Feb22'!G34+'Mar22'!G34+'Apr22'!G34+'May22'!G34+June22!G34+July22!G34+'Aug22'!G34+'Sep22'!G34+'Oct22'!G34+'Nov22'!G34+'Dec22'!G34 -> 0 | H34: ='Jan22'!H34+'Feb22'!H34+'Mar22'!H34+'Apr22'!H34+'May22'!H34+June22!H34+July22!H34+'Aug22'!H34+'Sep22'!H34+'Oct22'!H34+'Nov22'!H34+'Dec22'!H34 -> 0
B35: f. Municipal and Counties | C35: 56 | D35: ='Jan22'!D35+'Feb22'!D35+'Mar22'!D35+'Apr22'!D35+'May22'!D35+June22!D35+July22!D35+'Aug22'!D35+'Sep22'!D35+'Oct22'!D35+'Nov22'!D35+'Dec22'!D35 -> 805 | E35: ='Jan22'!E35+'Feb22'!E35+'Mar22'!E35+'Apr22'!E35+'May22'!E35+June22!E35+July22!E35+'Aug22'!E35+'Sep22'!E35+'Oct22'!E35+'Nov22'!E35+'Dec22'!E35 -> 34960 | F35: ='Jan22'!F35+'Feb22'!F35+'Mar22'!F35+'Apr22'!F35+'May22'!F35+June22!F35+July22!F35+'Aug22'!F35+'Sep22'!F35+'Oct22'!F35+'Nov22'!F35+'Dec22'!F35 -> 0 | G35: ='Jan22'!G35+'Feb22'!G35+'Mar22'!G35+'Apr22'!G35+'May22'!G35+June22!G35+July22!G35+'Aug22'!G35+'Sep22'!G35+'Oct22'!G35+'Nov22'!G35+'Dec22'!G35 -> 0 | H35: ='Jan22'!H35+'Feb22'!H35+'Mar22'!H35+'Apr22'!H35+'May22'!H35+June22!H35+July22!H35+'Aug22'!H35+'Sep22'!H35+'Oct22'!H35+'Nov22'!H35+'Dec22'!H35 -> 35765
B36: g. Other | C36: 57 | D36: ='Jan22'!D36+'Feb22'!D36+'Mar22'!D36+'Apr22'!D36+'May22'!D36+June22!D36+July22!D36+'Aug22'!D36+'Sep22'!D36+'Oct22'!D36+'Nov22'!D36+'Dec22'!D36 -> 208537 | E36: ='Jan22'!E36+'Feb22'!E36+'Mar22'!E36+'Apr22'!E36+'May22'!E36+June22!E36+July22!E36+'Aug22'!E36+'Sep22'!E36+'Oct22'!E36+'Nov22'!E36+'Dec22'!E36 -> 339386 | F36: ='Jan22'!F36+'Feb22'!F36+'Mar22'!F36+'Apr22'!F36+'May22'!F36+June22!F36+July22!F36+'Aug22'!F36+'Sep22'!F36+'Oct22'!F36+'Nov22'!F36+'Dec22'!F36 -> 0 | G36: ='Jan22'!G36+'Feb22'!G36+'Mar22'!G36+'Apr22'!G36+'May22'!G36+June22!G36+July22!G36+'Aug22'!G36+'Sep22'!G36+'Oct22'!G36+'Nov22'!G36+'Dec22'!G36 -> 0 | H36: ='Jan22'!H36+'Feb22'!H36+'Mar22'!H36+'Apr22'!H36+'May22'!H36+June22!H36+July22!H36+'Aug22'!H36+'Sep22'!H36+'Oct22'!H36+'Nov22'!H36+'Dec22'!H36 -> 547923
B37: h. | C37: 58
B38: i. | C38: 59
B39: j. | C39: 60
B40: k. | C40: 61
B41: l. | C41: 62
B42: m. | C42: 63
B43: n. | C43: 64
B44: o. | C44: 65
B45: p. | C45: 66
B46: q. | C46: 67
B47: r. Total (a. thru s.) | C47: 70 | D47: ='Jan22'!D47+'Feb22'!D47+'Mar22'!D47+'Apr22'!D47+'May22'!D47+June22!D47+July22!D47+'Aug22'!D47+'Sep22'!D47+'Oct22'!D47+'Nov22'!D47+'Dec22'!D47 -> 392883 | E47: ='Jan22'!E47+'Feb22'!E47+'Mar22'!E47+'Apr22'!E47+'May22'!E47+June22!E47+July22!E47+'Aug22'!E47+'Sep22'!E47+'Oct22'!E47+'Nov22'!E47+'Dec22'!E47 -> 488615 | F47: ='Jan22'!F47+'Feb22'!F47+'Mar22'!F47+'Apr22'!F47+'May22'!F47+June22!F47+July22!F47+'Aug22'!F47+'Sep22'!F47+'Oct22'!F47+'Nov22'!F47+'Dec22'!F47 -> 0 | G47: ='Jan22'!G47+'Feb22'!G47+'Mar22'!G47+'Apr22'!G47+'May22'!G47+June22!G47+July22!G47+'Aug22'!G47+'Sep22'!G47+'Oct22'!G47+'Nov22'!G47+'Dec22'!G47 -> 0 | H47: ='Jan22'!H47+'Feb22'!H47+'Mar22'!H47+'Apr22'!H47+'May22'!H47+June22!H47+July22!H47+'Aug22'!H47+'Sep22'!H47+'Oct22'!H47+'Nov22'!H47+'Dec22'!H47 -> 881498
A48: 5. Net | B48: a. At Full Rate | D48: ='Jan22'!D48+'Feb22'!D48+'Mar22'!D48+'Apr22'!D48+'May22'!D48+June22!D48+July22!D48+'Aug22'!D48+'Sep22'!D48+'Oct22'!D48+'Nov22'!D48+'Dec22'!D48 -> 1.0941566e+08 | E48: ='Jan22'!E48+'Feb22'!E48+'Mar22'!E48+'Apr22'!E48+'May22'!E48+June22!E48+July22!E48+'Aug22'!E48+'Sep22'!E48+'Oct22'!E48+'Nov22'!E48+'Dec22'!E48 -> 1092594194 | F48: ='Jan22'!F48+'Feb22'!F48+'Mar22'!F48+'Apr22'!F48+'May22'!F48+June22!F48+July22!F48+'Aug22'!F48+'Sep22'!F48+'Oct22'!F48+'Nov22'!F48+'Dec22'!F48 -> 5.0598735e+08 | G48: ='Jan22'!G48+'Feb22'!G48+'Mar22'!G48+'Apr22'!G48+'May22'!G48+June22!G48+July22!G48+'Aug22'!G48+'Sep22'!G48+'Oct22'!G48+'Nov22'!G48+'Dec22'!G48 -> 11226561 | H48: ='Jan22'!H48+'Feb22'!H48+'Mar22'!H48+'Apr22'!H48+'May22'!H48+June22!H48+July22!H48+'Aug22'!H48+'Sep22'!H48+'Oct22'!H48+'Nov22'!H48+'Dec22'!H48 -> 1.7192238e+09
A49: Volume
A50: Taxed | B50: IMC fuel volume used in state | F50: =F18 -> 30538123
B51: IMC fuel volume purchased in state | F51: 0
B52: Net IMC | F52: =F50-F51 -> 30538123
