Workbook

Sheet Jan21
A1: The public report burden for this information is estimated to average 5.4 hours | H1: Form Approved OMB No. 2125-0032
H2: STATE
A3: U.S. Department of | H3: Kansas
A4: Transportation | H4: YEAR
E5: MONTHLY MOTOR-FUEL CONSUMPTION | H5: 2021
H6: MONTH OF SALE
A7: Federal Highway | H7: January
A8: Administration | H8: UNITS (check one)
H9: Gallons X
H10: Liters
C11: LI | F11: PRIVATE AND COMMERCIAL
B12: ITEM | C12: NE | D12: GASOLINE | E12: GASOHOL | F12: HWY DIESEL | G12: HWY LPG | H12: TOTAL
C13: # | D13: -1 | E13: -2 | F13: -3 | G13: -4 | H13: -5
A14: 1. Gross | B14: a. Gross Volume Reported | C14: 1 | D14: =D15+D21+D22 -> 9976035 | E14: =E15+E21+E22 -> 86355150 | F14: =(F16-F17)/0.26 -> 40676900 | G14: =(G16-G17)/0.23 -> 866221.74 | H14: =SUM(D14:G14) -> 1.3787431e+08
B15: Net After Deduction | D15: 9542015 | E15: 86283738
B16: Special Fuel Tax Receipts | F16: 10757714 | G16: 199231
B17: Special Fuel Tax Refunds | F17: 181720 | G17: 0
A18: Volume | B18: b. IFTA | C18: 2 | F18: =F85 -> 0
A19: 2. Fully | B19: a. Losses - Flat % | C19: 21 | D19: 220790 | E19: 1983634 | H19: =SUM(D19:G19) -> 2204424
A20: Tax | B20: b. Losses - Actual | C20: 22 | D20: 0 | E20: 0 | H20: =SUM(D20:G20) -> 0
A21: Exempt | B21: c. Federal | C21: 23 | D21: 90081 | E21: 71412 | H21: =SUM(D21:G21) -> 161493
B22: d. Aviation | C22: 24 | D22: 343939 | E22: 0 | H22: =SUM(D22:G22) -> 343939
B23: e. Native American | C23: 25 | D23: 0 | H23: =SUM(D23:G23) -> 0
B24: f. Assessments | C24: 26 | D24: 893260.46 | H24: =SUM(D24:G24) -> 893260.46
B25: g. | C25: 27 | H25: =SUM(D25:G25) -> 0
B26: h. | C26: 28 | H26: =SUM(D26:G26) -> 0
B27: i. | C27: 29 | H27: =SUM(D27:G27) -> 0
B28: j. Total (sum a. through e - f.) | C28: 30 | D28: =SUM(D19:D23)+D24 -> 1548070.5 | E28: =SUM(E19:E23)-E24 -> 2055046 | F28: =SUM(F19:F23)-F24 -> 0 | G28: =SUM(G19:G23)-G24 -> 0 | H28: =SUM(H19:H23)-H24 -> 1816595.5
A29: 3. Gross Volume Taxed (1-2j) | C29: 40 | D29: =D14-D28 -> 8427964.5 | E29: =E14-E28 -> 84300104 | F29: =F14+F18-F28 -> 40676900 | G29: =G14-G28 -> 866221.74 | H29: =H14-H28 -> 1.3605771e+08
A30: 4. Fully | B30: a. Agriculture | C30: 51 | D30: 17808 | E30: 18692 | H30: =SUM(D30:G30) -> 36500
A31: Refunded | B31: b. Aviation | C31: 52 | H31: =SUM(D31:G31) -> 0
B32: c. Industrial/Commercial | C32: 53 | H32: =SUM(D32:G32) -> 0
B33: d. Construction | C33: 54 | H33: =SUM(D33:G33) -> 0
B34: e. Marine | C34: 55 | H34: =SUM(D34:G34) -> 0
B35: f. Municipal and Counties | C35: 56 | H35: =SUM(D35:G35) -> 0
B36: g. Other | C36: 57 | D36: 17498 | E36: 33609 | H36: =SUM(D36:G36) -> 51107
B37: h. | C37: 58 | H37: =SUM(D37:G37) -> 0
B38: i. | C38: 59 | H38: =SUM(D38:G38) -> 0
B39: j. | C39: 60 | H39: =SUM(D39:G39) -> 0
B40: k. | C40: 61
...

Sheet Feb21
A1: The public report burden for this information is estimated to average 5.4 hours | H1: Form Approved OMB No. 2125-0032
H2: STATE
A3: U.S. Department of | H3: Kansas
A4: Transportation | H4: YEAR
E5: MONTHLY MOTOR-FUEL CONSUMPTION | H5: 2020
H6: MONTH OF SALE
A7: Federal Highway | H7: February
A8: Administration | H8: UNITS (check one)
H9: Gallons X
H10: Liters
C11: LI | F11: PRIVATE AND COMMERCIAL
B12: ITEM | C12: NE | D12: GASOLINE | E12: GASOHOL | F12: HWY DIESEL | G12: HWY LPG | H12: TOTAL
C13: # | D13: -1 | E13: -2 | F13: -3 | G13: -4 | H13: -5
A14: 1. Gross | B14: a. Gross Volume Reported | C14: 1 | D14: =D15+D21+D22 -> 8831918 | E14: =E15+E21+E22 -> 78774239 | F14: =(F16-F17)/0.26 -> 34004181 | G14: =(G16-G17)/0.23 -> 6900491.3 | H14: =SUM(D14:G14) -> 1.2851083e+08
B15: Net After Deduction | D15: 8464288 | E15: 78713878
B16: Special Fuel Tax Receipts | F16: 8949130 | G16: 1587203
B17: Special Fuel Tax Refunds | F17: 108043 | G17: 90
A18: Volume | B18: b. IFTA | C18: 2 | F18: =F85 -> 0
A19: 2. Fully | B19: a. Losses - Flat % | C19: 21 | D19: 195490 | E19: 1864027 | H19: =SUM(D19:G19) -> 2059517
A20: Tax | B20: b. Losses - Actual | C20: 22 | D20: 0 | E20: 0 | H20: =SUM(D20:G20) -> 0
A21: Exempt | B21: c. Federal | C21: 23 | D21: 88967 | E21: 60361 | H21: =SUM(D21:G21) -> 149328
B22: d. Aviation | C22: 24 | D22: 278663 | E22: 0 | H22: =SUM(D22:G22) -> 278663
B23: e. Native American | C23: 25 | D23: 0 | H23: =SUM(D23:G23) -> 0
B24: f. Assessments | C24: 26 | D24: -16714 | H24: =SUM(D24:G24) -> -16714
B25: g. | C25: 27 | H25: =SUM(D25:G25) -> 0
B26: h. | C26: 28 | H26: =SUM(D26:G26) -> 0
B27: i. | C27: 29 | H27: =SUM(D27:G27) -> 0
B28: j. Total (sum a. through e - f.) | C28: 30 | D28: =SUM(D19:D23)+D24 -> 546406 | E28: =SUM(E19:E23)-E24 -> 1924388 | F28: =SUM(F19:F23)-F24 -> 0 | G28: =SUM(G19:G23)-G24 -> 0 | H28: =SUM(H19:H23)-H24 -> 2504222
A29: 3. Gross Volume Taxed (1-2j) | C29: 40 | D29: =D14-D28 -> 8285512 | E29: =E14-E28 -> 76849851 | F29: =F14+F18-F28 -> 34004181 | G29: =G14-G28 -> 6900491.3 | H29: =H14-H28 -> 1.2600661e+08
A30: 4. Fully | B30: a. Agriculture | C30: 51 | D30: 9947 | E30: 8019 | H30: =SUM(D30:G30) -> 17966
A31: Refunded | B31: b. Aviation | C31: 52 | H31: =SUM(D31:G31) -> 0
B32: c. Industrial/Commercial | C32: 53 | H32: =SUM(D32:G32) -> 0
B33: d. Construction | C33: 54 | H33: =SUM(D33:G33) -> 0
B34: e. Marine | C34: 55 | H34: =SUM(D34:G34) -> 0
B35: f. Municipal and Counties | C35: 56 | H35: =SUM(D35:G35) -> 0
B36: g. Other | C36: 57 | D36: 36186 | E36: 20228 | H36: =SUM(D36:G36) -> 56414
B37: h. | C37: 58 | H37: =SUM(D37:G37) -> 0
B38: i. | C38: 59 | H38: =SUM(D38:G38) -> 0
B39: j. | C39: 60 | H39: =SUM(D39:G39) -> 0
B40: k. | C40: 61
...

Sheet Mar21
A1: The public report burden for this information is estimated to average 5.4 hours | H1: Form Approved OMB No. 2125-0032
H2: STATE
A3: U.S. Department of | H3: Kansas
A4: Transportation | H4: YEAR
E5: MONTHLY MOTOR-FUEL CONSUMPTION | H5: 2021
H6: MONTH OF SALE
A7: Federal Highway | H7: March
A8: Administration | H8: UNITS (check one)
H9: Gallons X
H10: Liters
C11: LI | F11: PRIVATE AND COMMERCIAL
B12: ITEM | C12: NE | D12: GASOLINE | E12: GASOHOL | F12: HWY DIESEL | G12: HWY LPG | H12: TOTAL
C13: # | D13: -1 | E13: -2 | F13: -3 | G13: -4 | H13: -5
A14: 1. Gross | B14: a. Gross Volume Reported | C14: 1 | D14: =D15+D21+D22 -> 11145973 | E14: =E15+E21+E22 -> 93437080 | F14: =(F16-F17)/0.26 -> 40003342 | G14: =(G16-G17)/0.23 -> 664395.65 | H14: =SUM(D14:G14) -> 1.4525079e+08
B15: Net After Deduction | D15: 10480789 | E15: 93317917
B16: Special Fuel Tax Receipts | F16: 10691849 | G16: 152811
B17: Special Fuel Tax Refunds | F17: 290980 | G17: 0
A18: Volume | B18: b. IFTA | C18: 2 | F18: =F85 -> 41395500
A19: 2. Fully | B19: a. Losses - Flat % | C19: 21 | D19: 239975 | E19: 2142564 | H19: =SUM(D19:G19) -> 2382539
A20: Tax | B20: b. Losses - Actual | C20: 22 | D20: 0 | E20: 0 | H20: =SUM(D20:G20) -> 0
A21: Exempt | B21: c. Federal | C21: 23 | D21: 59736 | E21: 119163 | H21: =SUM(D21:G21) -> 178899
B22: d. Aviation | C22: 24 | D22: 605448 | E22: 0 | H22: =SUM(D22:G22) -> 605448
B23: e. Native American | C23: 25 | H23: =SUM(D23:G23) -> 0
B24: f. Assessments | C24: 26 | D24: 70510 | H24: =SUM(D24:G24) -> 70510
B25: g. | C25: 27 | H25: =SUM(D25:G25) -> 0
B26: h. | C26: 28 | H26: =SUM(D26:G26) -> 0
B27: i. | C27: 29 | H27: =SUM(D27:G27) -> 0
B28: j. Total (sum a. through e - f.) | C28: 30 | D28: =SUM(D19:D23)+D24 -> 975669 | E28: =SUM(E19:E23)-E24 -> 2261727 | F28: =SUM(F19:F23)-F24 -> 0 | G28: =SUM(G19:G23)-G24 -> 0 | H28: =SUM(H19:H23)-H24 -> 3096376
A29: 3. Gross Volume Taxed (1-2j) | C29: 40 | D29: =D14-D28 -> 10170304 | E29: =E14-E28 -> 91175353 | F29: =F14+F18-F28 -> 81398842 | G29: =G14-G28 -> 664395.65 | H29: =H14-H28 -> 1.4215441e+08
A30: 4. Fully | B30: a. Agriculture | C30: 51 | D30: 5240 | E30: 5369 | H30: =SUM(D30:G30) -> 10609
A31: Refunded | B31: b. Aviation | C31: 52 | H31: =SUM(D31:G31) -> 0
B32: c. Industrial/Commercial | C32: 53 | H32: =SUM(D32:G32) -> 0
B33: d. Construction | C33: 54 | H33: =SUM(D33:G33) -> 0
B34: e. Marine | C34: 55 | H34: =SUM(D34:G34) -> 0
B35: f. Municipal and Counties | C35: 56 | H35: =SUM(D35:G35) -> 0
B36: g. Other | C36: 57 | D36: 69231 | E36: 31571 | H36: =SUM(D36:G36) -> 100802
B37: h. | C37: 58 | H37: =SUM(D37:G37) -> 0
B38: i. | C38: 59 | H38: =SUM(D38:G38) -> 0
B39: j. | C39: 60 | H39: =SUM(D39:G39) -> 0
B40: k. | C40: 61
...

Sheet Apr21
A1: The public report burden for this information is estimated to average 5.4 hours | H1: Form Approved OMB No. 2125-0032
H2: STATE
A3: U.S. Department of | H3: Kansas
A4: Transportation | H4: YEAR
E5: MONTHLY MOTOR-FUEL CONSUMPTION | H5: 2021
H6: MONTH OF SALE
A7: Federal Highway | H7: April
A8: Administration | H8: UNITS (check one)
H9: Gallons X
H10: Liters
C11: LI | F11: PRIVATE AND COMMERCIAL
B12: ITEM | C12: NE | D12: GASOLINE | E12: GASOHOL | F12: HWY DIESEL | G12: HWY LPG | H12: TOTAL
C13: # | D13: -1 | E13: -2 | F13: -3 | G13: -4 | H13: -5
A14: 1. Gross | B14: a. Gross Volume Reported | C14: 1 | D14: =D15+D21+D22 -> 11076670 | E14: =E15+E21+E22 -> 99330227 | F14: =(F16-F17)/0.26 -> 47345354 | G14: =(G16-G17)/0.23 -> 1156478.3 | H14: =SUM(D14:G14) -> 1.5890873e+08
B15: Net After Deduction | D15: 10402114 | E15: 99210493
B16: Special Fuel Tax Receipts ($) | F16: 12516032 | G16: 265990
B17: Special Fuel Tax Refunds ($) | F17: 206240 | G17: 0
A18: Volume | B18: b. IFTA | C18: 2 | F18: =F85 -> 0
A19: 2. Fully | B19: a. Losses - Flat % | C19: 21 | D19: 246696 | E19: 2290752 | H19: =SUM(D19:G19) -> 2537448
A20: Tax | B20: b. Losses - Actual | C20: 22 | D20: 0 | E20: 0 | H20: =SUM(D20:G20) -> 0
A21: Exempt | B21: c. Federal | C21: 23 | D21: 54355 | E21: 119734 | H21: =SUM(D21:G21) -> 174089
B22: d. Aviation | C22: 24 | D22: 620201 | E22: 0 | H22: =SUM(D22:G22) -> 620201
B23: e. Native American | C23: 25 | D23: 0 | H23: =SUM(D23:G23) -> 0
B24: f. Assessments | C24: 26 | D24: -87753 | H24: =SUM(D24:G24) -> -87753
B25: g. | C25: 27 | H25: =SUM(D25:G25) -> 0
B26: h. | C26: 28 | H26: =SUM(D26:G26) -> 0
B27: i. | C27: 29 | H27: =SUM(D27:G27) -> 0
B28: j. Total (sum a. through f.) | C28: 30 | D28: =SUM(D19:D23)+D24 -> 833499 | E28: =SUM(E19:E23)+E24 -> 2410486 | F28: =SUM(F19:F23)-F24 -> 0 | G28: =SUM(G19:G23)-G24 -> 0 | H28: =SUM(H19:H23)-H24 -> 3419491
A29: 3. Gross Volume Taxed (1-2j) | C29: 40 | D29: =D14-D28 -> 10243171 | E29: =E14-E28 -> 96919741 | F29: =F14+F18-F28 -> 47345354 | G29: =G14-G28 -> 1156478.3 | H29: =H14-H28 -> 1.5548924e+08
A30: 4. Fully | B30: a. Agriculture | C30: 51 | D30: 3121 | E30: 5268 | H30: =SUM(D30:G30) -> 8389
A31: Refunded | B31: b. Aviation | C31: 52 | H31: =SUM(D31:G31) -> 0
B32: c. Industrial/Commercial | C32: 53 | H32: =SUM(D32:G32) -> 0
B33: d. Construction | C33: 54 | H33: =SUM(D33:G33) -> 0
B34: e. Marine | C34: 55 | H34: =SUM(D34:G34) -> 0
B35: f. Municipal and Counties | C35: 56 | H35: =SUM(D35:G35) -> 0
B36: g. Other | C36: 57 | D36: 10145 | E36: 2365 | H36: =SUM(D36:G36) -> 12510
B37: h. | C37: 58 | H37: =SUM(D37:G37) -> 0
B38: i. | C38: 59 | H38: =SUM(D38:G38) -> 0
B39: j. | C39: 60 | H39: =SUM(D39:G39) -> 0
B40: k. | C40: 61
...

Sheet May21
A1: The public report burden for this information is estimated to average 5.4 hours | H1: Form Approved OMB No. 2125-0032
H2: STATE
A3: U.S. Department of | H3: Kansas
A4: Transportation | H4: YEAR
E5: MONTHLY MOTOR-FUEL CONSUMPTION | H5: 2021
H6: MONTH OF SALE
A7: Federal Highway | H7: May
A8: Administration | H8: UNITS (check one)
H9: Gallons X
H10: Liters
C11: LI | F11: PRIVATE AND COMMERCIAL
B12: ITEM | C12: NE | D12: GASOLINE | E12: GASOHOL | F12: HWY DIESEL | G12: HWY LPG | H12: TOTAL
C13: # | D13: -1 | E13: -2 | F13: -3 | G13: -4 | H13: -5
A14: 1. Gross | B14: a. Gross Volume Reported | C14: 1 | D14: =D15+D21+D22 -> 11841209 | E14: =E15+E21+E22 -> 102767328 | F14: =(F16-F17)/0.26 -> 38071912 | G14: =(G16-G17)/0.23 -> 654443.48 | H14: =SUM(D14:G14) -> 1.5333489e+08
B15: Net After Deduction | D15: 11293973 | E15: 102653868
B16: Special Fuel Tax Receipts ($) | F16: 10152749 | G16: 150522
B17: Special Fuel Tax Refunds ($) | F17: 254052 | G17: 0
A18: Volume | B18: b. IFTA | C18: 2 | F18: =F85 -> 0
A19: 2. Fully | B19: a. Losses - Flat % | C19: 21 | D19: 271384 | E19: 2443959 | H19: =SUM(D19:G19) -> 2715343
A20: Tax | B20: b. Losses - Actual | C20: 22 | H20: =SUM(D20:G20) -> 0
A21: Exempt | B21: c. Federal | C21: 23 | D21: 52613 | E21: 113460 | H21: =SUM(D21:G21) -> 166073
B22: d. Aviation | C22: 24 | D22: 494623 | E22: 0 | H22: =SUM(D22:G22) -> 494623
B23: e. Native American | C23: 25 | H23: =SUM(D23:G23) -> 0
B24: f. Assessments | C24: 26 | D24: 11136 | H24: =SUM(D24:G24) -> 11136
B25: g. | C25: 27 | H25: =SUM(D25:G25) -> 0
B26: h. | C26: 28 | H26: =SUM(D26:G26) -> 0
B27: i. | C27: 29 | H27: =SUM(D27:G27) -> 0
B28: j. Total (sum a. through e - f.) | C28: 30 | D28: =SUM(D19:D23)+D24 -> 829756 | E28: =SUM(E19:E23)-E24 -> 2557419 | F28: =SUM(F19:F23)-F24 -> 0 | G28: =SUM(G19:G23)-G24 -> 0 | H28: =SUM(H19:H23)-H24 -> 3364903
A29: 3. Gross Volume Taxed (1-2j) | C29: 40 | D29: =D14-D28 -> 11011453 | E29: =E14-E28 -> 100209909 | F29: =F14+F18-F28 -> 38071912 | G29: =G14-G28 -> 654443.48 | H29: =H14-H28 -> 1.4996999e+08
A30: 4. Fully | B30: a. Agriculture | C30: 51 | H30: =SUM(D30:G30) -> 0
A31: Refunded | B31: b. Aviation | C31: 52 | H31: =SUM(D31:G31) -> 0
B32: c. Industrial/Commercial | C32: 53 | H32: =SUM(D32:G32) -> 0
B33: d. Construction | C33: 54 | H33: =SUM(D33:G33) -> 0
B34: e. Marine | C34: 55 | H34: =SUM(D34:G34) -> 0
B35: f. Municipal and Counties | C35: 56 | H35: =SUM(D35:G35) -> 0
B36: g. Other | C36: 57 | E36: 110825 | H36: =SUM(D36:G36) -> 110825
B37: h. | C37: 58 | H37: =SUM(D37:G37) -> 0
B38: i. | C38: 59 | H38: =SUM(D38:G38) -> 0
B39: j. | C39: 60 | H39: =SUM(D39:G39) -> 0
B40: k. | C40: 61
...

Sheet June21
A1: The public report burden for this information is estimated to average 5.4 hours | H1: Form Approved OMB No. 2125-0032
H2: STATE
A3: U.S. Department of | H3: Kansas
A4: Transportation | H4: YEAR
E5: MONTHLY MOTOR-FUEL CONSUMPTION | H5: 2021
H6: MONTH OF SALE
A7: Federal Highway | H7: June
A8: Administration | H8: UNITS (check one)
H9: Gallons X
H10: Liters
C11: LI | F11: PRIVATE AND COMMERCIAL
B12: ITEM | C12: NE | D12: GASOLINE | E12: GASOHOL | F12: HWY DIESEL | G12: HWY LPG | H12: TOTAL
C13: # | D13: -1 | E13: -2 | F13: -3 | G13: -4 | H13: -5
A14: 1. Gross | B14: a. Gross Volume Reported | C14: 1 | D14: =D15+D21+D22 -> 11734848 | E14: =E15+E21+E22 -> 102073006 | F14: =(F16-F17)/0.26 -> 41176438 | G14: =(G16-G17)/0.23 -> 138630.43 | H14: =SUM(D14:G14) -> 1.5512292e+08
B15: Net After Deduction | D15: 11032834 | E15: 101953270
B16: Special Fuel Tax Receipts ($) | F16: 10917618 | G16: 31885
B17: Special Fuel Tax Refunds ($) | F17: 211744 | G17: 0
A18: Volume | B18: b. IFTA | C18: 2 | F18: =F85 -> 15223123
A19: 2. Fully | B19: a. Losses - Flat % | C19: 21 | D19: 250982 | E19: 2394297 | H19: =SUM(D19:G19) -> 2645279
A20: Tax | B20: b. Losses - Actual | C20: 22 | D20: 0 | E20: 0 | H20: =SUM(D20:G20) -> 0
A21: Exempt | B21: c. Federal | C21: 23 | D21: 51545 | E21: 119736 | H21: =SUM(D21:G21) -> 171281
B22: d. Aviation | C22: 24 | D22: 650469 | E22: 0 | H22: =SUM(D22:G22) -> 650469
B23: e. Native American | C23: 25 | H23: =SUM(D23:G23) -> 0
B24: f. Assessments | C24: 26 | D24: -563513 | H24: =SUM(D24:G24) -> -563513
B25: g. | C25: 27 | H25: =SUM(D25:G25) -> 0
B26: h. | C26: 28 | H26: =SUM(D26:G26) -> 0
B27: i. | C27: 29 | H27: =SUM(D27:G27) -> 0
B28: j. Total (sum a. through e - f.) | C28: 30 | D28: =SUM(D19:D23)-D24 -> 1516509 | E28: =SUM(E19:E23)-E24 -> 2514033 | F28: =SUM(F19:F23)-F24 -> 0 | G28: =SUM(G19:G23)-G24 -> 0 | H28: =SUM(H19:H23)-H24 -> 4030542
A29: 3. Gross Volume Taxed (1-2j) | C29: 40 | D29: =D14-D28 -> 10218339 | E29: =E14-E28 -> 99558973 | F29: =F14+F18-F28 -> 56399562 | G29: =G14-G28 -> 138630.43 | H29: =H14-H28 -> 1.5109238e+08
A30: 4. Fully | B30: a. Agriculture | C30: 51 | D30: 2025 | H30: =SUM(D30:G30) -> 2025
A31: Refunded | B31: b. Aviation | C31: 52 | H31: =SUM(D31:G31) -> 0
B32: c. Industrial/Commercial | C32: 53 | H32: =SUM(D32:G32) -> 0
B33: d. Construction | C33: 54 | H33: =SUM(D33:G33) -> 0
B34: e. Marine | C34: 55 | H34: =SUM(D34:G34) -> 0
B35: f. Municipal and Counties | C35: 56 | H35: =SUM(D35:G35) -> 0
B36: g. Other | C36: 57 | D36: 2948 | E36: 4096 | H36: =SUM(D36:G36) -> 7044
B37: h. | C37: 58 | H37: =SUM(D37:G37) -> 0
B38: i. | C38: 59 | H38: =SUM(D38:G38) -> 0
B39: j. | C39: 60 | H39: =SUM(D39:G39) -> 0
B40: k. | C40: 61
...

Sheet Jul21
A1: The public report burden for this information is estimated to average 5.4 hours | H1: Form Approved OMB No. 2125-0032
H2: STATE
A3: U.S. Department of | H3: Kansas
A4: Transportation | H4: YEAR
E5: MONTHLY MOTOR-FUEL CONSUMPTION | H5: 2021
H6: MONTH OF SALE
A7: Federal Highway | H7: July
A8: Administration | H8: UNITS (check one)
H9: Gallons X
H10: Liters
C11: LI | F11: PRIVATE AND COMMERCIAL
B12: ITEM | C12: NE | D12: GASOLINE | E12: GASOHOL | F12: HWY DIESEL | G12: HWY LPG | H12: TOTAL
C13: # | D13: -1 | E13: -2 | F13: -3 | G13: -4 | H13: -5
A14: 1. Gross | B14: a. Gross Volume Reported | C14: 1 | D14: =D15+D21+D22 -> 13839875 | E14: =E15+E21+E22 -> 105994550 | F14: =(F16-F17)/0.26 -> 45765031 | G14: =(G16-G17)/0.23 -> 622221.74 | H14: =SUM(D14:G14) -> 1.6622168e+08
B15: Net After Deduction | D15: 13088557 | E15: 105872082
B16: Special Fuel Tax Receipts ($) | F16: 12101701 | G16: 143111
B17: Special Fuel Tax Refunds ($) | F17: 202793
A18: Volume | B18: b. IFTA | C18: 2 | F18: =F85 -> 0
A19: 2. Fully | B19: a. Losses - Flat % | C19: 21 | D19: 307238 | E19: 2437639 | H19: =SUM(D19:G19) -> 2744877
A20: Tax | B20: b. Losses - Actual | C20: 22 | D20: 0 | E20: 0 | H20: =SUM(D20:G20) -> 0
A21: Exempt | B21: c. Federal | C21: 23 | D21: 51963 | E21: 122468 | H21: =SUM(D21:G21) -> 174431
B22: d. Aviation | C22: 24 | D22: 699355 | E22: 0 | H22: =SUM(D22:G22) -> 699355
B23: e. Native American | C23: 25 | H23: =SUM(D23:G23) -> 0
B24: f. Assessments | C24: 26 | D24: -207260.12 | H24: =SUM(D24:G24) -> -207260.12
B25: g. | C25: 27 | H25: =SUM(D25:G25) -> 0
B26: h. | C26: 28 | H26: =SUM(D26:G26) -> 0
B27: i. | C27: 29 | H27: =SUM(D27:G27) -> 0
B28: j. Total (sum a. through e - f.) | C28: 30 | D28: =SUM(D19:D23)-D24 -> 1265816.1 | E28: =SUM(E19:E23)-E24 -> 2560107 | F28: =SUM(F19:F23)-F24 -> 0 | G28: =SUM(G19:G23)-G24 -> 0 | H28: =SUM(H19:H23)-H24 -> 3825923.1
A29: 3. Gross Volume Taxed (1-2j) | C29: 40 | D29: =D14-D28 -> 12574059 | E29: =E14-E28 -> 103434443 | F29: =F14+F18-F28 -> 45765031 | G29: =G14-G28 -> 622221.74 | H29: =H14-H28 -> 1.6239575e+08
A30: 4. Fully | B30: a. Agriculture | C30: 51 | D30: 7908 | E30: 6675 | H30: =SUM(D30:G30) -> 14583
A31: Refunded | B31: b. Aviation | C31: 52 | H31: =SUM(D31:G31) -> 0
B32: c. Industrial/Commercial | C32: 53 | H32: =SUM(D32:G32) -> 0
B33: d. Construction | C33: 54 | H33: =SUM(D33:G33) -> 0
B34: e. Marine | C34: 55 | H34: =SUM(D34:G34) -> 0
B35: f. Municipal and Counties | C35: 56 | D35: 7609 | H35: =SUM(D35:G35) -> 7609
B36: g. Other | C36: 57 | D36: 12529 | E36: 10811 | H36: =SUM(D36:G36) -> 23340
B37: h. | C37: 58 | H37: =SUM(D37:G37) -> 0
B38: i. | C38: 59 | H38: =SUM(D38:G38) -> 0
B39: j. | C39: 60 | H39: =SUM(D39:G39) -> 0
B40: k. | C40: 61
...

Sheet Aug21
A1: The public report burden for this information is estimated to average 5.4 hours | H1: Form Approved OMB No. 2125-0032
H2: STATE
A3: U.S. Department of | H3: Kansas
A4: Transportation | H4: YEAR
E5: MONTHLY MOTOR-FUEL CONSUMPTION | H5: 2021
H6: MONTH OF SALE
A7: Federal Highway | H7: August
A8: Administration | H8: UNITS (check one)
H9: Gallons X
H10: Liters
C11: LI | F11: PRIVATE AND COMMERCIAL
B12: ITEM | C12: NE | D12: GASOLINE | E12: GASOHOL | F12: HWY DIESEL | G12: HWY LPG | H12: TOTAL
C13: # | D13: -1 | E13: -2 | F13: -3 | G13: -4 | H13: -5
A14: 1. Gross | B14: a. Gross Volume Reported | C14: 1 | D14: =D15+D21+D22 -> 12102411 | E14: =E15+E21+E22 -> 105501531 | F14: =(F16-F17)/0.26 -> 38877781 | G14: =(G16-G17)/0.23 -> 643634.78 | H14: =SUM(D14:G14) -> 1.5712536e+08
B15: Net After Deduction | D15: 11225586 | E15: 105368933
B16: Special Fuel Tax Receipts ($) | F16: 10274921 | G16: 148036
B17: Special Fuel Tax Refunds ($) | F17: 166698 | G17: 0
A18: Volume | B18: b. IFTA | C18: 2 | F18: =F85 -> 0
A19: 2. Fully | B19: a. Losses - Flat % | C19: 21 | D19: 266280 | E19: 2442198 | H19: =SUM(D19:G19) -> 2708478
A20: Tax | B20: b. Losses - Actual | C20: 22 | D20: 0 | E20: 0 | H20: =SUM(D20:G20) -> 0
A21: Exempt | B21: c. Federal | C21: 23 | D21: 50378 | E21: 132598 | H21: =SUM(D21:G21) -> 182976
B22: d. Aviation | C22: 24 | D22: 826447 | E22: 0 | H22: =SUM(D22:G22) -> 826447
B23: e. Native American | C23: 25 | H23: =SUM(D23:G23) -> 0
B24: f. Assessments | C24: 26 | D24: 82547.917 | H24: =SUM(D24:G24) -> 82547.917
B25: g. | C25: 27 | H25: =SUM(D25:G25) -> 0
B26: h. | C26: 28 | H26: =SUM(D26:G26) -> 0
B27: i. | C27: 29 | H27: =SUM(D27:G27) -> 0
B28: j. Total (sum a. through e - f.) | C28: 30 | D28: =SUM(D19:D23)-D24 -> 1060557.1 | E28: =SUM(E19:E23)-E24 -> 2574796 | F28: =SUM(F19:F23)-F24 -> 0 | G28: =SUM(G19:G23)-G24 -> 0 | H28: =SUM(H19:H23)-H24 -> 3635353.1
A29: 3. Gross Volume Taxed (1-2j) | C29: 40 | D29: =D14-D28 -> 11041854 | E29: =E14-E28 -> 102926735 | F29: =F14+F18-F28 -> 38877781 | G29: =G14-G28 -> 643634.78 | H29: =H14-H28 -> 1.5349e+08
A30: 4. Fully | B30: a. Agriculture | C30: 51 | D30: 5055 | E30: 6290 | H30: =SUM(D30:G30) -> 11345
A31: Refunded | B31: b. Aviation | C31: 52 | H31: =SUM(D31:G31) -> 0
B32: c. Industrial/Commercial | C32: 53 | H32: =SUM(D32:G32) -> 0
B33: d. Construction | C33: 54 | H33: =SUM(D33:G33) -> 0
B34: e. Marine | C34: 55 | H34: =SUM(D34:G34) -> 0
B35: f. Municipal and Counties | C35: 56 | H35: =SUM(D35:G35) -> 0
B36: g. Other | C36: 57 | D36: 1544 | E36: 7098 | H36: =SUM(D36:G36) -> 8642
B37: h. | C37: 58 | H37: =SUM(D37:G37) -> 0
B38: i. | C38: 59 | H38: =SUM(D38:G38) -> 0
B39: j. | C39: 60 | H39: =SUM(D39:G39) -> 0
B40: k. | C40: 61
...

Sheet Sep21
A1: The public report burden for this information is estimated to average 5.4 hours | H1: Form Approved OMB No. 2125-0032
H2: STATE
A3: U.S. Department of | H3: Kansas
A4: Transportation | H4: YEAR
E5: MONTHLY MOTOR-FUEL CONSUMPTION | H5: 2021
H6: MONTH OF SALE
A7: Federal Highway | H7: September
A8: Administration | H8: UNITS (check one)
H9: Gallons X
H10: Liters
C11: LI | F11: PRIVATE AND COMMERCIAL
B12: ITEM | C12: NE | D12: GASOLINE | E12: GASOHOL | F12: HWY DIESEL | G12: HWY LPG | H12: TOTAL
C13: # | D13: -1 | E13: -2 | F13: -3 | G13: -4 | H13: -5
A14: 1. Gross | B14: a. Gross Volume Reported | C14: 1 | D14: =D15+D21+D22 -> 11621156 | E14: =E15+E21+E22 -> 98957627 | F14: =(F16-F17)/0.26 -> 41543542 | G14: =(G16-G17)/0.23 -> 1113752.2 | H14: =SUM(D14:G14) -> 1.5323608e+08
B15: Net After Deduction | D15: 10978171 | E15: 98824654
B16: Special Fuel Tax Receipts ($) | F16: 11145726 | G16: 256163
B17: Special Fuel Tax Refunds ($) | F17: 344405 | G17: 0
A18: Volume | B18: b. IFTA | C18: 2 | F18: =F85 -> 9712680.8
A19: 2. Fully | B19: a. Losses - Flat % | C19: 21 | D19: 257161 | E19: 2322341 | H19: =SUM(D19:G19) -> 2579502
A20: Tax | B20: b. Losses - Actual | C20: 22 | D20: 0 | E20: 0 | H20: =SUM(D20:G20) -> 0
A21: Exempt | B21: c. Federal | C21: 23 | D21: 49237 | E21: 132973 | H21: =SUM(D21:G21) -> 182210
B22: d. Aviation | C22: 24 | D22: 593748 | E22: 0 | H22: =SUM(D22:G22) -> 593748
B23: e. Native American | C23: 25 | H23: =SUM(D23:G23) -> 0
B24: f. Assessments | C24: 26 | D24: 54089.5 | H24: =SUM(D24:G24) -> 54089.5
B25: g. | C25: 27 | H25: =SUM(D25:G25) -> 0
B26: h. | C26: 28 | H26: =SUM(D26:G26) -> 0
B27: i. | C27: 29 | H27: =SUM(D27:G27) -> 0
B28: j. Total (sum a. through e - f.) | C28: 30 | D28: =SUM(D19:D23)-D24 -> 846056.5 | E28: =SUM(E19:E23)-E24 -> 2455314 | F28: =SUM(F19:F23)-F24 -> 0 | G28: =SUM(G19:G23)-G24 -> 0 | H28: =SUM(H19:H23)-H24 -> 3301370.5
A29: 3. Gross Volume Taxed (1-2j) | C29: 40 | D29: =D14-D28 -> 10775100 | E29: =E14-E28 -> 96502313 | F29: =F14+F18-F28 -> 51256223 | G29: =G14-G28 -> 1113752.2 | H29: =H14-H28 -> 1.4993471e+08
A30: 4. Fully | B30: a. Agriculture | C30: 51 | D30: 7569 | E30: 10449 | H30: =SUM(D30:G30) -> 18018
A31: Refunded | B31: b. Aviation | C31: 52 | H31: =SUM(D31:G31) -> 0
B32: c. Industrial/Commercial | C32: 53 | H32: =SUM(D32:G32) -> 0
B33: d. Construction | C33: 54 | H33: =SUM(D33:G33) -> 0
B34: e. Marine | C34: 55 | H34: =SUM(D34:G34) -> 0
B35: f. Municipal and Counties | C35: 56 | H35: =SUM(D35:G35) -> 0
B36: g. Other | C36: 57 | D36: 2668 | E36: 14097 | H36: =SUM(D36:G36) -> 16765
B37: h. | C37: 58 | H37: =SUM(D37:G37) -> 0
B38: i. | C38: 59 | H38: =SUM(D38:G38) -> 0
B39: j. | C39: 60 | H39: =SUM(D39:G39) -> 0
B40: k. | C40: 61
...

Sheet Oct21
A1: The public report burden for this information is estimated to average 5.4 hours | H1: Form Approved OMB No. 2125-0032
H2: STATE
A3: U.S. Department of | H3: Kansas
A4: Transportation | H4: YEAR
E5: MONTHLY MOTOR-FUEL CONSUMPTION | H5: 2021
H6: MONTH OF SALE
A7: Federal Highway | H7: October
A8: Administration | H8: UNITS (check one)
H9: Gallons X
H10: Liters
C11: LI | F11: PRIVATE AND COMMERCIAL
B12: ITEM | C12: NE | D12: GASOLINE | E12: GASOHOL | F12: HWY DIESEL | G12: HWY LPG | H12: TOTAL
C13: # | D13: -1 | E13: -2 | F13: -3 | G13: -4 | H13: -5
A14: 1. Gross | B14: a. Gross Volume Reported | C14: 1 | D14: =D15+D21+D22 -> 11678165 | E14: =E15+E21+E22 -> 99153143 | F14: =(F16-F17)/0.26 -> 40741212 | G14: =(G16-G17)/0.23 -> 625069.57 | H14: =SUM(D14:G14) -> 1.5219759e+08
B15: Net After Deduction | D15: 11081805 | E15: 99027158
B16: Special Fuel Tax Receipts ($) | F16: 10784276 | G16: 143766
B17: Special Fuel Tax Refunds ($) | F17: 191561 | G17: 0
A18: Volume | B18: b. IFTA | C18: 2 | F18: =F85 -> 0
A19: 2. Fully | B19: a. Losses - Flat % | C19: 21 | D19: 256538 | E19: 2310394 | H19: =SUM(D19:G19) -> 2566932
A20: Tax | B20: b. Losses - Actual | C20: 22 | D20: 0 | E20: 0 | H20: =SUM(D20:G20) -> 0
A21: Exempt | B21: c. Federal | C21: 23 | D21: 49279 | E21: 125985 | H21: =SUM(D21:G21) -> 175264
B22: d. Aviation | C22: 24 | D22: 547081 | E22: 0 | H22: =SUM(D22:G22) -> 547081
B23: e. Native American | C23: 25 | H23: =SUM(D23:G23) -> 0
B24: f. Assessments | C24: 26 | D24: -15523.958 | H24: =SUM(D24:G24) -> -15523.958
B25: g. | C25: 27 | H25: =SUM(D25:G25) -> 0
B26: h. | C26: 28 | H26: =SUM(D26:G26) -> 0
B27: i. | C27: 29 | H27: =SUM(D27:G27) -> 0
B28: j. Total (sum a. through e - f.) | C28: 30 | D28: =SUM(D19:D23)-D24 -> 868421.96 | E28: =SUM(E19:E23)-E24 -> 2436379 | F28: =SUM(F19:F23)-F24 -> 0 | G28: =SUM(G19:G23)-G24 -> 0 | H28: =SUM(H19:H23)-H24 -> 3304801
A29: 3. Gross Volume Taxed (1-2j) | C29: 40 | D29: =D14-D28 -> 10809743 | E29: =E14-E28 -> 96716764 | F29: =F14+F18-F28 -> 40741212 | G29: =G14-G28 -> 625069.57 | H29: =H14-H28 -> 1.4889279e+08
A30: 4. Fully | B30: a. Agriculture | C30: 51 | D30: 8562 | E30: 3555 | H30: =SUM(D30:G30) -> 12117
A31: Refunded | B31: b. Aviation | C31: 52 | H31: =SUM(D31:G31) -> 0
B32: c. Industrial/Commercial | C32: 53 | H32: =SUM(D32:G32) -> 0
B33: d. Construction | C33: 54 | H33: =SUM(D33:G33) -> 0
B34: e. Marine | C34: 55 | H34: =SUM(D34:G34) -> 0
B35: f. Municipal and Counties | C35: 56 | H35: =SUM(D35:G35) -> 0
B36: g. Other | C36: 57 | D36: 29368 | E36: 4479 | H36: =SUM(D36:G36) -> 33847
B37: h. | C37: 58 | H37: =SUM(D37:G37) -> 0
B38: i. | C38: 59 | H38: =SUM(D38:G38) -> 0
B39: j. | C39: 60 | H39: =SUM(D39:G39) -> 0
B40: k. | C40: 61
...

Sheet Nov21
A1: The public report burden for this information is estimated to average 5.4 hours | H1: Form Approved OMB No. 2125-0032
H2: STATE
A3: U.S. Department of | H3: Kansas
A4: Transportation | H4: YEAR
E5: MONTHLY MOTOR-FUEL CONSUMPTION | H5: 2021
H6: MONTH OF SALE
A7: Federal Highway | H7: November
A8: Administration | H8: UNITS (check one)
H9: Gallons X
H10: Liters
C11: LI | F11: PRIVATE AND COMMERCIAL
B12: ITEM | C12: NE | D12: GASOLINE | E12: GASOHOL | F12: HWY DIESEL | G12: HWY LPG | H12: TOTAL
C13: # | D13: -1 | E13: -2 | F13: -3 | G13: -4 | H13: -5
A14: 1. Gross | B14: a. Gross Volume Reported | C14: 1 | D14: =D15+D21+D22 -> 11231101 | E14: =E15+E21+E22 -> 96846711 | F14: =(F16-F17)/0.26 -> 33415492 | G14: =(G16-G17)/0.23 -> 162213.04 | H14: =SUM(D14:G14) -> 1.4165552e+08
B15: Net After Deduction | D15: 10666099 | E15: 96738382
B16: Special Fuel Tax Receipts ($) | F16: 9908799 | G16: 37309
B17: Special Fuel Tax Refunds ($) | F17: 1220771 | G17: 0
A18: Volume | B18: b. IFTA | C18: 2 | F18: =F85 -> 0
A19: 2. Fully | B19: a. Losses - Flat % | C19: 21 | D19: 256726 | E19: 2233100 | H19: =SUM(D19:G19) -> 2489826
A20: Tax | B20: b. Losses - Actual | C20: 22 | D20: 0 | E20: 0 | H20: =SUM(D20:G20) -> 0
A21: Exempt | B21: c. Federal | C21: 23 | D21: 55224 | E21: 108329 | H21: =SUM(D21:G21) -> 163553
B22: d. Aviation | C22: 24 | D22: 509778 | E22: 0 | H22: =SUM(D22:G22) -> 509778
B23: e. Native American | C23: 25 | H23: =SUM(D23:G23) -> 0
B24: f. Assessments | C24: 26 | D24: 15327.958 | H24: =SUM(D24:G24) -> 15327.958
B25: g. | C25: 27 | H25: =SUM(D25:G25) -> 0
B26: h. | C26: 28 | H26: =SUM(D26:G26) -> 0
B27: i. | C27: 29 | H27: =SUM(D27:G27) -> 0
B28: j. Total (sum a. through e - f.) | C28: 30 | D28: =SUM(D19:D23)-D24 -> 806400.04 | E28: =SUM(E19:E23)-E24 -> 2341429 | F28: =SUM(F19:F23)-F24 -> 0 | G28: =SUM(G19:G23)-G24 -> 0 | H28: =SUM(H19:H23)-H24 -> 3147829
A29: 3. Gross Volume Taxed (1-2j) | C29: 40 | D29: =D14-D28 -> 10424701 | E29: =E14-E28 -> 94505282 | F29: =F14+F18-F28 -> 33415492 | G29: =G14-G28 -> 162213.04 | H29: =H14-H28 -> 1.3850769e+08
A30: 4. Fully | B30: a. Agriculture | C30: 51 | D30: 18770 | E30: 8532 | H30: =SUM(D30:G30) -> 27302
A31: Refunded | B31: b. Aviation | C31: 52 | H31: =SUM(D31:G31) -> 0
B32: c. Industrial/Commercial | C32: 53 | H32: =SUM(D32:G32) -> 0
B33: d. Construction | C33: 54 | H33: =SUM(D33:G33) -> 0
B34: e. Marine | C34: 55 | H34: =SUM(D34:G34) -> 0
B35: f. Municipal and Counties | C35: 56 | H35: =SUM(D35:G35) -> 0
B36: g. Other | C36: 57 | D36: 15332 | E36: 21810 | H36: =SUM(D36:G36) -> 37142
B37: h. | C37: 58 | H37: =SUM(D37:G37) -> 0
B38: i. | C38: 59 | H38: =SUM(D38:G38) -> 0
B39: j. | C39: 60 | H39: =SUM(D39:G39) -> 0
B40: k. | C40: 61
...

Sheet Dec21
A1: The public report burden for this information is estimated to average 5.4 hours | H1: Form Approved OMB No. 2125-0032
H2: STATE
A3: U.S. Department of | H3: Kansas
A4: Transportation | H4: YEAR
E5: MONTHLY MOTOR-FUEL CONSUMPTION | H5: 2021
H6: MONTH OF SALE
A7: Federal Highway | H7: December
A8: Administration | H8: UNITS (check one)
H9: Gallons X
H10: Liters
C11: LI | F11: PRIVATE AND COMMERCIAL
B12: ITEM | C12: NE | D12: GASOLINE | E12: GASOHOL | F12: HWY DIESEL | G12: HWY LPG | H12: TOTAL
C13: # | D13: -1 | E13: -2 | F13: -3 | G13: -4 | H13: -5
A14: 1. Gross | B14: a. Gross Volume Reported | C14: 1 | D14: =D15+D21+D22 -> 12216140 | E14: =E15+E21+E22 -> 101721589 | F14: =(F16-F17)/0.26 -> 45097850 | G14: =(G16-G17)/0.23 -> 2501708.7 | H14: =SUM(D14:G14) -> 1.6153729e+08
B15: Net After Deduction | D15: 11615414 | E15: 101563961
B16: Special Fuel Tax Receipts ($) | F16: 12073158 | G16: 575393
B17: Special Fuel Tax Refunds ($) | F17: 347717 | G17: 0
A18: Volume | B18: b. IFTA | C18: 2 | F18: =F85 -> 10997350
A19: 2. Fully | B19: a. Losses - Flat % | C19: 21 | D19: 264228 | E19: 2349822 | H19: =SUM(D19:G19) -> 2614050
A20: Tax | B20: b. Losses - Actual | C20: 22 | D20: 4675 | E20: 0 | H20: =SUM(D20:G20) -> 4675
A21: Exempt | B21: c. Federal | C21: 23 | D21: 52267 | E21: 157628 | H21: =SUM(D21:G21) -> 209895
B22: d. Aviation | C22: 24 | D22: 548459 | E22: 0 | H22: =SUM(D22:G22) -> 548459
B23: e. Native American | C23: 25 | H23: =SUM(D23:G23) -> 0
B24: f. Assessments | C24: 26 | D24: 358410 | H24: =SUM(D24:G24) -> 358410
B25: g. | C25: 27 | H25: =SUM(D25:G25) -> 0
B26: h. | C26: 28 | H26: =SUM(D26:G26) -> 0
B27: i. | C27: 29 | H27: =SUM(D27:G27) -> 0
B28: j. Total (sum a. through e - f.) | C28: 30 | D28: =SUM(D19:D23)-D24 -> 511219 | E28: =SUM(E19:E23)-E24 -> 2507450 | F28: =SUM(F19:F23)-F24 -> 0 | G28: =SUM(G19:G23)-G24 -> 0 | H28: =SUM(H19:H23)-H24 -> 3018669
A29: 3. Gross Volume Taxed (1-2j) | C29: 40 | D29: =D14-D28 -> 11704921 | E29: =E14-E28 -> 99214139 | F29: =F14+F18-F28 -> 56095200 | G29: =G14-G28 -> 2501708.7 | H29: =H14-H28 -> 1.5851862e+08
A30: 4. Fully | B30: a. Agriculture | C30: 51 | D30: 35329 | E30: 21402 | H30: =SUM(D30:G30) -> 56731
A31: Refunded | B31: b. Aviation | C31: 52 | H31: =SUM(D31:G31) -> 0
B32: c. Industrial/Commercial | C32: 53 | H32: =SUM(D32:G32) -> 0
B33: d. Construction | C33: 54 | H33: =SUM(D33:G33) -> 0
B34: e. Marine | C34: 55 | H34: =SUM(D34:G34) -> 0
B35: f. Municipal and Counties | C35: 56 | H35: =SUM(D35:G35) -> 0
B36: g. Other | C36: 57 | D36: 12349 | E36: 11237 | H36: =SUM(D36:G36) -> 23586
B37: h. | C37: 58 | H37: =SUM(D37:G37) -> 0
B38: i. | C38: 59 | H38: =SUM(D38:G38) -> 0
B39: j. | C39: 60 | H39: =SUM(D39:G39) -> 0
B40: k. | C40: 61
...

Sheet 551m2021
A1: The public report burden for this information is estimated to average 5.4 hours | H1: Form Approved OMB No. 2125-0032
H2: STATE
A3: U.S. Department of | H3: Kansas
A4: Transportation | H4: YEAR
E5: MONTHLY MOTOR-FUEL CONSUMPTION | H5: 2019
H6: MONTH OF SALE
A7: Federal Highway | H7: December
A8: Administration | H8: UNITS (check one)
H9: Gallons X
H10: Liters
C11: LI | F11: PRIVATE AND COMMERCIAL
B12: ITEM | C12: NE | D12: GASOLINE | E12: GASOHOL | F12: HWY DIESEL | G12: HWY LPG | H12: TOTAL
C13: # | D13: -1 | E13: -2 | F13: -3 | G13: -4 | H13: -5
A14: 1. Gross | B14: a. Gross Volume Reported | C14: 1 | D14: ='Jan21'!D14+'Feb21'!D14+'Mar21'!D14+'Apr21'!D14+'May21'!D14+June21!D14+'Jul21'!D14+'Aug21'!D14+'Sep21'!D14+'Oct21'!D14+'Nov21'!D14+'Dec21'!D14 -> 137295501 | E14: ='Jan21'!E14+'Feb21'!E14+'Mar21'!E14+'Apr21'!E14+'May21'!E14+June21!E14+'Jul21'!E14+'Aug21'!E14+'Sep21'!E14+'Oct21'!E14+'Nov21'!E14+'Dec21'!E14 -> 1170912181 | F14: ='Jan21'!F14+'Feb21'!F14+'Mar21'!F14+'Apr21'!F14+'May21'!F14+June21!F14+'Jul21'!F14+'Aug21'!F14+'Sep21'!F14+'Oct21'!F14+'Nov21'!F14+'Dec21'!F14 -> 4.8671903e+08 | G14: ='Jan21'!G14+'Feb21'!G14+'Mar21'!G14+'Apr21'!G14+'May21'!G14+June21!G14+'Jul21'!G14+'Aug21'!G14+'Sep21'!G14+'Oct21'!G14+'Nov21'!G14+'Dec21'!G14 -> 16049261 | H14: ='Jan21'!H14+'Feb21'!H14+'Mar21'!H14+'Apr21'!H14+'May21'!H14+June21!H14+'Jul21'!H14+'Aug21'!H14+'Sep21'!H14+'Oct21'!H14+'Nov21'!H14+'Dec21'!H14 -> 1.810976e+09
B15: Net After Deduction | D15: ='Jan21'!D15+'Feb21'!D15+'Mar21'!D15+'Apr21'!D15+'May21'!D15+June21!D15+'Jul21'!D15+'Aug21'!D15+'Sep21'!D15+'Oct21'!D15+'Nov21'!D15+'Dec21'!D15 -> 129871645 | E15: ='Jan21'!E15+'Feb21'!E15+'Mar21'!E15+'Apr21'!E15+'May21'!E15+June21!E15+'Jul21'!E15+'Aug21'!E15+'Sep21'!E15+'Oct21'!E15+'Nov21'!E15+'Dec21'!E15 -> 1169528334 | F15: ='Jan21'!F15+'Feb21'!F15+'Mar21'!F15+'Apr21'!F15+'May21'!F15+June21!F15+'Jul21'!F15+'Aug21'!F15+'Sep21'!F15+'Oct21'!F15+'Nov21'!F15+'Dec21'!F15 -> 0 | G15: ='Jan21'!G15+'Feb21'!G15+'Mar21'!G15+'Apr21'!G15+'May21'!G15+June21!G15+'Jul21'!G15+'Aug21'!G15+'Sep21'!G15+'Oct21'!G15+'Nov21'!G15+'Dec21'!G15 -> 0 | H15: ='Jan21'!H15+'Feb21'!H15+'Mar21'!H15+'Apr21'!H15+'May21'!H15+June21!H15+'Jul21'!H15+'Aug21'!H15+'Sep21'!H15+'Oct21'!H15+'Nov21'!H15+'Dec21'!H15 -> 0
B16: Special Fuel Tax Receipts ($) | D16: ='Jan21'!D16+'Feb21'!D16+'Mar21'!D16+'Apr21'!D16+'May21'!D16+June21!D16+'Jul21'!D16+'Aug21'!D16+'Sep21'!D16+'Oct21'!D16+'Nov21'!D16+'Dec21'!D16 -> 0 | E16: ='Jan21'!E16+'Feb21'!E16+'Mar21'!E16+'Apr21'!E16+'May21'!E16+June21!E16+'Jul21'!E16+'Aug21'!E16+'Sep21'!E16+'Oct21'!E16+'Nov21'!E16+'Dec21'!E16 -> 0 | F16: ='Jan21'!F16+'Feb21'!F16+'Mar21'!F16+'Apr21'!F16+'May21'!F16+June21!F16+'Jul21'!F16+'Aug21'!F16+'Sep21'!F16+'Oct21'!F16+'Nov21'!F16+'Dec21'!F16 -> 130273673 | G16: ='Jan21'!G16+'Feb21'!G16+'Mar21'!G16+'Apr21'!G16+'May21'!G16+June21!G16+'Jul21'!G16+'Aug21'!G16+'Sep21'!G16+'Oct21'!G16+'Nov21'!G16+'Dec21'!G16 -> 3691420 | H16: ='Jan21'!H16+'Feb21'!H16+'Mar21'!H16+'Apr21'!H16+'May21'!H16+June21!H16+'Jul21'!H16+'Aug21'!H16+'Sep21'!H16+'Oct21'!H16+'Nov21'!H16+'Dec21'!H16 -> 0
B17: Special Fuel Tax Refunds ($) | D17: ='Jan21'!D17+'Feb21'!D17+'Mar21'!D17+'Apr21'!D17+'May21'!D17+June21!D17+'Jul21'!D17+'Aug21'!D17+'Sep21'!D17+'Oct21'!D17+'Nov21'!D17+'Dec21'!D17 -> 0 | E17: ='Jan21'!E17+'Feb21'!E17+'Mar21'!E17+'Apr21'!E17+'May21'!E17+June21!E17+'Jul21'!E17+'Aug21'!E17+'Sep21'!E17+'Oct21'!E17+'Nov21'!E17+'Dec21'!E17 -> 0 | F17: ='Jan21'!F17+'Feb21'!F17+'Mar21'!F17+'Apr21'!F17+'May21'!F17+June21!F17+'Jul21'!F17+'Aug21'!F17+'Sep21'!F17+'Oct21'!F17+'Nov21'!F17+'Dec21'!F17 -> 3726724 | G17: ='Jan21'!G17+'Feb21'!G17+'Mar21'!G17+'Apr21'!G17+'May21'!G17+June21!G17+'Jul21'!G17+'Aug21'!G17+'Sep21'!G17+'Oct21'!G17+'Nov21'!G17+'Dec21'!G17 -> 90 | H17: ='Jan21'!H17+'Feb21'!H17+'Mar21'!H17+'Apr21'!H17+'May21'!H17+June21!H17+'Jul21'!H17+'Aug21'!H17+'Sep21'!H17+'Oct21'!H17+'Nov21'!H17+'Dec21'!H17 -> 0
A18: Volume | B18: b. IFTA | C18: 2 | D18: ='Jan21'!D18+'Feb21'!D18+'Mar21'!D18+'Apr21'!D18+'May21'!D18+June21!D18+'Jul21'!D18+'Aug21'!D18+'Sep21'!D18+'Oct21'!D18+'Nov21'!D18+'Dec21'!D18 -> 0 | E18: ='Jan21'!E18+'Feb21'!E18+'Mar21'!E18+'Apr21'!E18+'May21'!E18+June21!E18+'Jul21'!E18+'Aug21'!E18+'Sep21'!E18+'Oct21'!E18+'Nov21'!E18+'Dec21'!E18 -> 0 | F18: ='Jan21'!F18+'Feb21'!F18+'Mar21'!F18+'Apr21'!F18+'May21'!F18+June21!F18+'Jul21'!F18+'Aug21'!F18+'Sep21'!F18+'Oct21'!F18+'Nov21'!F18+'Dec21'!F18 -> 77328654 | G18: ='Jan21'!G18+'Feb21'!G18+'Mar21'!G18+'Apr21'!G18+'May21'!G18+June21!G18+'Jul21'!G18+'Aug21'!G18+'Sep21'!G18+'Oct21'!G18+'Nov21'!G18+'Dec21'!G18 -> 0 | H18: ='Jan21'!H18+'Feb21'!H18+'Mar21'!H18+'Apr21'!H18+'May21'!H18+June21!H18+'Jul21'!H18+'Aug21'!H18+'Sep21'!H18+'Oct21'!H18+'Nov21'!H18+'Dec21'!H18 -> 0
A19: 2. Fully | B19: a. Losses - Flat % | C19: 21 | D19: ='Jan21'!D19+'Feb21'!D19+'Mar21'!D19+'Apr21'!D19+'May21'!D19+June21!D19+'Jul21'!D19+'Aug21'!D19+'Sep21'!D19+'Oct21'!D19+'Nov21'!D19+'Dec21'!D19 -> 3033488 | E19: ='Jan21'!E19+'Feb21'!E19+'Mar21'!E19+'Apr21'!E19+'May21'!E19+June21!E19+'Jul21'!E19+'Aug21'!E19+'Sep21'!E19+'Oct21'!E19+'Nov21'!E19+'Dec21'!E19 -> 27214727 | F19: ='Jan21'!F19+'Feb21'!F19+'Mar21'!F19+'Apr21'!F19+'May21'!F19+June21!F19+'Jul21'!F19+'Aug21'!F19+'Sep21'!F19+'Oct21'!F19+'Nov21'!F19+'Dec21'!F19 -> 0 | G19: ='Jan21'!G19+'Feb21'!G19+'Mar21'!G19+'Apr21'!G19+'May21'!G19+June21!G19+'Jul21'!G19+'Aug21'!G19+'Sep21'!G19+'Oct21'!G19+'Nov21'!G19+'Dec21'!G19 -> 0 | H19: ='Jan21'!H19+'Feb21'!H19+'Mar21'!H19+'Apr21'!H19+'May21'!H19+June21!H19+'Jul21'!H19+'Aug21'!H19+'Sep21'!H19+'Oct21'!H19+'Nov21'!H19+'Dec21'!H19 -> 30248215
A20: Tax | B20: b. Losses - Actual | C20: 22 | D20: ='Jan21'!D20+'Feb21'!D20+'Mar21'!D20+'Apr21'!D20+'May21'!D20+June21!D20+'Jul21'!D20+'Aug21'!D20+'Sep21'!D20+'Oct21'!D20+'Nov21'!D20+'Dec21'!D20 -> 4675 | E20: ='Jan21'!E20+'Feb21'!E20+'Mar21'!E20+'Apr21'!E20+'May21'!E20+June21!E20+'Jul21'!E20+'Aug21'!E20+'Sep21'!E20+'Oct21'!E20+'Nov21'!E20+'Dec21'!E20 -> 0 | F20: ='Jan21'!F20+'Feb21'!F20+'Mar21'!F20+'Apr21'!F20+'May21'!F20+June21!F20+'Jul21'!F20+'Aug21'!F20+'Sep21'!F20+'Oct21'!F20+'Nov21'!F20+'Dec21'!F20 -> 0 | G20: ='Jan21'!G20+'Feb21'!G20+'Mar21'!G20+'Apr21'!G20+'May21'!G20+June21!G20+'Jul21'!G20+'Aug21'!G20+'Sep21'!G20+'Oct21'!G20+'Nov21'!G20+'Dec21'!G20 -> 0 | H20: ='Jan21'!H20+'Feb21'!H20+'Mar21'!H20+'Apr21'!H20+'May21'!H20+June21!H20+'Jul21'!H20+'Aug21'!H20+'Sep21'!H20+'Oct21'!H20+'Nov21'!H20+'Dec21'!H20 -> 4675
A21: Exempt | B21: c. Federal | C21: 23 | D21: ='Jan21'!D21+'Feb21'!D21+'Mar21'!D21+'Apr21'!D21+'May21'!#REF!+June21!D21+'Jul21'!D21+'Aug21'!D21+'Sep21'!D21+'Oct21'!D21+'Nov21'!D21+'Dec21'!D21 -> #REF! | E21: ='Jan21'!E21+'Feb21'!E21+'Mar21'!E21+'Apr21'!E21+'May21'!E21+June21!E21+'Jul21'!E21+'Aug21'!E21+'Sep21'!E21+'Oct21'!E21+'Nov21'!E21+'Dec21'!E21 -> 1383847 | F21: ='Jan21'!F21+'Feb21'!F21+'Mar21'!F21+'Apr21'!F21+'May21'!F21+June21!F21+'Jul21'!F21+'Aug21'!F21+'Sep21'!F21+'Oct21'!F21+'Nov21'!F21+'Dec21'!F21 -> 0 | G21: ='Jan21'!G21+'Feb21'!G21+'Mar21'!G21+'Apr21'!G21+'May21'!G21+June21!G21+'Jul21'!G21+'Aug21'!G21+'Sep21'!G21+'Oct21'!G21+'Nov21'!G21+'Dec21'!G21 -> 0 | H21: ='Jan21'!H21+'Feb21'!H21+'Mar21'!H21+'Apr21'!H21+'May21'!H21+June21!H21+'Jul21'!H21+'Aug21'!H21+'Sep21'!H21+'Oct21'!H21+'Nov21'!H21+'Dec21'!H21 -> 2089492
B22: d. Aviation | C22: 24 | D22: ='Jan21'!D22+'Feb21'!D22+'Mar21'!D22+'Apr21'!D22+'May21'!#REF!+June21!D22+'Jul21'!D22+'Aug21'!D22+'Sep21'!D22+'Oct21'!D22+'Nov21'!D22+'Dec21'!D22 -> #REF! | E22: ='Jan21'!E22+'Feb21'!E22+'Mar21'!E22+'Apr21'!E22+'May21'!E22+June21!E22+'Jul21'!E22+'Aug21'!E22+'Sep21'!E22+'Oct21'!E22+'Nov21'!E22+'Dec21'!E22 -> 0 | F22: ='Jan21'!F22+'Feb21'!F22+'Mar21'!F22+'Apr21'!F22+'May21'!F22+June21!F22+'Jul21'!F22+'Aug21'!F22+'Sep21'!F22+'Oct21'!F22+'Nov21'!F22+'Dec21'!F22 -> 0 | G22: ='Jan21'!G22+'Feb21'!G22+'Mar21'!G22+'Apr21'!G22+'May21'!G22+June21!G22+'Jul21'!G22+'Aug21'!G22+'Sep21'!G22+'Oct21'!G22+'Nov21'!G22+'Dec21'!G22 -> 0 | H22: ='Jan21'!H22+'Feb21'!H22+'Mar21'!H22+'Apr21'!H22+'May21'!H22+June21!H22+'Jul21'!H22+'Aug21'!H22+'Sep21'!H22+'Oct21'!H22+'Nov21'!H22+'Dec21'!H22 -> 6718211
B23: e. Native American | C23: 25 | D23: ='Jan21'!D23+'Feb21'!D23+'Mar21'!D23+'Apr21'!D23+'May21'!D23+June21!D23+'Jul21'!D23+'Aug21'!D23+'Sep21'!D23+'Oct21'!D23+'Nov21'!D23+'Dec21'!D23 -> 0 | E23: ='Jan21'!E23+'Feb21'!E23+'Mar21'!E23+'Apr21'!E23+'May21'!E23+June21!E23+'Jul21'!E23+'Aug21'!E23+'Sep21'!E23+'Oct21'!E23+'Nov21'!E23+'Dec21'!E23 -> 0 | F23: ='Jan21'!F23+'Feb21'!F23+'Mar21'!F23+'Apr21'!F23+'May21'!F23+June21!F23+'Jul21'!F23+'Aug21'!F23+'Sep21'!F23+'Oct21'!F23+'Nov21'!F23+'Dec21'!F23 -> 0 | G23: ='Jan21'!G23+'Feb21'!G23+'Mar21'!G23+'Apr21'!G23+'May21'!G23+June21!G23+'Jul21'!G23+'Aug21'!G23+'Sep21'!G23+'Oct21'!G23+'Nov21'!G23+'Dec21'!G23 -> 0 | H23: ='Jan21'!H23+'Feb21'!H23+'Mar21'!H23+'Apr21'!H23+'May21'!H23+June21!H23+'Jul21'!H23+'Aug21'!H23+'Sep21'!H23+'Oct21'!H23+'Nov21'!H23+'Dec21'!H23 -> 0
B24: f. Assessments | C24: 26 | D24: ='Jan21'!D24+'Feb21'!D24+'Mar21'!D24+'Apr21'!D24+'May21'!D24+June21!D24+'Jul21'!D24+'Aug21'!D24+'Sep21'!D24+'Oct21'!D24+'Nov21'!D24+'Dec21'!D24 -> 594517.75 | E24: ='Jan21'!E24+'Feb21'!E24+'Mar21'!E24+'Apr21'!E24+'May21'!E24+June21!E24+'Jul21'!E24+'Aug21'!E24+'Sep21'!E24+'Oct21'!E24+'Nov21'!E24+'Dec21'!E24 -> 0 | F24: ='Jan21'!F24+'Feb21'!F24+'Mar21'!F24+'Apr21'!F24+'May21'!F24+June21!F24+'Jul21'!F24+'Aug21'!F24+'Sep21'!F24+'Oct21'!F24+'Nov21'!F24+'Dec21'!F24 -> 0 | G24: ='Jan21'!G24+'Feb21'!G24+'Mar21'!G24+'Apr21'!G24+'May21'!G24+June21!G24+'Jul21'!G24+'Aug21'!G24+'Sep21'!G24+'Oct21'!G24+'Nov21'!G24+'Dec21'!G24 -> 0 | H24: ='Jan21'!H24+'Feb21'!H24+'Mar21'!H24+'Apr21'!H24+'May21'!H24+June21!H24+'Jul21'!H24+'Aug21'!H24+'Sep21'!H24+'Oct21'!H24+'Nov21'!H24+'Dec21'!H24 -> 594517.75
B25: g. | C25: 27
B26: h. | C26: 28
B27: i. | C27: 29
B28: j. Total (sum a. through e - f.) | C28: 30 | D28: ='Jan21'!D28+'Feb21'!D28+'Mar21'!D28+'Apr21'!D28+'May21'!D28+June21!D28+'Jul21'!D28+'Aug21'!D28+'Sep21'!D28+'Oct21'!D28+'Nov21'!D28+'Dec21'!D28 -> 11608380 | E28: ='Jan21'!E28+'Feb21'!E28+'Mar21'!E28+'Apr21'!E28+'May21'!E28+June21!E28+'Jul21'!E28+'Aug21'!E28+'Sep21'!E28+'Oct21'!E28+'Nov21'!E28+'Dec21'!E28 -> 28598574 | F28: ='Jan21'!F28+'Feb21'!F28+'Mar21'!F28+'Apr21'!F28+'May21'!F28+June21!F28+'Jul21'!F28+'Aug21'!F28+'Sep21'!F28+'Oct21'!F28+'Nov21'!F28+'Dec21'!F28 -> 0 | G28: ='Jan21'!G28+'Feb21'!G28+'Mar21'!G28+'Apr21'!G28+'May21'!G28+June21!G28+'Jul21'!G28+'Aug21'!G28+'Sep21'!G28+'Oct21'!G28+'Nov21'!G28+'Dec21'!G28 -> 0 | H28: ='Jan21'!H28+'Feb21'!H28+'Mar21'!H28+'Apr21'!H28+'May21'!H28+June21!H28+'Jul21'!H28+'Aug21'!H28+'Sep21'!H28+'Oct21'!H28+'Nov21'!H28+'Dec21'!H28 -> 38466075
A29: 3. Gross Volume Taxed (1-2j) | C29: 40 | D29: ='Jan21'!D29+'Feb21'!D29+'Mar21'!D29+'Apr21'!D29+'May21'!D29+June21!D29+'Jul21'!D29+'Aug21'!D29+'Sep21'!D29+'Oct21'!D29+'Nov21'!D29+'Dec21'!D29 -> 1.2568712e+08 | E29: ='Jan21'!E29+'Feb21'!E29+'Mar21'!E29+'Apr21'!E29+'May21'!E29+June21!E29+'Jul21'!E29+'Aug21'!E29+'Sep21'!E29+'Oct21'!E29+'Nov21'!E29+'Dec21'!E29 -> 1142313607 | F29: ='Jan21'!F29+'Feb21'!F29+'Mar21'!F29+'Apr21'!F29+'May21'!F29+June21!F29+'Jul21'!F29+'Aug21'!F29+'Sep21'!F29+'Oct21'!F29+'Nov21'!F29+'Dec21'!F29 -> 5.6404769e+08 | G29: ='Jan21'!G29+'Feb21'!G29+'Mar21'!G29+'Apr21'!G29+'May21'!G29+June21!G29+'Jul21'!G29+'Aug21'!G29+'Sep21'!G29+'Oct21'!G29+'Nov21'!G29+'Dec21'!G29 -> 16049261 | H29: ='Jan21'!H29+'Feb21'!H29+'Mar21'!H29+'Apr21'!H29+'May21'!H29+June21!H29+'Jul21'!H29+'Aug21'!H29+'Sep21'!H29+'Oct21'!H29+'Nov21'!H29+'Dec21'!H29 -> 1.7725099e+09
A30: 4. Fully | B30: a. Agriculture | C30: 51 | D30: ='Jan21'!D30+'Feb21'!D30+'Mar21'!D30+'Apr21'!D30+'May21'!D30+June21!D30+'Jul21'!D30+'Aug21'!D30+'Sep21'!D30+'Oct21'!D30+'Nov21'!D30+'Dec21'!D30 -> 121334 | E30: ='Jan21'!E30+'Feb21'!E30+'Mar21'!E30+'Apr21'!E30+'May21'!E30+June21!E30+'Jul21'!E30+'Aug21'!E30+'Sep21'!E30+'Oct21'!E30+'Nov21'!E30+'Dec21'!E30 -> 94251 | F30: ='Jan21'!F30+'Feb21'!F30+'Mar21'!F30+'Apr21'!F30+'May21'!F30+June21!F30+'Jul21'!F30+'Aug21'!F30+'Sep21'!F30+'Oct21'!F30+'Nov21'!F30+'Dec21'!F30 -> 0 | G30: ='Jan21'!G30+'Feb21'!G30+'Mar21'!G30+'Apr21'!G30+'May21'!G30+June21!G30+'Jul21'!G30+'Aug21'!G30+'Sep21'!G30+'Oct21'!G30+'Nov21'!G30+'Dec21'!G30 -> 0 | H30: ='Jan21'!H30+'Feb21'!H30+'Mar21'!H30+'Apr21'!H30+'May21'!H30+June21!H30+'Jul21'!H30+'Aug21'!H30+'Sep21'!H30+'Oct21'!H30+'Nov21'!H30+'Dec21'!H30 -> 215585
A31: Refunded | B31: b. Aviation | C31: 52 | D31: ='Jan21'!D31+'Feb21'!D31+'Mar21'!D31+'Apr21'!D31+'May21'!D22+June21!D31+'Jul21'!D31+'Aug21'!D31+'Sep21'!D31+'Oct21'!D31+'Nov21'!D31+'Dec21'!D31 -> #VALUE! | E31: ='Jan21'!E31+'Feb21'!E31+'Mar21'!E31+'Apr21'!E31+'May21'!E31+June21!E31+'Jul21'!E31+'Aug21'!E31+'Sep21'!E31+'Oct21'!E31+'Nov21'!E31+'Dec21'!E31 -> 0 | F31: ='Jan21'!F31+'Feb21'!F31+'Mar21'!F31+'Apr21'!F31+'May21'!F31+June21!F31+'Jul21'!F31+'Aug21'!F31+'Sep21'!F31+'Oct21'!F31+'Nov21'!F31+'Dec21'!F31 -> 0 | G31: ='Jan21'!G31+'Feb21'!G31+'Mar21'!G31+'Apr21'!G31+'May21'!G31+June21!G31+'Jul21'!G31+'Aug21'!G31+'Sep21'!G31+'Oct21'!G31+'Nov21'!G31+'Dec21'!G31 -> 0 | H31: ='Jan21'!H31+'Feb21'!H31+'Mar21'!H31+'Apr21'!H31+'May21'!H31+June21!H31+'Jul21'!H31+'Aug21'!H31+'Sep21'!H31+'Oct21'!H31+'Nov21'!H31+'Dec21'!H31 -> 0
B32: c. Industrial/Commercial | C32: 53 | D32: ='Jan21'!D32+'Feb21'!D32+'Mar21'!D32+'Apr21'!D32+'May21'!D32+June21!D32+'Jul21'!D32+'Aug21'!D32+'Sep21'!D32+'Oct21'!D32+'Nov21'!D32+'Dec21'!D32 -> #VALUE! | E32: ='Jan21'!E32+'Feb21'!E32+'Mar21'!E32+'Apr21'!E32+'May21'!E32+June21!E32+'Jul21'!E32+'Aug21'!E32+'Sep21'!E32+'Oct21'!E32+'Nov21'!E32+'Dec21'!E32 -> 0 | F32: ='Jan21'!F32+'Feb21'!F32+'Mar21'!F32+'Apr21'!F32+'May21'!F32+June21!F32+'Jul21'!F32+'Aug21'!F32+'Sep21'!F32+'Oct21'!F32+'Nov21'!F32+'Dec21'!F32 -> 0 | G32: ='Jan21'!G32+'Feb21'!G32+'Mar21'!G32+'Apr21'!G32+'May21'!G32+June21!G32+'Jul21'!G32+'Aug21'!G32+'Sep21'!G32+'Oct21'!G32+'Nov21'!G32+'Dec21'!G32 -> 0 | H32: ='Jan21'!H32+'Feb21'!H32+'Mar21'!H32+'Apr21'!H32+'May21'!H32+June21!H32+'Jul21'!H32+'Aug21'!H32+'Sep21'!H32+'Oct21'!H32+'Nov21'!H32+'Dec21'!H32 -> 0
B33: d. Construction | C33: 54 | D33: ='Jan21'!D33+'Feb21'!D33+'Mar21'!D33+'Apr21'!D33+'May21'!D33+June21!D33+'Jul21'!D33+'Aug21'!D33+'Sep21'!D33+'Oct21'!D33+'Nov21'!D33+'Dec21'!D33 -> #VALUE! | E33: ='Jan21'!E33+'Feb21'!E33+'Mar21'!E33+'Apr21'!E33+'May21'!E33+June21!E33+'Jul21'!E33+'Aug21'!E33+'Sep21'!E33+'Oct21'!E33+'Nov21'!E33+'Dec21'!E33 -> 0 | F33: ='Jan21'!F33+'Feb21'!F33+'Mar21'!F33+'Apr21'!F33+'May21'!F33+June21!F33+'Jul21'!F33+'Aug21'!F33+'Sep21'!F33+'Oct21'!F33+'Nov21'!F33+'Dec21'!F33 -> 0 | G33: ='Jan21'!G33+'Feb21'!G33+'Mar21'!G33+'Apr21'!G33+'May21'!G33+June21!G33+'Jul21'!G33+'Aug21'!G33+'Sep21'!G33+'Oct21'!G33+'Nov21'!G33+'Dec21'!G33 -> 0 | H33: ='Jan21'!H33+'Feb21'!H33+'Mar21'!H33+'Apr21'!H33+'May21'!H33+June21!H33+'Jul21'!H33+'Aug21'!H33+'Sep21'!H33+'Oct21'!H33+'Nov21'!H33+'Dec21'!H33 -> 0
B34: e. Marine | C34: 55 | D34: ='Jan21'!D34+'Feb21'!D34+'Mar21'!D34+'Apr21'!D34+'May21'!D34+June21!D34+'Jul21'!D34+'Aug21'!D34+'Sep21'!D34+'Oct21'!D34+'Nov21'!D34+'Dec21'!D34 -> #VALUE! | E34: ='Jan21'!E34+'Feb21'!E34+'Mar21'!E34+'Apr21'!E34+'May21'!E34+June21!E34+'Jul21'!E34+'Aug21'!E34+'Sep21'!E34+'Oct21'!E34+'Nov21'!E34+'Dec21'!E34 -> 0 | F34: ='Jan21'!F34+'Feb21'!F34+'Mar21'!F34+'Apr21'!F34+'May21'!F34+June21!F34+'Jul21'!F34+'Aug21'!F34+'Sep21'!F34+'Oct21'!F34+'Nov21'!F34+'Dec21'!F34 -> 0 | G34: ='Jan21'!G34+'Feb21'!G34+'Mar21'!G34+'Apr21'!G34+'May21'!G34+June21!G34+'Jul21'!G34+'Aug21'!G34+'Sep21'!G34+'Oct21'!G34+'Nov21'!G34+'Dec21'!G34 -> 0 | H34: ='Jan21'!H34+'Feb21'!H34+'Mar21'!H34+'Apr21'!H34+'May21'!H34+June21!H34+'Jul21'!H34+'Aug21'!H34+'Sep21'!H34+'Oct21'!H34+'Nov21'!H34+'Dec21'!H34 -> 0
B35: f. Municipal and Counties | C35: 56 | D35: ='Jan21'!D35+'Feb21'!D35+'Mar21'!D35+'Apr21'!D35+'May21'!D35+June21!D35+'Jul21'!D35+'Aug21'!D35+'Sep21'!D35+'Oct21'!D35+'Nov21'!D35+'Dec21'!D35 -> #VALUE! | E35: ='Jan21'!E35+'Feb21'!E35+'Mar21'!E35+'Apr21'!E35+'May21'!E35+June21!E35+'Jul21'!E35+'Aug21'!E35+'Sep21'!E35+'Oct21'!E35+'Nov21'!E35+'Dec21'!E35 -> 0 | F35: ='Jan21'!F35+'Feb21'!F35+'Mar21'!F35+'Apr21'!F35+'May21'!F35+June21!F35+'Jul21'!F35+'Aug21'!F35+'Sep21'!F35+'Oct21'!F35+'Nov21'!F35+'Dec21'!F35 -> 0 | G35: ='Jan21'!G35+'Feb21'!G35+'Mar21'!G35+'Apr21'!G35+'May21'!G35+June21!G35+'Jul21'!G35+'Aug21'!G35+'Sep21'!G35+'Oct21'!G35+'Nov21'!G35+'Dec21'!G35 -> 0 | H35: ='Jan21'!H35+'Feb21'!H35+'Mar21'!H35+'Apr21'!H35+'May21'!H35+June21!H35+'Jul21'!H35+'Aug21'!H35+'Sep21'!H35+'Oct21'!H35+'Nov21'!H35+'Dec21'!H35 -> 7609
B36: g. Other | C36: 57 | D36: ='Jan21'!D36+'Feb21'!D36+'Mar21'!D36+'Apr21'!D36+'May21'!D36+June21!D36+'Jul21'!D36+'Aug21'!D36+'Sep21'!D36+'Oct21'!D36+'Nov21'!D36+'Dec21'!D36 -> 209798 | E36: ='Jan21'!E36+'Feb21'!E36+'Mar21'!E36+'Apr21'!E36+'May21'!E36+June21!E36+'Jul21'!E36+'Aug21'!E36+'Sep21'!E36+'Oct21'!E36+'Nov21'!E36+'Dec21'!E36 -> 272226 | F36: ='Jan21'!F36+'Feb21'!F36+'Mar21'!F36+'Apr21'!F36+'May21'!F36+June21!F36+'Jul21'!F36+'Aug21'!F36+'Sep21'!F36+'Oct21'!F36+'Nov21'!F36+'Dec21'!F36 -> 0 | G36: ='Jan21'!G36+'Feb21'!G36+'Mar21'!G36+'Apr21'!G36+'May21'!G36+June21!G36+'Jul21'!G36+'Aug21'!G36+'Sep21'!G36+'Oct21'!G36+'Nov21'!G36+'Dec21'!G36 -> 0 | H36: ='Jan21'!H36+'Feb21'!H36+'Mar21'!H36+'Apr21'!H36+'May21'!H36+June21!H36+'Jul21'!H36+'Aug21'!H36+'Sep21'!H36+'Oct21'!H36+'Nov21'!H36+'Dec21'!H36 -> 482024
B37: h. | C37: 58
B38: i. | C38: 59
B39: j. | C39: 60
B40: k. | C40: 61
...
