Workbook

Sheet Jan20
A1: The public report burden for this information is estimated to average 5.4 hours | H1: Form Approved OMB No. 2125-0032
H2: STATE
A3: U.S. Department of | H3: Kansas
A4: Transportation | H4: YEAR
E5: MONTHLY MOTOR-FUEL CONSUMPTION | H5: 2020
H6: MONTH OF SALE
A7: Federal Highway | H7: January
A8: Administration | H8: UNITS (check one)
H9: Gallons X
H10: Liters
C11: LI | F11: PRIVATE AND COMMERCIAL
B12: ITEM | C12: NE | D12: GASOLINE | E12: GASOHOL | F12: HWY DIESEL | G12: HWY LPG | H12: TOTAL
C13: # | D13: -1 | E13: -2 | F13: -3 | G13: -4 | H13: -5
A14: 1. Gross | B14: a. Gross Volume Reported | C14: 1 | D14: =D15+D21+D22 -> 13480524 | E14: =E15+E21+E22 -> 94674072 | F14: =(F16-F17)/0.26 -> 34753758 | G14: =(G16-G17)/0.23 -> 1067952.2 | H14: =SUM(D14:G14) -> 1.4397631e+08
B15: Net After Deduction | D15: 13048924 | E15: 94584003
B16: Special Fuel Tax Receipts | F16: 9240107 | G16: 245629
B17: Special Fuel Tax Refunds | F17: 204130 | G17: 0
A18: Volume | B18: b. IFTA | C18: 2 | F18: =F85 -> 0
A19: 2. Fully | B19: a. Losses - Flat % | C19: 21 | D19: 312113 | E19: 2220565 | H19: =SUM(D19:G19) -> 2532678
A20: Tax | B20: b. Losses - Actual | C20: 22 | D20: 0 | E20: 0 | H20: =SUM(D20:G20) -> 0
A21: Exempt | B21: c. Federal | C21: 23 | D21: 61239 | E21: 90069 | H21: =SUM(D21:G21) -> 151308
B22: d. Aviation | C22: 24 | D22: 370361 | E22: 0 | H22: =SUM(D22:G22) -> 370361
B23: e. Native American | C23: 25 | D23: 0 | H23: =SUM(D23:G23) -> 0
B24: f. Assessments | C24: 26 | D24: -124944 | H24: =SUM(D24:G24) -> -124944
B25: g. | C25: 27 | H25: =SUM(D25:G25) -> 0
B26: h. | C26: 28 | H26: =SUM(D26:G26) -> 0
B27: i. | C27: 29 | H27: =SUM(D27:G27) -> 0
B28: j. Total (sum a. through e - f.) | C28: 30 | D28: =SUM(D19:D23)-D24 -> 868657 | E28: =SUM(E19:E23)-E24 -> 2310634 | F28: =SUM(F19:F23)-F24 -> 0 | G28: =SUM(G19:G23)-G24 -> 0 | H28: =SUM(H19:H23)-H24 -> 3179291
A29: 3. Gross Volume Taxed (1-2j) | C29: 40 | D29: =D14-D28 -> 12611867 | E29: =E14-E28 -> 92363438 | F29: =F14+F18-F28 -> 34753758 | G29: =G14-G28 -> 1067952.2 | H29: =H14-H28 -> 1.4079701e+08
A30: 4. Fully | B30: a. Agriculture | C30: 51 | D30: 18576 | E30: 12196 | H30: =SUM(D30:G30) -> 30772
A31: Refunded | B31: b. Aviation | C31: 52 | H31: =SUM(D31:G31) -> 0
B32: c. Industrial/Commercial | C32: 53 | H32: =SUM(D32:G32) -> 0
B33: d. Construction | C33: 54 | H33: =SUM(D33:G33) -> 0
B34: e. Marine | C34: 55 | H34: =SUM(D34:G34) -> 0
B35: f. Municipal and Counties | C35: 56 | H35: =SUM(D35:G35) -> 0
B36: g. Other | C36: 57 | D36: 40050 | E36: 19127 | H36: =SUM(D36:G36) -> 59177
B37: h. | C37: 58 | H37: =SUM(D37:G37) -> 0
B38: i. | C38: 59 | H38: =SUM(D38:G38) -> 0
B39: j. | C39: 60 | H39: =SUM(D39:G39) -> 0
B40: k. | C40: 61
...

Sheet Feb20
A1: The public report burden for this information is estimated to average 5.4 hours | H1: Form Approved OMB No. 2125-0032
H2: STATE
A3: U.S. Department of | H3: Kansas
A4: Transportation | H4: YEAR
E5: MONTHLY MOTOR-FUEL CONSUMPTION | H5: 2020
H6: MONTH OF SALE
A7: Federal Highway | H7: February
A8: Administration | H8: UNITS (check one)
H9: Gallons X
H10: Liters
C11: LI | F11: PRIVATE AND COMMERCIAL
B12: ITEM | C12: NE | D12: GASOLINE | E12: GASOHOL | F12: HWY DIESEL | G12: HWY LPG | H12: TOTAL
C13: # | D13: -1 | E13: -2 | F13: -3 | G13: -4 | H13: -5
A14: 1. Gross | B14: a. Gross Volume Reported | C14: 1 | D14: =D15+D21+D22 -> 12441593 | E14: =E15+E21+E22 -> 92729096 | F14: =(F16-F17)/0.26 -> 39346565 | G14: =(G16-G17)/0.23 -> 374504.35 | H14: =SUM(D14:G14) -> 1.4489176e+08
B15: Net After Deduction | D15: 12026502 | E15: 92626598
B16: Special Fuel Tax Receipts | F16: 10438875 | G16: 86136
B17: Special Fuel Tax Refunds | F17: 208768 | G17: 0
A18: Volume | B18: b. IFTA | C18: 2 | F18: =F85 -> 0
A19: 2. Fully | B19: a. Losses - Flat % | C19: 21 | D19: 285965 | E19: 2169316 | H19: =SUM(D19:G19) -> 2455281
A20: Tax | B20: b. Losses - Actual | C20: 22 | D20: 0 | E20: 0 | H20: =SUM(D20:G20) -> 0
A21: Exempt | B21: c. Federal | C21: 23 | D21: 58145 | E21: 102498 | H21: =SUM(D21:G21) -> 160643
B22: d. Aviation | C22: 24 | D22: 356946 | E22: 0 | H22: =SUM(D22:G22) -> 356946
B23: e. Native American | C23: 25 | D23: 0 | H23: =SUM(D23:G23) -> 0
B24: f. Assessments | C24: 26 | D24: 1486 | H24: =SUM(D24:G24) -> 1486
B25: g. | C25: 27 | H25: =SUM(D25:G25) -> 0
B26: h. | C26: 28 | H26: =SUM(D26:G26) -> 0
B27: i. | C27: 29 | H27: =SUM(D27:G27) -> 0
B28: j. Total (sum a. through e - f.) | C28: 30 | D28: =SUM(D19:D23)-D24 -> 699570 | E28: =SUM(E19:E23)-E24 -> 2271814 | F28: =SUM(F19:F23)-F24 -> 0 | G28: =SUM(G19:G23)-G24 -> 0 | H28: =SUM(H19:H23)-H24 -> 2971384
A29: 3. Gross Volume Taxed (1-2j) | C29: 40 | D29: =D14-D28 -> 11742023 | E29: =E14-E28 -> 90457282 | F29: =F14+F18-F28 -> 39346565 | G29: =G14-G28 -> 374504.35 | H29: =H14-H28 -> 1.4192037e+08
A30: 4. Fully | B30: a. Agriculture | C30: 51 | D30: 18386 | E30: 18126 | H30: =SUM(D30:G30) -> 36512
A31: Refunded | B31: b. Aviation | C31: 52 | H31: =SUM(D31:G31) -> 0
B32: c. Industrial/Commercial | C32: 53 | H32: =SUM(D32:G32) -> 0
B33: d. Construction | C33: 54 | H33: =SUM(D33:G33) -> 0
B34: e. Marine | C34: 55 | H34: =SUM(D34:G34) -> 0
B35: f. Municipal and Counties | C35: 56 | H35: =SUM(D35:G35) -> 0
B36: g. Other | C36: 57 | D36: 15581 | E36: 490 | H36: =SUM(D36:G36) -> 16071
B37: h. | C37: 58 | H37: =SUM(D37:G37) -> 0
B38: i. | C38: 59 | H38: =SUM(D38:G38) -> 0
B39: j. | C39: 60 | H39: =SUM(D39:G39) -> 0
B40: k. | C40: 61
...

Sheet Mar20
A1: The public report burden for this information is estimated to average 5.4 hours | H1: Form Approved OMB No. 2125-0032
H2: STATE
A3: U.S. Department of | H3: Kansas
A4: Transportation | H4: YEAR
E5: MONTHLY MOTOR-FUEL CONSUMPTION | H5: 2020
H6: MONTH OF SALE
A7: Federal Highway | H7: March
A8: Administration | H8: UNITS (check one)
H9: Gallons X
H10: Liters
C11: LI | F11: PRIVATE AND COMMERCIAL
B12: ITEM | C12: NE | D12: GASOLINE | E12: GASOHOL | F12: HWY DIESEL | G12: HWY LPG | H12: TOTAL
C13: # | D13: -1 | E13: -2 | F13: -3 | G13: -4 | H13: -5
A14: 1. Gross | B14: a. Gross Volume Reported | C14: 1 | D14: =D15+D21+D22 -> 12745732 | E14: =E15+E21+E22 -> 89032199 | F14: =(F16-F17)/0.26 -> 40229242 | G14: =(G16-G17)/0.23 -> 715643.48 | H14: =SUM(D14:G14) -> 1.4272282e+08
B15: Net After Deduction | D15: 12216232 | E15: 88938958
B16: Special Fuel Tax Receipts | F16: 10632194 | G16: 164598
B17: Special Fuel Tax Refunds | F17: 172591 | G17: 0
A18: Volume | B18: b. IFTA | C18: 2 | F18: =F85 -> 7665100
A19: 2. Fully | B19: a. Losses - Flat % | C19: 21 | D19: 292711 | E19: 2080445 | H19: =SUM(D19:G19) -> 2373156
A20: Tax | B20: b. Losses - Actual | C20: 22 | D20: 0 | E20: 0 | H20: =SUM(D20:G20) -> 0
A21: Exempt | B21: c. Federal | C21: 23 | D21: 63931 | E21: 93241 | H21: =SUM(D21:G21) -> 157172
B22: d. Aviation | C22: 24 | D22: 465569 | E22: 0 | H22: =SUM(D22:G22) -> 465569
B23: e. Native American | C23: 25 | D23: 0 | H23: =SUM(D23:G23) -> 0
B24: f. Assessments | C24: 26 | D24: 2474 | H24: =SUM(D24:G24) -> 2474
B25: g. | C25: 27 | H25: =SUM(D25:G25) -> 0
B26: h. | C26: 28 | H26: =SUM(D26:G26) -> 0
B27: i. | C27: 29 | H27: =SUM(D27:G27) -> 0
B28: j. Total (sum a. through e - f.) | C28: 30 | D28: =SUM(D19:D23)-D24 -> 819737 | E28: =SUM(E19:E23)-E24 -> 2173686 | F28: =SUM(F19:F23)-F24 -> 0 | G28: =SUM(G19:G23)-G24 -> 0 | H28: =SUM(H19:H23)-H24 -> 2993423
A29: 3. Gross Volume Taxed (1-2j) | C29: 40 | D29: =D14-D28 -> 11925995 | E29: =E14-E28 -> 86858513 | F29: =F14+F18-F28 -> 47894342 | G29: =G14-G28 -> 715643.48 | H29: =H14-H28 -> 1.3972939e+08
A30: 4. Fully | B30: a. Agriculture | C30: 51 | D30: 27360 | E30: 5558 | H30: =SUM(D30:G30) -> 32918
A31: Refunded | B31: b. Aviation | C31: 52 | H31: =SUM(D31:G31) -> 0
B32: c. Industrial/Commercial | C32: 53 | H32: =SUM(D32:G32) -> 0
B33: d. Construction | C33: 54 | H33: =SUM(D33:G33) -> 0
B34: e. Marine | C34: 55 | H34: =SUM(D34:G34) -> 0
B35: f. Municipal and Counties | C35: 56 | H35: =SUM(D35:G35) -> 0
B36: g. Other | C36: 57 | D36: 9596 | H36: =SUM(D36:G36) -> 9596
B37: h. | C37: 58 | H37: =SUM(D37:G37) -> 0
B38: i. | C38: 59 | H38: =SUM(D38:G38) -> 0
B39: j. | C39: 60 | H39: =SUM(D39:G39) -> 0
B40: k. | C40: 61
...

Sheet Apr20
A1: The public report burden for this information is estimated to average 5.4 hours | H1: Form Approved OMB No. 2125-0032
H2: STATE
A3: U.S. Department of | H3: Kansas
A4: Transportation | H4: YEAR
E5: MONTHLY MOTOR-FUEL CONSUMPTION | H5: 2020
H6: MONTH OF SALE
A7: Federal Highway | H7: April
A8: Administration | H8: UNITS (check one)
H9: Gallons X
H10: Liters
C11: LI | F11: PRIVATE AND COMMERCIAL
B12: ITEM | C12: NE | D12: GASOLINE | E12: GASOHOL | F12: HWY DIESEL | G12: HWY LPG | H12: TOTAL
C13: # | D13: -1 | E13: -2 | F13: -3 | G13: -4 | H13: -5
A14: 1. Gross | B14: a. Gross Volume Reported | C14: 1 | D14: =D15+D21+D22 -> 10775984 | E14: =E15+E21+E22 -> 65012251 | F14: =(F16-F17)/0.26 -> 38889504 | G14: =(G16-G17)/0.23 -> 1024321.7 | H14: =SUM(D14:G14) -> 1.1570206e+08
B15: Net After Deduction | D15: 10273991 | E15: 64933217
B16: Special Fuel Tax Receipts ($) | F16: 10228713 | G16: 235594
B17: Special Fuel Tax Refunds ($) | F17: 117442 | G17: 0
A18: Volume | B18: b. IFTA | C18: 2 | F18: =F85 -> 0
A19: 2. Fully | B19: a. Losses - Flat % | C19: 21 | D19: 245165 | E19: 1508390 | H19: =SUM(D19:G19) -> 1753555
A20: Tax | B20: b. Losses - Actual | C20: 22 | D20: 0 | E20: 0 | H20: =SUM(D20:G20) -> 0
A21: Exempt | B21: c. Federal | C21: 23 | D21: 52129 | E21: 79034 | H21: =SUM(D21:G21) -> 131163
B22: d. Aviation | C22: 24 | D22: 449864 | E22: 0 | H22: =SUM(D22:G22) -> 449864
B23: e. Native American | C23: 25 | D23: 0 | H23: =SUM(D23:G23) -> 0
B24: f. Assessments | C24: 26 | D24: 103303 | H24: =SUM(D24:G24) -> 103303
B25: g. | C25: 27 | H25: =SUM(D25:G25) -> 0
B26: h. | C26: 28 | H26: =SUM(D26:G26) -> 0
B27: i. | C27: 29 | H27: =SUM(D27:G27) -> 0
B28: j. Total (sum a. through e - f.) | C28: 30 | D28: =SUM(D19:D23)-D24 -> 643855 | E28: =SUM(E19:E23)-E24 -> 1587424 | F28: =SUM(F19:F23)-F24 -> 0 | G28: =SUM(G19:G23)-G24 -> 0 | H28: =SUM(H19:H23)-H24 -> 2231279
A29: 3. Gross Volume Taxed (1-2j) | C29: 40 | D29: =D14-D28 -> 10132129 | E29: =E14-E28 -> 63424827 | F29: =F14+F18-F28 -> 38889504 | G29: =G14-G28 -> 1024321.7 | H29: =H14-H28 -> 1.1347078e+08
A30: 4. Fully | B30: a. Agriculture | C30: 51 | D30: 9555 | E30: 3455 | H30: =SUM(D30:G30) -> 13010
A31: Refunded | B31: b. Aviation | C31: 52 | H31: =SUM(D31:G31) -> 0
B32: c. Industrial/Commercial | C32: 53 | H32: =SUM(D32:G32) -> 0
B33: d. Construction | C33: 54 | H33: =SUM(D33:G33) -> 0
B34: e. Marine | C34: 55 | H34: =SUM(D34:G34) -> 0
B35: f. Municipal and Counties | C35: 56 | H35: =SUM(D35:G35) -> 0
B36: g. Other | C36: 57 | D36: 25262 | E36: 14489 | H36: =SUM(D36:G36) -> 39751
B37: h. | C37: 58 | H37: =SUM(D37:G37) -> 0
B38: i. | C38: 59 | H38: =SUM(D38:G38) -> 0
B39: j. | C39: 60 | H39: =SUM(D39:G39) -> 0
B40: k. | C40: 61
...

Sheet May20
A1: The public report burden for this information is estimated to average 5.4 hours | H1: Form Approved OMB No. 2125-0032
H2: STATE
A3: U.S. Department of | H3: Kansas
A4: Transportation | H4: YEAR
E5: MONTHLY MOTOR-FUEL CONSUMPTION | H5: 2020
H6: MONTH OF SALE
A7: Federal Highway | H7: May
A8: Administration | H8: UNITS (check one)
H9: Gallons X
H10: Liters
C11: LI | F11: PRIVATE AND COMMERCIAL
B12: ITEM | C12: NE | D12: GASOLINE | E12: GASOHOL | F12: HWY DIESEL | G12: HWY LPG | H12: TOTAL
C13: # | D13: -1 | E13: -2 | F13: -3 | G13: -4 | H13: -5
A14: 1. Gross | B14: a. Gross Volume Reported | C14: 1 | D14: =D15+D21+D22 -> 10966738 | E14: =E15+E21+E22 -> 84698569 | F14: =(F16-F17)/0.26 -> 41541281 | G14: =(G16-G17)/0.23 -> 686443.48 | H14: =SUM(D14:G14) -> 1.3789303e+08
B15: Net After Deduction | D15: 10422336 | E15: 84614673
B16: Special Fuel Tax Receipts ($) | F16: 10961313 | G16: 157882
B17: Special Fuel Tax Refunds ($) | F17: 160580 | G17: 0
A18: Volume | B18: b. IFTA | C18: 2 | F18: =F85 -> 0
A19: 2. Fully | B19: a. Losses - Flat % | C19: 21 | D19: 246000 | E19: 1948816 | H19: =SUM(D19:G19) -> 2194816
A20: Tax | B20: b. Losses - Actual | C20: 22 | D20: 0 | E20: 2633 | H20: =SUM(D20:G20) -> 2633
A21: Exempt | B21: c. Federal | C21: 23 | D21: 46787 | E21: 83896 | H21: =SUM(D21:G21) -> 130683
B22: d. Aviation | C22: 24 | D22: 497615 | E22: 0 | H22: =SUM(D22:G22) -> 497615
B23: e. Native American | C23: 25 | D23: 0 | H23: =SUM(D23:G23) -> 0
B24: f. Assessments | C24: 26 | D24: -144022 | H24: =SUM(D24:G24) -> -144022
B25: g. | C25: 27 | H25: =SUM(D25:G25) -> 0
B26: h. | C26: 28 | H26: =SUM(D26:G26) -> 0
B27: i. | C27: 29 | H27: =SUM(D27:G27) -> 0
B28: j. Total (sum a. through e - f.) | C28: 30 | D28: =SUM(D19:D23)-D24 -> 934424 | E28: =SUM(E19:E23)-E24 -> 2035345 | F28: =SUM(F19:F23)-F24 -> 0 | G28: =SUM(G19:G23)-G24 -> 0 | H28: =SUM(H19:H23)-H24 -> 2969769
A29: 3. Gross Volume Taxed (1-2j) | C29: 40 | D29: =D14-D28 -> 10032314 | E29: =E14-E28 -> 82663224 | F29: =F14+F18-F28 -> 41541281 | G29: =G14-G28 -> 686443.48 | H29: =H14-H28 -> 1.3492326e+08
A30: 4. Fully | B30: a. Agriculture | C30: 51 | D30: 9006 | E30: 11279 | H30: =SUM(D30:G30) -> 20285
A31: Refunded | B31: b. Aviation | C31: 52 | H31: =SUM(D31:G31) -> 0
B32: c. Industrial/Commercial | C32: 53 | H32: =SUM(D32:G32) -> 0
B33: d. Construction | C33: 54 | H33: =SUM(D33:G33) -> 0
B34: e. Marine | C34: 55 | H34: =SUM(D34:G34) -> 0
B35: f. Municipal and Counties | C35: 56 | H35: =SUM(D35:G35) -> 0
B36: g. Other | C36: 57 | D36: 62929 | E36: 1178 | H36: =SUM(D36:G36) -> 64107
B37: h. | C37: 58 | H37: =SUM(D37:G37) -> 0
B38: i. | C38: 59 | H38: =SUM(D38:G38) -> 0
B39: j. | C39: 60 | H39: =SUM(D39:G39) -> 0
B40: k. | C40: 61
...

Sheet June20
A1: The public report burden for this information is estimated to average 5.4 hours | H1: Form Approved OMB No. 2125-0032
H2: STATE
A3: U.S. Department of | H3: Kansas
A4: Transportation | H4: YEAR
E5: MONTHLY MOTOR-FUEL CONSUMPTION | H5: 2020
H6: MONTH OF SALE
A7: Federal Highway | H7: June
A8: Administration | H8: UNITS (check one)
H9: Gallons X
H10: Liters
C11: LI | F11: PRIVATE AND COMMERCIAL
B12: ITEM | C12: NE | D12: GASOLINE | E12: GASOHOL | F12: HWY DIESEL | G12: HWY LPG | H12: TOTAL
C13: # | D13: -1 | E13: -2 | F13: -3 | G13: -4 | H13: -5
A14: 1. Gross | B14: a. Gross Volume Reported | C14: 1 | D14: =D15+D21+D22 -> 12964185 | E14: =E15+E21+E22 -> 97656283 | F14: =(F16-F17)/0.26 -> 36145912 | G14: =(G16-G17)/0.23 -> 179060.87 | H14: =SUM(D14:G14) -> 1.4694544e+08
B15: Net After Deduction | D15: 12348564 | E15: 97563537
B16: Special Fuel Tax Receipts ($) | F16: 9497259 | G16: 41184
B17: Special Fuel Tax Refunds ($) | F17: 99322 | G17: 0
A18: Volume | B18: b. IFTA | C18: 2 | F18: =F85 -> 7395642.3
A19: 2. Fully | B19: a. Losses - Flat % | C19: 21 | D19: 292089 | E19: 2234326 | H19: =SUM(D19:G19) -> 2526415
A20: Tax | B20: b. Losses - Actual | C20: 22 | H20: =SUM(D20:G20) -> 0
A21: Exempt | B21: c. Federal | C21: 23 | D21: 49953 | E21: 92746 | H21: =SUM(D21:G21) -> 142699
B22: d. Aviation | C22: 24 | D22: 565668 | E22: 0 | H22: =SUM(D22:G22) -> 565668
B23: e. Native American | C23: 25 | H23: =SUM(D23:G23) -> 0
B24: f. Assessments | C24: 26 | D24: 5509 | H24: =SUM(D24:G24) -> 5509
B25: g. | C25: 27 | H25: =SUM(D25:G25) -> 0
B26: h. | C26: 28 | H26: =SUM(D26:G26) -> 0
B27: i. | C27: 29 | H27: =SUM(D27:G27) -> 0
B28: j. Total (sum a. through e - f.) | C28: 30 | D28: =SUM(D19:D23)-D24 -> 902201 | E28: =SUM(E19:E23)-E24 -> 2327072 | F28: =SUM(F19:F23)-F24 -> 0 | G28: =SUM(G19:G23)-G24 -> 0 | H28: =SUM(H19:H23)-H24 -> 3229273
A29: 3. Gross Volume Taxed (1-2j) | C29: 40 | D29: =D14-D28 -> 12061984 | E29: =E14-E28 -> 95329211 | F29: =F14+F18-F28 -> 43541554 | G29: =G14-G28 -> 179060.87 | H29: =H14-H28 -> 1.4371617e+08
A30: 4. Fully | B30: a. Agriculture | C30: 51 | D30: 10036 | E30: 3382 | H30: =SUM(D30:G30) -> 13418
A31: Refunded | B31: b. Aviation | C31: 52 | H31: =SUM(D31:G31) -> 0
B32: c. Industrial/Commercial | C32: 53 | H32: =SUM(D32:G32) -> 0
B33: d. Construction | C33: 54 | H33: =SUM(D33:G33) -> 0
B34: e. Marine | C34: 55 | H34: =SUM(D34:G34) -> 0
B35: f. Municipal and Counties | C35: 56 | H35: =SUM(D35:G35) -> 0
B36: g. Other | C36: 57 | D36: 16578 | E36: 4507 | H36: =SUM(D36:G36) -> 21085
B37: h. | C37: 58 | H37: =SUM(D37:G37) -> 0
B38: i. | C38: 59 | H38: =SUM(D38:G38) -> 0
B39: j. | C39: 60 | H39: =SUM(D39:G39) -> 0
B40: k. | C40: 61
...

Sheet Jul20
A1: The public report burden for this information is estimated to average 5.4 hours | H1: Form Approved OMB No. 2125-0032
H2: STATE
A3: U.S. Department of | H3: Kansas
A4: Transportation | H4: YEAR
E5: MONTHLY MOTOR-FUEL CONSUMPTION | H5: 2020
H6: MONTH OF SALE
A7: Federal Highway | H7: July
A8: Administration | H8: UNITS (check one)
H9: Gallons X
H10: Liters
C11: LI | F11: PRIVATE AND COMMERCIAL
B12: ITEM | C12: NE | D12: GASOLINE | E12: GASOHOL | F12: HWY DIESEL | G12: HWY LPG | H12: TOTAL
C13: # | D13: -1 | E13: -2 | F13: -3 | G13: -4 | H13: -5
A14: 1. Gross | B14: a. Gross Volume Reported | C14: 1 | D14: =D15+D21+D22 -> 13260315 | E14: =E15+E21+E22 -> 100244131 | F14: =(F16-F17)/0.26 -> 37746323 | G14: =(G16-G17)/0.23 -> 1134569.6 | H14: =SUM(D14:G14) -> 1.5238534e+08
B15: Net After Deduction | D15: 12488420 | E15: 100141076
B16: Special Fuel Tax Receipts ($) | F16: 10224013 | G16: 260951
B17: Special Fuel Tax Refunds ($) | F17: 409969 | G17: 0
A18: Volume | B18: b. IFTA | C18: 2 | F18: =F85 -> 0
A19: 2. Fully | B19: a. Losses - Flat % | C19: 21 | D19: 295418 | E19: 2308091 | H19: =SUM(D19:G19) -> 2603509
A20: Tax | B20: b. Losses - Actual | C20: 22 | D20: 0 | E20: 0 | H20: =SUM(D20:G20) -> 0
A21: Exempt | B21: c. Federal | C21: 23 | D21: 54137 | E21: 103055 | H21: =SUM(D21:G21) -> 157192
B22: d. Aviation | C22: 24 | D22: 717758 | E22: 0 | H22: =SUM(D22:G22) -> 717758
B23: e. Native American | C23: 25 | H23: =SUM(D23:G23) -> 0
B24: f. Assessments | C24: 26 | D24: -4502 | H24: =SUM(D24:G24) -> -4502
B25: g. | C25: 27 | H25: =SUM(D25:G25) -> 0
B26: h. | C26: 28 | H26: =SUM(D26:G26) -> 0
B27: i. | C27: 29 | H27: =SUM(D27:G27) -> 0
B28: j. Total (sum a. through e - f.) | C28: 30 | D28: =SUM(D19:D23)-D24 -> 1071815 | E28: =SUM(E19:E23)-E24 -> 2411146 | F28: =SUM(F19:F23)-F24 -> 0 | G28: =SUM(G19:G23)-G24 -> 0 | H28: =SUM(H19:H23)-H24 -> 3482961
A29: 3. Gross Volume Taxed (1-2j) | C29: 40 | D29: =D14-D28 -> 12188500 | E29: =E14-E28 -> 97832985 | F29: =F14+F18-F28 -> 37746323 | G29: =G14-G28 -> 1134569.6 | H29: =H14-H28 -> 1.4890238e+08
A30: 4. Fully | B30: a. Agriculture | C30: 51 | D30: 6209 | H30: =SUM(D30:G30) -> 6209
A31: Refunded | B31: b. Aviation | C31: 52 | H31: =SUM(D31:G31) -> 0
B32: c. Industrial/Commercial | C32: 53 | H32: =SUM(D32:G32) -> 0
B33: d. Construction | C33: 54 | H33: =SUM(D33:G33) -> 0
B34: e. Marine | C34: 55 | H34: =SUM(D34:G34) -> 0
B35: f. Municipal and Counties | C35: 56 | H35: =SUM(D35:G35) -> 0
B36: g. Other | C36: 57 | D36: 76510 | E36: 3310 | H36: =SUM(D36:G36) -> 79820
B37: h. | C37: 58 | H37: =SUM(D37:G37) -> 0
B38: i. | C38: 59 | H38: =SUM(D38:G38) -> 0
B39: j. | C39: 60 | H39: =SUM(D39:G39) -> 0
B40: k. | C40: 61
...

Sheet Aug20
A1: The public report burden for this information is estimated to average 5.4 hours | H1: Form Approved OMB No. 2125-0032
H2: STATE
A3: U.S. Department of | H3: Kansas
A4: Transportation | H4: YEAR
E5: MONTHLY MOTOR-FUEL CONSUMPTION | H5: 2020
H6: MONTH OF SALE
A7: Federal Highway | H7: August
A8: Administration | H8: UNITS (check one)
H9: Gallons X
H10: Liters
C11: LI | F11: PRIVATE AND COMMERCIAL
B12: ITEM | C12: NE | D12: GASOLINE | E12: GASOHOL | F12: HWY DIESEL | G12: HWY LPG | H12: TOTAL
C13: # | D13: -1 | E13: -2 | F13: -3 | G13: -4 | H13: -5
A14: 1. Gross | B14: a. Gross Volume Reported | C14: 1 | D14: =D15+D21+D22 -> 12742101 | E14: =E15+E21+E22 -> 99044802 | F14: =(F16-F17)/0.26 -> 44056123 | G14: =(G16-G17)/0.23 -> 141095.65 | H14: =SUM(D14:G14) -> 1.5598412e+08
B15: Net After Deduction | D15: 12089512 | E15: 98927607
B16: Special Fuel Tax Receipts ($) | F16: 11703472 | G16: 32452
B17: Special Fuel Tax Refunds ($) | F17: 248880 | G17: 0
A18: Volume | B18: b. IFTA | C18: 2 | F18: =F85 -> 0
A19: 2. Fully | B19: a. Losses - Flat % | C19: 21 | D19: 286522 | E19: 2278109 | H19: =SUM(D19:G19) -> 2564631
A20: Tax | B20: b. Losses - Actual | C20: 22 | H20: =SUM(D20:G20) -> 0
A21: Exempt | B21: c. Federal | C21: 23 | D21: 55449 | E21: 117195 | H21: =SUM(D21:G21) -> 172644
B22: d. Aviation | C22: 24 | D22: 597140 | E22: 0 | H22: =SUM(D22:G22) -> 597140
B23: e. Native American | C23: 25 | H23: =SUM(D23:G23) -> 0
B24: f. Assessments | C24: 26 | D24: 9169 | H24: =SUM(D24:G24) -> 9169
B25: g. | C25: 27 | H25: =SUM(D25:G25) -> 0
B26: h. | C26: 28 | H26: =SUM(D26:G26) -> 0
B27: i. | C27: 29 | H27: =SUM(D27:G27) -> 0
B28: j. Total (sum a. through e - f.) | C28: 30 | D28: =SUM(D19:D23)-D24 -> 929942 | E28: =SUM(E19:E23)-E24 -> 2395304 | F28: =SUM(F19:F23)-F24 -> 0 | G28: =SUM(G19:G23)-G24 -> 0 | H28: =SUM(H19:H23)-H24 -> 3325246
A29: 3. Gross Volume Taxed (1-2j) | C29: 40 | D29: =D14-D28 -> 11812159 | E29: =E14-E28 -> 96649498 | F29: =F14+F18-F28 -> 44056123 | G29: =G14-G28 -> 141095.65 | H29: =H14-H28 -> 1.5265888e+08
A30: 4. Fully | B30: a. Agriculture | C30: 51 | D30: 6209 | H30: =SUM(D30:G30) -> 6209
A31: Refunded | B31: b. Aviation | C31: 52 | H31: =SUM(D31:G31) -> 0
B32: c. Industrial/Commercial | C32: 53 | H32: =SUM(D32:G32) -> 0
B33: d. Construction | C33: 54 | H33: =SUM(D33:G33) -> 0
B34: e. Marine | C34: 55 | H34: =SUM(D34:G34) -> 0
B35: f. Municipal and Counties | C35: 56 | H35: =SUM(D35:G35) -> 0
B36: g. Other | C36: 57 | D36: 76510 | E36: 3310 | H36: =SUM(D36:G36) -> 79820
B37: h. | C37: 58 | H37: =SUM(D37:G37) -> 0
B38: i. | C38: 59 | H38: =SUM(D38:G38) -> 0
B39: j. | C39: 60 | H39: =SUM(D39:G39) -> 0
B40: k. | C40: 61
...

Sheet Sep20
A1: The public report burden for this information is estimated to average 5.4 hours | H1: Form Approved OMB No. 2125-0032
H2: STATE
A3: U.S. Department of | H3: Kansas
A4: Transportation | H4: YEAR
E5: MONTHLY MOTOR-FUEL CONSUMPTION | H5: 2020
H6: MONTH OF SALE
A7: Federal Highway | H7: September
A8: Administration | H8: UNITS (check one)
H9: Gallons X
H10: Liters
C11: LI | F11: PRIVATE AND COMMERCIAL
B12: ITEM | C12: NE | D12: GASOLINE | E12: GASOHOL | F12: HWY DIESEL | G12: HWY LPG | H12: TOTAL
C13: # | D13: -1 | E13: -2 | F13: -3 | G13: -4 | H13: -5
A14: 1. Gross | B14: a. Gross Volume Reported | C14: 1 | D14: =D15+D21+D22 -> 12141982 | E14: =E15+E21+E22 -> 94692511 | F14: =(F16-F17)/0.26 -> 35373177 | G14: =(G16-G17)/0.23 -> 684517.39 | H14: =SUM(D14:G14) -> 1.4289219e+08
B15: Net After Deduction | D15: 11408005 | E15: 94586919
B16: Special Fuel Tax Receipts ($) | F16: 9406984 | G16: 157439
B17: Special Fuel Tax Refunds ($) | F17: 209958 | G17: 0
A18: Volume | B18: b. IFTA | C18: 2 | F18: =F85 -> 8673153.8
A19: 2. Fully | B19: a. Losses - Flat % | C19: 21 | D19: 268870 | E19: 2180392 | H19: =SUM(D19:G19) -> 2449262
A20: Tax | B20: b. Losses - Actual | C20: 22 | E20: 0 | H20: =SUM(D20:G20) -> 0
A21: Exempt | B21: c. Federal | C21: 23 | D21: 52786 | E21: 105592 | H21: =SUM(D21:G21) -> 158378
B22: d. Aviation | C22: 24 | D22: 681191 | E22: 0 | H22: =SUM(D22:G22) -> 681191
B23: e. Native American | C23: 25 | H23: =SUM(D23:G23) -> 0
B24: f. Assessments | C24: 26 | D24: 2410 | H24: =SUM(D24:G24) -> 2410
B25: g. | C25: 27 | H25: =SUM(D25:G25) -> 0
B26: h. | C26: 28 | H26: =SUM(D26:G26) -> 0
B27: i. | C27: 29 | H27: =SUM(D27:G27) -> 0
B28: j. Total (sum a. through e - f.) | C28: 30 | D28: =SUM(D19:D23)-D24 -> 1000437 | E28: =SUM(E19:E23)-E24 -> 2285984 | F28: =SUM(F19:F23)-F24 -> 0 | G28: =SUM(G19:G23)-G24 -> 0 | H28: =SUM(H19:H23)-H24 -> 3286421
A29: 3. Gross Volume Taxed (1-2j) | C29: 40 | D29: =D14-D28 -> 11141545 | E29: =E14-E28 -> 92406527 | F29: =F14+F18-F28 -> 44046331 | G29: =G14-G28 -> 684517.39 | H29: =H14-H28 -> 1.3960577e+08
A30: 4. Fully | B30: a. Agriculture | C30: 51 | E30: 6606 | H30: =SUM(D30:G30) -> 6606
A31: Refunded | B31: b. Aviation | C31: 52 | H31: =SUM(D31:G31) -> 0
B32: c. Industrial/Commercial | C32: 53 | H32: =SUM(D32:G32) -> 0
B33: d. Construction | C33: 54 | H33: =SUM(D33:G33) -> 0
B34: e. Marine | C34: 55 | H34: =SUM(D34:G34) -> 0
B35: f. Municipal and Counties | C35: 56 | H35: =SUM(D35:G35) -> 0
B36: g. Other | C36: 57 | D36: 12578 | E36: 18410 | H36: =SUM(D36:G36) -> 30988
B37: h. | C37: 58 | H37: =SUM(D37:G37) -> 0
B38: i. | C38: 59 | H38: =SUM(D38:G38) -> 0
B39: j. | C39: 60 | H39: =SUM(D39:G39) -> 0
B40: k. | C40: 61
...

Sheet Oct20
A1: The public report burden for this information is estimated to average 5.4 hours | H1: Form Approved OMB No. 2125-0032
H2: STATE
A3: U.S. Department of | H3: Kansas
A4: Transportation | H4: YEAR
E5: MONTHLY MOTOR-FUEL CONSUMPTION | H5: 2020
H6: MONTH OF SALE
A7: Federal Highway | H7: October
A8: Administration | H8: UNITS (check one)
H9: Gallons X
H10: Liters
C11: LI | F11: PRIVATE AND COMMERCIAL
B12: ITEM | C12: NE | D12: GASOLINE | E12: GASOHOL | F12: HWY DIESEL | G12: HWY LPG | H12: TOTAL
C13: # | D13: -1 | E13: -2 | F13: -3 | G13: -4 | H13: -5
A14: 1. Gross | B14: a. Gross Volume Reported | C14: 1 | D14: =D15+D21+D22 -> 11765773 | E14: =E15+E21+E22 -> 98276753 | F14: =(F16-F17)/0.26 -> 43237354 | G14: =(G16-G17)/0.23 -> 1145460.9 | H14: =SUM(D14:G14) -> 1.5442534e+08
B15: Net After Deduction | D15: 11288473 | E15: 98169371
B16: Special Fuel Tax Receipts ($) | F16: 11479800 | G16: 263456
B17: Special Fuel Tax Refunds ($) | F17: 238088 | G17: 0
A18: Volume | B18: b. IFTA | C18: 2 | F18: =F85 -> 0
A19: 2. Fully | B19: a. Losses - Flat % | C19: 21 | D19: 266251 | E19: 2264365 | H19: =SUM(D19:G19) -> 2530616
A20: Tax | B20: b. Losses - Actual | C20: 22 | E20: 0 | H20: =SUM(D20:G20) -> 0
A21: Exempt | B21: c. Federal | C21: 23 | D21: 52908 | E21: 107382 | H21: =SUM(D21:G21) -> 160290
B22: d. Aviation | C22: 24 | D22: 424392 | E22: 0 | H22: =SUM(D22:G22) -> 424392
B23: e. Native American | C23: 25 | H23: =SUM(D23:G23) -> 0
B24: f. Assessments | C24: 26 | D24: -12786 | H24: =SUM(D24:G24) -> -12786
B25: g. | C25: 27 | H25: =SUM(D25:G25) -> 0
B26: h. | C26: 28 | H26: =SUM(D26:G26) -> 0
B27: i. | C27: 29 | H27: =SUM(D27:G27) -> 0
B28: j. Total (sum a. through e - f.) | C28: 30 | D28: =SUM(D19:D23)-D24 -> 756337 | E28: =SUM(E19:E23)-E24 -> 2371747 | F28: =SUM(F19:F23)-F24 -> 0 | G28: =SUM(G19:G23)-G24 -> 0 | H28: =SUM(H19:H23)-H24 -> 3128084
A29: 3. Gross Volume Taxed (1-2j) | C29: 40 | D29: =D14-D28 -> 11009436 | E29: =E14-E28 -> 95905006 | F29: =F14+F18-F28 -> 43237354 | G29: =G14-G28 -> 1145460.9 | H29: =H14-H28 -> 1.5129726e+08
A30: 4. Fully | B30: a. Agriculture | C30: 51 | D30: 15478 | E30: 9358 | H30: =SUM(D30:G30) -> 24836
A31: Refunded | B31: b. Aviation | C31: 52 | H31: =SUM(D31:G31) -> 0
B32: c. Industrial/Commercial | C32: 53 | H32: =SUM(D32:G32) -> 0
B33: d. Construction | C33: 54 | H33: =SUM(D33:G33) -> 0
B34: e. Marine | C34: 55 | H34: =SUM(D34:G34) -> 0
B35: f. Municipal and Counties | C35: 56 | H35: =SUM(D35:G35) -> 0
B36: g. Other | C36: 57 | D36: 7221 | E36: 12490 | H36: =SUM(D36:G36) -> 19711
B37: h. | C37: 58 | H37: =SUM(D37:G37) -> 0
B38: i. | C38: 59 | H38: =SUM(D38:G38) -> 0
B39: j. | C39: 60 | H39: =SUM(D39:G39) -> 0
B40: k. | C40: 61
...

Sheet Nov20
A1: The public report burden for this information is estimated to average 5.4 hours | H1: Form Approved OMB No. 2125-0032
H2: STATE
A3: U.S. Department of | H3: Kansas
A4: Transportation | H4: YEAR
E5: MONTHLY MOTOR-FUEL CONSUMPTION | H5: 2020
H6: MONTH OF SALE
A7: Federal Highway | H7: November
A8: Administration | H8: UNITS (check one)
H9: Gallons X
H10: Liters
C11: LI | F11: PRIVATE AND COMMERCIAL
B12: ITEM | C12: NE | D12: GASOLINE | E12: GASOHOL | F12: HWY DIESEL | G12: HWY LPG | H12: TOTAL
C13: # | D13: -1 | E13: -2 | F13: -3 | G13: -4 | H13: -5
A14: 1. Gross | B14: a. Gross Volume Reported | C14: 1 | D14: =D15+D21+D22 -> 10655194 | E14: =E15+E21+E22 -> 88718336 | F14: =(F16-F17)/0.26 -> 37855758 | G14: =(G16-G17)/0.23 -> 107430.43 | H14: =SUM(D14:G14) -> 1.3733672e+08
B15: Net After Deduction | D15: 10075251 | E15: 88603590
B16: Special Fuel Tax Receipts ($) | F16: 10121356 | G16: 24709
B17: Special Fuel Tax Refunds ($) | F17: 278859 | G17: 0
A18: Volume | B18: b. IFTA | C18: 2 | F18: =F85 -> 0
A19: 2. Fully | B19: a. Losses - Flat % | C19: 21 | D19: 237356 | E19: 2036505 | H19: =SUM(D19:G19) -> 2273861
A20: Tax | B20: b. Losses - Actual | C20: 22 | E20: 0 | H20: =SUM(D20:G20) -> 0
A21: Exempt | B21: c. Federal | C21: 23 | D21: 52912 | E21: 114746 | H21: =SUM(D21:G21) -> 167658
B22: d. Aviation | C22: 24 | D22: 527031 | E22: 0 | H22: =SUM(D22:G22) -> 527031
B23: e. Native American | C23: 25 | H23: =SUM(D23:G23) -> 0
B24: f. Assessments | C24: 26 | D24: 18081 | H24: =SUM(D24:G24) -> 18081
B25: g. | C25: 27 | H25: =SUM(D25:G25) -> 0
B26: h. | C26: 28 | H26: =SUM(D26:G26) -> 0
B27: i. | C27: 29 | H27: =SUM(D27:G27) -> 0
B28: j. Total (sum a. through e - f.) | C28: 30 | D28: =SUM(D19:D23)-D24 -> 799218 | E28: =SUM(E19:E23)-E24 -> 2151251 | F28: =SUM(F19:F23)-F24 -> 0 | G28: =SUM(G19:G23)-G24 -> 0 | H28: =SUM(H19:H23)-H24 -> 2950469
A29: 3. Gross Volume Taxed (1-2j) | C29: 40 | D29: =D14-D28 -> 9855976 | E29: =E14-E28 -> 86567085 | F29: =F14+F18-F28 -> 37855758 | G29: =G14-G28 -> 107430.43 | H29: =H14-H28 -> 1.3438625e+08
A30: 4. Fully | B30: a. Agriculture | C30: 51 | D30: 26937 | E30: 9393 | H30: =SUM(D30:G30) -> 36330
A31: Refunded | B31: b. Aviation | C31: 52 | H31: =SUM(D31:G31) -> 0
B32: c. Industrial/Commercial | C32: 53 | H32: =SUM(D32:G32) -> 0
B33: d. Construction | C33: 54 | H33: =SUM(D33:G33) -> 0
B34: e. Marine | C34: 55 | H34: =SUM(D34:G34) -> 0
B35: f. Municipal and Counties | C35: 56 | H35: =SUM(D35:G35) -> 0
B36: g. Other | C36: 57 | D36: 21035 | E36: 6498 | H36: =SUM(D36:G36) -> 27533
B37: h. | C37: 58 | H37: =SUM(D37:G37) -> 0
B38: i. | C38: 59 | H38: =SUM(D38:G38) -> 0
B39: j. | C39: 60 | H39: =SUM(D39:G39) -> 0
B40: k. | C40: 61
...

Sheet Dec20
A1: The public report burden for this information is estimated to average 5.4 hours | H1: Form Approved OMB No. 2125-0032
H2: STATE
A3: U.S. Department of | H3: Kansas
A4: Transportation | H4: YEAR
E5: MONTHLY MOTOR-FUEL CONSUMPTION | H5: 2020
H6: MONTH OF SALE
A7: Federal Highway | H7: December
A8: Administration | H8: UNITS (check one)
H9: Gallons X
H10: Liters
C11: LI | F11: PRIVATE AND COMMERCIAL
B12: ITEM | C12: NE | D12: GASOLINE | E12: GASOHOL | F12: HWY DIESEL | G12: HWY LPG | H12: TOTAL
C13: # | D13: -1 | E13: -2 | F13: -3 | G13: -4 | H13: -5
A14: 1. Gross | B14: a. Gross Volume Reported | C14: 1 | D14: =D15+D21+D22 -> 11413345 | E14: =E15+E21+E22 -> 93897984 | F14: =(F16-F17)/0.26 -> 47915150 | G14: =(G16-G17)/0.23 -> 2222434.8 | H14: =SUM(D14:G14) -> 1.5544891e+08
B15: Net After Deduction | D15: 10924271 | E15: 93789844
B16: Special Fuel Tax Receipts ($) | F16: 12539733 | G16: 511160
B17: Special Fuel Tax Refunds ($) | F17: 81794 | G17: 0
A18: Volume | B18: b. IFTA | C18: 2 | F18: =F85 -> 8511457.7
A19: 2. Fully | B19: a. Losses - Flat % | C19: 21 | D19: 256602 | E19: 2158948 | H19: =SUM(D19:G19) -> 2415550
A20: Tax | B20: b. Losses - Actual | C20: 22 | D20: 0 | E20: 0 | H20: =SUM(D20:G20) -> 0
A21: Exempt | B21: c. Federal | C21: 23 | D21: 55021 | E21: 108140 | H21: =SUM(D21:G21) -> 163161
B22: d. Aviation | C22: 24 | D22: 434053 | E22: 0 | H22: =SUM(D22:G22) -> 434053
B23: e. Native American | C23: 25 | H23: =SUM(D23:G23) -> 0
B24: f. Assessments | C24: 26 | D24: 14597 | H24: =SUM(D24:G24) -> 14597
B25: g. | C25: 27 | H25: =SUM(D25:G25) -> 0
B26: h. | C26: 28 | H26: =SUM(D26:G26) -> 0
B27: i. | C27: 29 | H27: =SUM(D27:G27) -> 0
B28: j. Total (sum a. through e - f.) | C28: 30 | D28: =SUM(D19:D23)-D24 -> 731079 | E28: =SUM(E19:E23)-E24 -> 2267088 | F28: =SUM(F19:F23)-F24 -> 0 | G28: =SUM(G19:G23)-G24 -> 0 | H28: =SUM(H19:H23)-H24 -> 2998167
A29: 3. Gross Volume Taxed (1-2j) | C29: 40 | D29: =D14-D28 -> 10682266 | E29: =E14-E28 -> 91630896 | F29: =F14+F18-F28 -> 56426608 | G29: =G14-G28 -> 2222434.8 | H29: =H14-H28 -> 1.5245075e+08
A30: 4. Fully | B30: a. Agriculture | C30: 51 | D30: 24188 | E30: 15407 | H30: =SUM(D30:G30) -> 39595
A31: Refunded | B31: b. Aviation | C31: 52 | H31: =SUM(D31:G31) -> 0
B32: c. Industrial/Commercial | C32: 53 | H32: =SUM(D32:G32) -> 0
B33: d. Construction | C33: 54 | H33: =SUM(D33:G33) -> 0
B34: e. Marine | C34: 55 | H34: =SUM(D34:G34) -> 0
B35: f. Municipal and Counties | C35: 56 | H35: =SUM(D35:G35) -> 0
B36: g. Other | C36: 57 | D36: 1656 | E36: 0 | H36: =SUM(D36:G36) -> 1656
B37: h. | C37: 58 | H37: =SUM(D37:G37) -> 0
B38: i. | C38: 59 | H38: =SUM(D38:G38) -> 0
B39: j. | C39: 60 | H39: =SUM(D39:G39) -> 0
B40: k. | C40: 61
...

Sheet 551m2020
A1: The public report burden for this information is estimated to average 5.4 hours | H1: Form Approved OMB No. 2125-0032
H2: STATE
A3: U.S. Department of | H3: Kansas
A4: Transportation | H4: YEAR
E5: MONTHLY MOTOR-FUEL CONSUMPTION | H5: 2019
H6: MONTH OF SALE
A7: Federal Highway | H7: December
A8: Administration | H8: UNITS (check one)
H9: Gallons X
H10: Liters
C11: LI | F11: PRIVATE AND COMMERCIAL
B12: ITEM | C12: NE | D12: GASOLINE | E12: GASOHOL | F12: HWY DIESEL | G12: HWY LPG | H12: TOTAL
C13: # | D13: -1 | E13: -2 | F13: -3 | G13: -4 | H13: -5
A14: 1. Gross | B14: a. Gross Volume Reported | C14: 1 | D14: ='Jan20'!D14+'Feb20'!D14+'Mar20'!D14+'Apr20'!D14+'May20'!D14+June20!D14+'Jul20'!D14+'Aug20'!D14+'Sep20'!D14+'Oct20'!D14+'Nov20'!D14+'Dec20'!D14 -> 145353466 | E14: ='Jan20'!E14+'Feb20'!E14+'Mar20'!E14+'Apr20'!E14+'May20'!E14+June20!E14+'Jul20'!E14+'Aug20'!E14+'Sep20'!E14+'Oct20'!E14+'Nov20'!E14+'Dec20'!E14 -> 1098676987 | F14: ='Jan20'!F14+'Feb20'!F14+'Mar20'!F14+'Apr20'!F14+'May20'!F14+June20!F14+'Jul20'!F14+'Aug20'!F14+'Sep20'!F14+'Oct20'!F14+'Nov20'!F14+'Dec20'!F14 -> 4.7709015e+08 | G14: ='Jan20'!G14+'Feb20'!G14+'Mar20'!G14+'Apr20'!G14+'May20'!G14+June20!G14+'Jul20'!G14+'Aug20'!G14+'Sep20'!G14+'Oct20'!G14+'Nov20'!G14+'Dec20'!G14 -> 9483434.8 | H14: ='Jan20'!H14+'Feb20'!H14+'Mar20'!H14+'Apr20'!H14+'May20'!H14+June20!H14+'Jul20'!H14+'Aug20'!H14+'Sep20'!H14+'Oct20'!H14+'Nov20'!H14+'Dec20'!H14 -> 1.730604e+09
B15: Net After Deduction | D15: ='Jan20'!D15+'Feb20'!D15+'Mar20'!D15+'Apr20'!D15+'May20'!D15+June20!D15+'Jul20'!D15+'Aug20'!D15+'Sep20'!D15+'Oct20'!D15+'Nov20'!D15+'Dec20'!D15 -> 138610481 | E15: ='Jan20'!E15+'Feb20'!E15+'Mar20'!E15+'Apr20'!E15+'May20'!E15+June20!E15+'Jul20'!E15+'Aug20'!E15+'Sep20'!E15+'Oct20'!E15+'Nov20'!E15+'Dec20'!E15 -> 1097479393 | F15: ='Jan20'!F15+'Feb20'!F15+'Mar20'!F15+'Apr20'!F15+'May20'!F15+June20!F15+'Jul20'!F15+'Aug20'!F15+'Sep20'!F15+'Oct20'!F15+'Nov20'!F15+'Dec20'!F15 -> 0 | G15: ='Jan20'!G15+'Feb20'!G15+'Mar20'!G15+'Apr20'!G15+'May20'!G15+June20!G15+'Jul20'!G15+'Aug20'!G15+'Sep20'!G15+'Oct20'!G15+'Nov20'!G15+'Dec20'!G15 -> 0 | H15: ='Jan20'!H15+'Feb20'!H15+'Mar20'!H15+'Apr20'!H15+'May20'!H15+June20!H15+'Jul20'!H15+'Aug20'!H15+'Sep20'!H15+'Oct20'!H15+'Nov20'!H15+'Dec20'!H15 -> 0
B16: Special Fuel Tax Receipts ($) | D16: ='Jan20'!D16+'Feb20'!D16+'Mar20'!D16+'Apr20'!D16+'May20'!D16+June20!D16+'Jul20'!D16+'Aug20'!D16+'Sep20'!D16+'Oct20'!D16+'Nov20'!D16+'Dec20'!D16 -> 0 | E16: ='Jan20'!E16+'Feb20'!E16+'Mar20'!E16+'Apr20'!E16+'May20'!E16+June20!E16+'Jul20'!E16+'Aug20'!E16+'Sep20'!E16+'Oct20'!E16+'Nov20'!E16+'Dec20'!E16 -> 0 | F16: ='Jan20'!F16+'Feb20'!F16+'Mar20'!F16+'Apr20'!F16+'May20'!F16+June20!F16+'Jul20'!F16+'Aug20'!F16+'Sep20'!F16+'Oct20'!F16+'Nov20'!F16+'Dec20'!F16 -> 126473819 | G16: ='Jan20'!G16+'Feb20'!G16+'Mar20'!G16+'Apr20'!G16+'May20'!G16+June20!G16+'Jul20'!G16+'Aug20'!G16+'Sep20'!G16+'Oct20'!G16+'Nov20'!G16+'Dec20'!G16 -> 2181190 | H16: ='Jan20'!H16+'Feb20'!H16+'Mar20'!H16+'Apr20'!H16+'May20'!H16+June20!H16+'Jul20'!H16+'Aug20'!H16+'Sep20'!H16+'Oct20'!H16+'Nov20'!H16+'Dec20'!H16 -> 0
B17: Special Fuel Tax Refunds ($) | D17: ='Jan20'!D17+'Feb20'!D17+'Mar20'!D17+'Apr20'!D17+'May20'!D17+June20!D17+'Jul20'!D17+'Aug20'!D17+'Sep20'!D17+'Oct20'!D17+'Nov20'!D17+'Dec20'!D17 -> 0 | E17: ='Jan20'!E17+'Feb20'!E17+'Mar20'!E17+'Apr20'!E17+'May20'!E17+June20!E17+'Jul20'!E17+'Aug20'!E17+'Sep20'!E17+'Oct20'!E17+'Nov20'!E17+'Dec20'!E17 -> 0 | F17: ='Jan20'!F17+'Feb20'!F17+'Mar20'!F17+'Apr20'!F17+'May20'!F17+June20!F17+'Jul20'!F17+'Aug20'!F17+'Sep20'!F17+'Oct20'!F17+'Nov20'!F17+'Dec20'!F17 -> 2430381 | G17: ='Jan20'!G17+'Feb20'!G17+'Mar20'!G17+'Apr20'!G17+'May20'!G17+June20!G17+'Jul20'!G17+'Aug20'!G17+'Sep20'!G17+'Oct20'!G17+'Nov20'!G17+'Dec20'!G17 -> 0 | H17: ='Jan20'!H17+'Feb20'!H17+'Mar20'!H17+'Apr20'!H17+'May20'!H17+June20!H17+'Jul20'!H17+'Aug20'!H17+'Sep20'!H17+'Oct20'!H17+'Nov20'!H17+'Dec20'!H17 -> 0
A18: Volume | B18: b. IFTA | C18: 2 | D18: ='Jan20'!D18+'Feb20'!D18+'Mar20'!D18+'Apr20'!D18+'May20'!D18+June20!D18+'Jul20'!D18+'Aug20'!D18+'Sep20'!D18+'Oct20'!D18+'Nov20'!D18+'Dec20'!D18 -> 0 | E18: ='Jan20'!E18+'Feb20'!E18+'Mar20'!E18+'Apr20'!E18+'May20'!E18+June20!E18+'Jul20'!E18+'Aug20'!E18+'Sep20'!E18+'Oct20'!E18+'Nov20'!E18+'Dec20'!E18 -> 0 | F18: ='Jan20'!F18+'Feb20'!F18+'Mar20'!F18+'Apr20'!F18+'May20'!F18+June20!F18+'Jul20'!F18+'Aug20'!F18+'Sep20'!F18+'Oct20'!F18+'Nov20'!F18+'Dec20'!F18 -> 32245354 | G18: ='Jan20'!G18+'Feb20'!G18+'Mar20'!G18+'Apr20'!G18+'May20'!G18+June20!G18+'Jul20'!G18+'Aug20'!G18+'Sep20'!G18+'Oct20'!G18+'Nov20'!G18+'Dec20'!G18 -> 0 | H18: ='Jan20'!H18+'Feb20'!H18+'Mar20'!H18+'Apr20'!H18+'May20'!H18+June20!H18+'Jul20'!H18+'Aug20'!H18+'Sep20'!H18+'Oct20'!H18+'Nov20'!H18+'Dec20'!H18 -> 0
A19: 2. Fully | B19: a. Losses - Flat % | C19: 21 | D19: ='Jan20'!D19+'Feb20'!D19+'Mar20'!D19+'Apr20'!D19+'May20'!D19+June20!D19+'Jul20'!D19+'Aug20'!D19+'Sep20'!D19+'Oct20'!D19+'Nov20'!D19+'Dec20'!D19 -> 3285062 | E19: ='Jan20'!E19+'Feb20'!E19+'Mar20'!E19+'Apr20'!E19+'May20'!E19+June20!E19+'Jul20'!E19+'Aug20'!E19+'Sep20'!E19+'Oct20'!E19+'Nov20'!E19+'Dec20'!E19 -> 25388268 | F19: ='Jan20'!F19+'Feb20'!F19+'Mar20'!F19+'Apr20'!F19+'May20'!F19+June20!F19+'Jul20'!F19+'Aug20'!F19+'Sep20'!F19+'Oct20'!F19+'Nov20'!F19+'Dec20'!F19 -> 0 | G19: ='Jan20'!G19+'Feb20'!G19+'Mar20'!G19+'Apr20'!G19+'May20'!G19+June20!G19+'Jul20'!G19+'Aug20'!G19+'Sep20'!G19+'Oct20'!G19+'Nov20'!G19+'Dec20'!G19 -> 0 | H19: ='Jan20'!H19+'Feb20'!H19+'Mar20'!H19+'Apr20'!H19+'May20'!H19+June20!H19+'Jul20'!H19+'Aug20'!H19+'Sep20'!H19+'Oct20'!H19+'Nov20'!H19+'Dec20'!H19 -> 28673330
A20: Tax | B20: b. Losses - Actual | C20: 22 | D20: ='Jan20'!D20+'Feb20'!D20+'Mar20'!D20+'Apr20'!D20+'May20'!D20+June20!D20+'Jul20'!D20+'Aug20'!D20+'Sep20'!D20+'Oct20'!D20+'Nov20'!D20+'Dec20'!D20 -> 0 | E20: ='Jan20'!E20+'Feb20'!E20+'Mar20'!E20+'Apr20'!E20+'May20'!E20+June20!E20+'Jul20'!E20+'Aug20'!E20+'Sep20'!E20+'Oct20'!E20+'Nov20'!E20+'Dec20'!E20 -> 2633 | F20: ='Jan20'!F20+'Feb20'!F20+'Mar20'!F20+'Apr20'!F20+'May20'!F20+June20!F20+'Jul20'!F20+'Aug20'!F20+'Sep20'!F20+'Oct20'!F20+'Nov20'!F20+'Dec20'!F20 -> 0 | G20: ='Jan20'!G20+'Feb20'!G20+'Mar20'!G20+'Apr20'!G20+'May20'!G20+June20!G20+'Jul20'!G20+'Aug20'!G20+'Sep20'!G20+'Oct20'!G20+'Nov20'!G20+'Dec20'!G20 -> 0 | H20: ='Jan20'!H20+'Feb20'!H20+'Mar20'!H20+'Apr20'!H20+'May20'!H20+June20!H20+'Jul20'!H20+'Aug20'!H20+'Sep20'!H20+'Oct20'!H20+'Nov20'!H20+'Dec20'!H20 -> 2633
A21: Exempt | B21: c. Federal | C21: 23 | D21: ='Jan20'!D21+'Feb20'!D21+'Mar20'!D21+'Apr20'!D21+'May20'!D21+June20!D21+'Jul20'!D21+'Aug20'!D21+'Sep20'!D21+'Oct20'!D21+'Nov20'!D21+'Dec20'!D21 -> 655397 | E21: ='Jan20'!E21+'Feb20'!E21+'Mar20'!E21+'Apr20'!E21+'May20'!E21+June20!E21+'Jul20'!E21+'Aug20'!E21+'Sep20'!E21+'Oct20'!E21+'Nov20'!E21+'Dec20'!E21 -> 1197594 | F21: ='Jan20'!F21+'Feb20'!F21+'Mar20'!F21+'Apr20'!F21+'May20'!F21+June20!F21+'Jul20'!F21+'Aug20'!F21+'Sep20'!F21+'Oct20'!F21+'Nov20'!F21+'Dec20'!F21 -> 0 | G21: ='Jan20'!G21+'Feb20'!G21+'Mar20'!G21+'Apr20'!G21+'May20'!G21+June20!G21+'Jul20'!G21+'Aug20'!G21+'Sep20'!G21+'Oct20'!G21+'Nov20'!G21+'Dec20'!G21 -> 0 | H21: ='Jan20'!H21+'Feb20'!H21+'Mar20'!H21+'Apr20'!H21+'May20'!H21+June20!H21+'Jul20'!H21+'Aug20'!H21+'Sep20'!H21+'Oct20'!H21+'Nov20'!H21+'Dec20'!H21 -> 1852991
B22: d. Aviation | C22: 24 | D22: ='Jan20'!D22+'Feb20'!D22+'Mar20'!D22+'Apr20'!D22+'May20'!D22+June20!D22+'Jul20'!D22+'Aug20'!D22+'Sep20'!D22+'Oct20'!D22+'Nov20'!D22+'Dec20'!D22 -> 6087588 | E22: ='Jan20'!E22+'Feb20'!E22+'Mar20'!E22+'Apr20'!E22+'May20'!E22+June20!E22+'Jul20'!E22+'Aug20'!E22+'Sep20'!E22+'Oct20'!E22+'Nov20'!E22+'Dec20'!E22 -> 0 | F22: ='Jan20'!F22+'Feb20'!F22+'Mar20'!F22+'Apr20'!F22+'May20'!F22+June20!F22+'Jul20'!F22+'Aug20'!F22+'Sep20'!F22+'Oct20'!F22+'Nov20'!F22+'Dec20'!F22 -> 0 | G22: ='Jan20'!G22+'Feb20'!G22+'Mar20'!G22+'Apr20'!G22+'May20'!G22+June20!G22+'Jul20'!G22+'Aug20'!G22+'Sep20'!G22+'Oct20'!G22+'Nov20'!G22+'Dec20'!G22 -> 0 | H22: ='Jan20'!H22+'Feb20'!H22+'Mar20'!H22+'Apr20'!H22+'May20'!H22+June20!H22+'Jul20'!H22+'Aug20'!H22+'Sep20'!H22+'Oct20'!H22+'Nov20'!H22+'Dec20'!H22 -> 6087588
B23: e. Native American | C23: 25 | D23: ='Jan20'!D23+'Feb20'!D23+'Mar20'!D23+'Apr20'!D23+'May20'!D23+June20!D23+'Jul20'!D23+'Aug20'!D23+'Sep20'!D23+'Oct20'!D23+'Nov20'!D23+'Dec20'!D23 -> 0 | E23: ='Jan20'!E23+'Feb20'!E23+'Mar20'!E23+'Apr20'!E23+'May20'!E23+June20!E23+'Jul20'!E23+'Aug20'!E23+'Sep20'!E23+'Oct20'!E23+'Nov20'!E23+'Dec20'!E23 -> 0 | F23: ='Jan20'!F23+'Feb20'!F23+'Mar20'!F23+'Apr20'!F23+'May20'!F23+June20!F23+'Jul20'!F23+'Aug20'!F23+'Sep20'!F23+'Oct20'!F23+'Nov20'!F23+'Dec20'!F23 -> 0 | G23: ='Jan20'!G23+'Feb20'!G23+'Mar20'!G23+'Apr20'!G23+'May20'!G23+June20!G23+'Jul20'!G23+'Aug20'!G23+'Sep20'!G23+'Oct20'!G23+'Nov20'!G23+'Dec20'!G23 -> 0 | H23: ='Jan20'!H23+'Feb20'!H23+'Mar20'!H23+'Apr20'!H23+'May20'!H23+June20!H23+'Jul20'!H23+'Aug20'!H23+'Sep20'!H23+'Oct20'!H23+'Nov20'!H23+'Dec20'!H23 -> 0
B24: f. Assessments | C24: 26 | D24: ='Jan20'!D24+'Feb20'!D24+'Mar20'!D24+'Apr20'!D24+'May20'!D24+June20!D24+'Jul20'!D24+'Aug20'!D24+'Sep20'!D24+'Oct20'!D24+'Nov20'!D24+'Dec20'!D24 -> -129225 | E24: ='Jan20'!E24+'Feb20'!E24+'Mar20'!E24+'Apr20'!E24+'May20'!E24+June20!E24+'Jul20'!E24+'Aug20'!E24+'Sep20'!E24+'Oct20'!E24+'Nov20'!E24+'Dec20'!E24 -> 0 | F24: ='Jan20'!F24+'Feb20'!F24+'Mar20'!F24+'Apr20'!F24+'May20'!F24+June20!F24+'Jul20'!F24+'Aug20'!F24+'Sep20'!F24+'Oct20'!F24+'Nov20'!F24+'Dec20'!F24 -> 0 | G24: ='Jan20'!G24+'Feb20'!G24+'Mar20'!G24+'Apr20'!G24+'May20'!G24+June20!G24+'Jul20'!G24+'Aug20'!G24+'Sep20'!G24+'Oct20'!G24+'Nov20'!G24+'Dec20'!G24 -> 0 | H24: ='Jan20'!H24+'Feb20'!H24+'Mar20'!H24+'Apr20'!H24+'May20'!H24+June20!H24+'Jul20'!H24+'Aug20'!H24+'Sep20'!H24+'Oct20'!H24+'Nov20'!H24+'Dec20'!H24 -> -129225
B25: g. | C25: 27
B26: h. | C26: 28
B27: i. | C27: 29
B28: j. Total (sum a. through e - f.) | C28: 30 | D28: ='Jan20'!D28+'Feb20'!D28+'Mar20'!D28+'Apr20'!D28+'May20'!D28+June20!D28+'Jul20'!D28+'Aug20'!D28+'Sep20'!D28+'Oct20'!D28+'Nov20'!D28+'Dec20'!D28 -> 10157272 | E28: ='Jan20'!E28+'Feb20'!E28+'Mar20'!E28+'Apr20'!E28+'May20'!E28+June20!E28+'Jul20'!E28+'Aug20'!E28+'Sep20'!E28+'Oct20'!E28+'Nov20'!E28+'Dec20'!E28 -> 26588495 | F28: ='Jan20'!F28+'Feb20'!F28+'Mar20'!F28+'Apr20'!F28+'May20'!F28+June20!F28+'Jul20'!F28+'Aug20'!F28+'Sep20'!F28+'Oct20'!F28+'Nov20'!F28+'Dec20'!F28 -> 0 | G28: ='Jan20'!G28+'Feb20'!G28+'Mar20'!G28+'Apr20'!G28+'May20'!G28+June20!G28+'Jul20'!G28+'Aug20'!G28+'Sep20'!G28+'Oct20'!G28+'Nov20'!G28+'Dec20'!G28 -> 0 | H28: ='Jan20'!H28+'Feb20'!H28+'Mar20'!H28+'Apr20'!H28+'May20'!H28+June20!H28+'Jul20'!H28+'Aug20'!H28+'Sep20'!H28+'Oct20'!H28+'Nov20'!H28+'Dec20'!H28 -> 36745767
A29: 3. Gross Volume Taxed (1-2j) | C29: 40 | D29: ='Jan20'!D29+'Feb20'!D29+'Mar20'!D29+'Apr20'!D29+'May20'!D29+June20!D29+'Jul20'!D29+'Aug20'!D29+'Sep20'!D29+'Oct20'!D29+'Nov20'!D29+'Dec20'!D29 -> 135196194 | E29: ='Jan20'!E29+'Feb20'!E29+'Mar20'!E29+'Apr20'!E29+'May20'!E29+June20!E29+'Jul20'!E29+'Aug20'!E29+'Sep20'!E29+'Oct20'!E29+'Nov20'!E29+'Dec20'!E29 -> 1072088492 | F29: ='Jan20'!F29+'Feb20'!F29+'Mar20'!F29+'Apr20'!F29+'May20'!F29+June20!F29+'Jul20'!F29+'Aug20'!F29+'Sep20'!F29+'Oct20'!F29+'Nov20'!F29+'Dec20'!F29 -> 5.093355e+08 | G29: ='Jan20'!G29+'Feb20'!G29+'Mar20'!G29+'Apr20'!G29+'May20'!G29+June20!G29+'Jul20'!G29+'Aug20'!G29+'Sep20'!G29+'Oct20'!G29+'Nov20'!G29+'Dec20'!G29 -> 9483434.8 | H29: ='Jan20'!H29+'Feb20'!H29+'Mar20'!H29+'Apr20'!H29+'May20'!H29+June20!H29+'Jul20'!H29+'Aug20'!H29+'Sep20'!H29+'Oct20'!H29+'Nov20'!H29+'Dec20'!H29 -> 1.6938583e+09
A30: 4. Fully | B30: a. Agriculture | C30: 51 | D30: ='Jan20'!D30+'Feb20'!D30+'Mar20'!D30+'Apr20'!D30+'May20'!D30+June20!D30+'Jul20'!D30+'Aug20'!D30+'Sep20'!D30+'Oct20'!D30+'Nov20'!D30+'Dec20'!D30 -> 171940 | E30: ='Jan20'!E30+'Feb20'!E30+'Mar20'!E30+'Apr20'!E30+'May20'!E30+June20!E30+'Jul20'!E30+'Aug20'!E30+'Sep20'!E30+'Oct20'!E30+'Nov20'!E30+'Dec20'!E30 -> 94760 | F30: ='Jan20'!F30+'Feb20'!F30+'Mar20'!F30+'Apr20'!F30+'May20'!F30+June20!F30+'Jul20'!F30+'Aug20'!F30+'Sep20'!F30+'Oct20'!F30+'Nov20'!F30+'Dec20'!F30 -> 0 | G30: ='Jan20'!G30+'Feb20'!G30+'Mar20'!G30+'Apr20'!G30+'May20'!G30+June20!G30+'Jul20'!G30+'Aug20'!G30+'Sep20'!G30+'Oct20'!G30+'Nov20'!G30+'Dec20'!G30 -> 0 | H30: ='Jan20'!H30+'Feb20'!H30+'Mar20'!H30+'Apr20'!H30+'May20'!H30+June20!H30+'Jul20'!H30+'Aug20'!H30+'Sep20'!H30+'Oct20'!H30+'Nov20'!H30+'Dec20'!H30 -> 266700
A31: Refunded | B31: b. Aviation | C31: 52 | D31: ='Jan20'!D31+'Feb20'!D31+'Mar20'!D31+'Apr20'!D31+'May20'!D31+June20!D31+'Jul20'!D31+'Aug20'!D31+'Sep20'!D31+'Oct20'!D31+'Nov20'!D31+'Dec20'!D31 -> 0 | E31: ='Jan20'!E31+'Feb20'!E31+'Mar20'!E31+'Apr20'!E31+'May20'!E31+June20!E31+'Jul20'!E31+'Aug20'!E31+'Sep20'!E31+'Oct20'!E31+'Nov20'!E31+'Dec20'!E31 -> 0 | F31: ='Jan20'!F31+'Feb20'!F31+'Mar20'!F31+'Apr20'!F31+'May20'!F31+June20!F31+'Jul20'!F31+'Aug20'!F31+'Sep20'!F31+'Oct20'!F31+'Nov20'!F31+'Dec20'!F31 -> 0 | G31: ='Jan20'!G31+'Feb20'!G31+'Mar20'!G31+'Apr20'!G31+'May20'!G31+June20!G31+'Jul20'!G31+'Aug20'!G31+'Sep20'!G31+'Oct20'!G31+'Nov20'!G31+'Dec20'!G31 -> 0 | H31: ='Jan20'!H31+'Feb20'!H31+'Mar20'!H31+'Apr20'!H31+'May20'!H31+June20!H31+'Jul20'!H31+'Aug20'!H31+'Sep20'!H31+'Oct20'!H31+'Nov20'!H31+'Dec20'!H31 -> 0
B32: c. Industrial/Commercial | C32: 53 | D32: ='Jan20'!D32+'Feb20'!D32+'Mar20'!D32+'Apr20'!D32+'May20'!D32+June20!D32+'Jul20'!D32+'Aug20'!D32+'Sep20'!D32+'Oct20'!D32+'Nov20'!D32+'Dec20'!D32 -> 0 | E32: ='Jan20'!E32+'Feb20'!E32+'Mar20'!E32+'Apr20'!E32+'May20'!E32+June20!E32+'Jul20'!E32+'Aug20'!E32+'Sep20'!E32+'Oct20'!E32+'Nov20'!E32+'Dec20'!E32 -> 0 | F32: ='Jan20'!F32+'Feb20'!F32+'Mar20'!F32+'Apr20'!F32+'May20'!F32+June20!F32+'Jul20'!F32+'Aug20'!F32+'Sep20'!F32+'Oct20'!F32+'Nov20'!F32+'Dec20'!F32 -> 0 | G32: ='Jan20'!G32+'Feb20'!G32+'Mar20'!G32+'Apr20'!G32+'May20'!G32+June20!G32+'Jul20'!G32+'Aug20'!G32+'Sep20'!G32+'Oct20'!G32+'Nov20'!G32+'Dec20'!G32 -> 0 | H32: ='Jan20'!H32+'Feb20'!H32+'Mar20'!H32+'Apr20'!H32+'May20'!H32+June20!H32+'Jul20'!H32+'Aug20'!H32+'Sep20'!H32+'Oct20'!H32+'Nov20'!H32+'Dec20'!H32 -> 0
B33: d. Construction | C33: 54 | D33: ='Jan20'!D33+'Feb20'!D33+'Mar20'!D33+'Apr20'!D33+'May20'!D33+June20!D33+'Jul20'!D33+'Aug20'!D33+'Sep20'!D33+'Oct20'!D33+'Nov20'!D33+'Dec20'!D33 -> 0 | E33: ='Jan20'!E33+'Feb20'!E33+'Mar20'!E33+'Apr20'!E33+'May20'!E33+June20!E33+'Jul20'!E33+'Aug20'!E33+'Sep20'!E33+'Oct20'!E33+'Nov20'!E33+'Dec20'!E33 -> 0 | F33: ='Jan20'!F33+'Feb20'!F33+'Mar20'!F33+'Apr20'!F33+'May20'!F33+June20!F33+'Jul20'!F33+'Aug20'!F33+'Sep20'!F33+'Oct20'!F33+'Nov20'!F33+'Dec20'!F33 -> 0 | G33: ='Jan20'!G33+'Feb20'!G33+'Mar20'!G33+'Apr20'!G33+'May20'!G33+June20!G33+'Jul20'!G33+'Aug20'!G33+'Sep20'!G33+'Oct20'!G33+'Nov20'!G33+'Dec20'!G33 -> 0 | H33: ='Jan20'!H33+'Feb20'!H33+'Mar20'!H33+'Apr20'!H33+'May20'!H33+June20!H33+'Jul20'!H33+'Aug20'!H33+'Sep20'!H33+'Oct20'!H33+'Nov20'!H33+'Dec20'!H33 -> 0
B34: e. Marine | C34: 55 | D34: ='Jan20'!D34+'Feb20'!D34+'Mar20'!D34+'Apr20'!D34+'May20'!D34+June20!D34+'Jul20'!D34+'Aug20'!D34+'Sep20'!D34+'Oct20'!D34+'Nov20'!D34+'Dec20'!D34 -> 0 | E34: ='Jan20'!E34+'Feb20'!E34+'Mar20'!E34+'Apr20'!E34+'May20'!E34+June20!E34+'Jul20'!E34+'Aug20'!E34+'Sep20'!E34+'Oct20'!E34+'Nov20'!E34+'Dec20'!E34 -> 0 | F34: ='Jan20'!F34+'Feb20'!F34+'Mar20'!F34+'Apr20'!F34+'May20'!F34+June20!F34+'Jul20'!F34+'Aug20'!F34+'Sep20'!F34+'Oct20'!F34+'Nov20'!F34+'Dec20'!F34 -> 0 | G34: ='Jan20'!G34+'Feb20'!G34+'Mar20'!G34+'Apr20'!G34+'May20'!G34+June20!G34+'Jul20'!G34+'Aug20'!G34+'Sep20'!G34+'Oct20'!G34+'Nov20'!G34+'Dec20'!G34 -> 0 | H34: ='Jan20'!H34+'Feb20'!H34+'Mar20'!H34+'Apr20'!H34+'May20'!H34+June20!H34+'Jul20'!H34+'Aug20'!H34+'Sep20'!H34+'Oct20'!H34+'Nov20'!H34+'Dec20'!H34 -> 0
B35: f. Municipal and Counties | C35: 56 | D35: ='Jan20'!D35+'Feb20'!D35+'Mar20'!D35+'Apr20'!D35+'May20'!D35+June20!D35+'Jul20'!D35+'Aug20'!D35+'Sep20'!D35+'Oct20'!D35+'Nov20'!D35+'Dec20'!D35 -> 0 | E35: ='Jan20'!E35+'Feb20'!E35+'Mar20'!E35+'Apr20'!E35+'May20'!E35+June20!E35+'Jul20'!E35+'Aug20'!E35+'Sep20'!E35+'Oct20'!E35+'Nov20'!E35+'Dec20'!E35 -> 0 | F35: ='Jan20'!F35+'Feb20'!F35+'Mar20'!F35+'Apr20'!F35+'May20'!F35+June20!F35+'Jul20'!F35+'Aug20'!F35+'Sep20'!F35+'Oct20'!F35+'Nov20'!F35+'Dec20'!F35 -> 0 | G35: ='Jan20'!G35+'Feb20'!G35+'Mar20'!G35+'Apr20'!G35+'May20'!G35+June20!G35+'Jul20'!G35+'Aug20'!G35+'Sep20'!G35+'Oct20'!G35+'Nov20'!G35+'Dec20'!G35 -> 0 | H35: ='Jan20'!H35+'Feb20'!H35+'Mar20'!H35+'Apr20'!H35+'May20'!H35+June20!H35+'Jul20'!H35+'Aug20'!H35+'Sep20'!H35+'Oct20'!H35+'Nov20'!H35+'Dec20'!H35 -> 0
B36: g. Other | C36: 57 | D36: ='Jan20'!D36+'Feb20'!D36+'Mar20'!D36+'Apr20'!D36+'May20'!D36+June20!D36+'Jul20'!D36+'Aug20'!D36+'Sep20'!D36+'Oct20'!D36+'Nov20'!D36+'Dec20'!D36 -> 365506 | E36: ='Jan20'!E36+'Feb20'!E36+'Mar20'!E36+'Apr20'!E36+'May20'!E36+June20!E36+'Jul20'!E36+'Aug20'!E36+'Sep20'!E36+'Oct20'!E36+'Nov20'!E36+'Dec20'!E36 -> 83809 | F36: ='Jan20'!F36+'Feb20'!F36+'Mar20'!F36+'Apr20'!F36+'May20'!F36+June20!F36+'Jul20'!F36+'Aug20'!F36+'Sep20'!F36+'Oct20'!F36+'Nov20'!F36+'Dec20'!F36 -> 0 | G36: ='Jan20'!G36+'Feb20'!G36+'Mar20'!G36+'Apr20'!G36+'May20'!G36+June20!G36+'Jul20'!G36+'Aug20'!G36+'Sep20'!G36+'Oct20'!G36+'Nov20'!G36+'Dec20'!G36 -> 0 | H36: ='Jan20'!H36+'Feb20'!H36+'Mar20'!H36+'Apr20'!H36+'May20'!H36+June20!H36+'Jul20'!H36+'Aug20'!H36+'Sep20'!H36+'Oct20'!H36+'Nov20'!H36+'Dec20'!H36 -> 449315
B37: h. | C37: 58
B38: i. | C38: 59
B39: j. | C39: 60
B40: k. | C40: 61
...
