Workbook

Sheet Jan19
A1: The public report burden for this information is estimated to average 5.4 hours | H1: Form Approved OMB No. 2125-0032
H2: STATE
A3: U.S. Department of | H3: Kansas
A4: Transportation | H4: YEAR
E5: MONTHLY MOTOR-FUEL CONSUMPTION | H5: 2019
H6: MONTH OF SALE
A7: Federal Highway | H7: January
A8: Administration | H8: UNITS (check one)
H9: Gallons X
H10: Liters
C11: LI | F11: PRIVATE AND COMMERCIAL
B12: ITEM | C12: NE | D12: GASOLINE | E12: GASOHOL | F12: HWY DIESEL | G12: HWY LPG | H12: TOTAL
C13: # | D13: -1 | E13: -2 | F13: -3 | G13: -4 | H13: -5
A14: 1. Gross | B14: a. Gross Volume Reported | C14: 1 | D14: =D15+D21+D22 -> 16946801 | E14: =E15+E21+E22 -> 90917206 | F14: =(F16-F17)/0.26 -> 35457769 | G14: =(G16-G17)/0.23 -> 497530.43 | H14: =SUM(D14:G14) -> 1.4381931e+08
B15: Net After Deduction | D15: 16463561 | E15: 90832934
B16: Special Fuel Tax Receipts | F16: 9650896 | G16: 114432
B17: Special Fuel Tax Refunds | F17: 431876 | G17: 0
A18: Volume | B18: b. IFTA | C18: 2 | F18: =F85 -> 0
A19: 2. Fully | B19: a. Losses - Flat % | C19: 21 | D19: 394727 | E19: 2141310 | H19: =SUM(D19:G19) -> 2536037
A20: Tax | B20: b. Losses - Actual | C20: 22 | D20: 825 | E20: 0 | H20: =SUM(D20:G20) -> 825
A21: Exempt | B21: c. Federal | C21: 23 | D21: 77916 | E21: 84272 | H21: =SUM(D21:G21) -> 162188
B22: d. Aviation | C22: 24 | D22: 405324 | E22: 0 | H22: =SUM(D22:G22) -> 405324
B23: e. Native American | C23: 25 | D23: 0 | H23: =SUM(D23:G23) -> 0
B24: f. Assessments | C24: 26 | D24: -516 | H24: =SUM(D24:G24) -> -516
B25: g. | C25: 27 | H25: =SUM(D25:G25) -> 0
B26: h. | C26: 28 | H26: =SUM(D26:G26) -> 0
B27: i. | C27: 29 | H27: =SUM(D27:G27) -> 0
B28: j. Total (sum a. through e - f.) | C28: 30 | D28: =SUM(D19:D23)-D24 -> 879308 | E28: =SUM(E19:E23)-E24 -> 2225582 | F28: =SUM(F19:F23)-F24 -> 0 | G28: =SUM(G19:G23)-G24 -> 0 | H28: =SUM(H19:H23)-H24 -> 3104890
A29: 3. Gross Volume Taxed (1-2j) | C29: 40 | D29: =D14-D28 -> 16067493 | E29: =E14-E28 -> 88691624 | F29: =F14+F18-F28 -> 35457769 | G29: =G14-G28 -> 497530.43 | H29: =H14-H28 -> 1.4071442e+08
A30: 4. Fully | B30: a. Agriculture | C30: 51 | D30: 28150 | E30: 4691 | H30: =SUM(D30:G30) -> 32841
A31: Refunded | B31: b. Aviation | C31: 52 | H31: =SUM(D31:G31) -> 0
B32: c. Industrial/Commercial | C32: 53 | H32: =SUM(D32:G32) -> 0
B33: d. Construction | C33: 54 | H33: =SUM(D33:G33) -> 0
B34: e. Marine | C34: 55 | H34: =SUM(D34:G34) -> 0
B35: f. Municipal and Counties | C35: 56 | H35: =SUM(D35:G35) -> 0
B36: g. Other | C36: 57 | D36: 48784 | E36: 13248 | H36: =SUM(D36:G36) -> 62032
B37: h. | C37: 58 | H37: =SUM(D37:G37) -> 0
B38: i. | C38: 59 | H38: =SUM(D38:G38) -> 0
B39: j. | C39: 60 | H39: =SUM(D39:G39) -> 0
B40: k. | C40: 61
B41: l. | C41: 62
B42: m. | C42: 63
B43: n. | C43: 64
B44: o. | C44: 65
B45: p. | C45: 66
B46: q. | C46: 67
B47: r. Total (a. thru s.) | C47: 70 | D47: =SUM(D30:D41) -> 76934 | E47: =SUM(E30:E41) -> 17939 | F47: =SUM(F30:F41) -> 0 | G47: =SUM(G30:G41) -> 0 | H47: =SUM(H30:H41) -> 94873
A48: 5. Net | B48: a. At Full Rate | C48: 81 | D48: =D29-D47 -> 15990559 | E48: =E29-E47 -> 88673685 | F48: =F29-F47 -> 35457769 | G48: =G29-G47 -> 497530.43 | H48: =SUM(D48:G48) -> 1.4061954e+08
A49: Volume | B49: b. | C49: 82
A50: Taxed | B50: c. | C50: 83
A51: Taxed at | B51: d. | C51: 84
A52: initial lower | B52: e. | C52: 85
A53: rate, partially | B53: f. | C53: 86
A54: exempt or | B54: g. | C54: 87
A55: partially | B55: h. | C55: 88
A56: refunded | B56: i. | C56: 89
B57: j. Total (a thru i, 3-4t) | C57: 90 | D57: =SUM(D48:D56) -> 15990559 | E57: =SUM(E48:E56) -> 88673685 | F57: =SUM(F48:F56) -> 35457769 | G57: =SUM(G48:G56) -> 497530.43 | H57: =SUM(H48:H56) -> 1.4061954e+08
B58: Calendar Year Cumulation | D58: =D57 -> 15990559 | E58: =E57 -> 88673685 | F58: =F57 -> 35457769 | G58: =G57 -> 497530.43 | H58: =H57 -> 1.4061954e+08
A59: 6. Source | B59: a. Agency Preparing this Report:
B60: Kansas Department of Revenue, Office of Research and Analysis
B61: b. Compiled under Direction of: | G61: c. Date
B62: Mark Burghart, Secretary of Revenue
E63: PREVIOUS EDITIONS OBSOLETE | H63: (Next Page)
E64: 1
H67: =H2 -> STATE
H68: =H3 -> Kansas
D69: NOTES AND TECHNICAL INFORMATION | H69: =H4 -> YEAR
H70: =H5 -> 2019
H71: =H6 -> MONTH OF SALE
H72: =H7 -> January
A73: 1. Rate of tax at end month, in cents-per-gallon/liter. | D73: (If tax is ad valorem, post percentage, and briefly explain application basis below.)
E74: Rate | F74: Effective Date
C75: a. Gasoline | E75: 24¢/gallon | F75: 37803
C76: b. Gasohol | E76: 24¢/gallon | F76: 37803
C77: c. Gasohol E85 | E77: 17¢/gallon | F77: 39083
C78: d. Diesel | E78: 26¢/gallon | F78: 37803
C79: e. LPG | E79: 23¢/gallon | F79: 37803
C80: f. CNG * | E80: 23¢/gallon | F80: 37803
B81: * 120 cubic feet = one gallon
A82: 2. Computation of gross volume reported (page 1, item 1). | F82: Special Fuels
E83: Gasoline and Gasohol | F83: (Diesel and LPG)
B84: Gross sales from wholesaler/retailer returns | E84: =D14+E14 -> 107864007 | F84: =(+F28+F29+G29)-(F85-F86) -> 35955300
B85: Plus: IMC fuel volume used in state
B86: Less: IMC fuel volume purchased tax paid in state
B87: ="= Gross consumption in State (enter on page 1, item 1)" -> = Gross consumption in State (enter on page 1, item 1) | E87: =(E84+E85)-E86 -> 107864007 | F87: =(F84+F85)-F86 -> 35955300
E89: Interstate motor carrier (fuel use tax) fuel volume shown above covers period:
F90: Diesel | G90: LP-Gas | H90: Combined
E91: * page 1, line 1 split | F91: =F14 -> 35457769 | G91: =G14 -> 497530.43 | H91: =F91+G91 -> 35955300
A92: 3. Stratification of gasohol by blend ratio
B94: The gasohol volume on page 1 column (2) includes: | E94: (show actual/estimated volume or percentage shares)
C96: Percent Alcohol | E96: Volume | F96: Percentage Share
D97: 5.7-7.6%
D98: 7.7-9.9%
D99: 10% or more | F99: 1
A101: 4. Notes and comments
A104: Note that diesel gallons include state, county and municipal government highway use, but does not include use by
A105: school buses.
A106: Line #26 (Assessments) - Assessments, either positive or negative, can be the result of audits, amended returns or
A107: office (KS Dept. of Revenue) assessments or abatements.
A124: Form FHWA-551M (Rev. 11-93) | E124: 2

Sheet Feb19
A1: The public report burden for this information is estimated to average 5.4 hours | H1: Form Approved OMB No. 2125-0032
H2: STATE
A3: U.S. Department of | H3: Kansas
A4: Transportation | H4: YEAR
E5: MONTHLY MOTOR-FUEL CONSUMPTION | H5: 2019
H6: MONTH OF SALE
A7: Federal Highway | H7: February
A8: Administration | H8: UNITS (check one)
H9: Gallons X
H10: Liters
C11: LI | F11: PRIVATE AND COMMERCIAL
B12: ITEM | C12: NE | D12: GASOLINE | E12: GASOHOL | F12: HWY DIESEL | G12: HWY LPG | H12: TOTAL
C13: # | D13: -1 | E13: -2 | F13: -3 | G13: -4 | H13: -5
A14: 1. Gross | B14: a. Gross Volume Reported | C14: 1 | D14: =D15+D21+D22 -> 13389334 | E14: =E15+E21+E22 -> 84560638 | F14: =(F16-F17)/0.26 -> 31923538 | G14: =(G16-G17)/0.23 -> 645908.7 | H14: =SUM(D14:G14) -> 1.3051942e+08
B15: Net After Deduction | D15: 13042555 | E15: 84450815
B16: Special Fuel Tax Receipts | F16: 8473896 | G16: 148559
B17: Special Fuel Tax Refunds | F17: 173776 | G17: 0
A18: Volume | B18: b. IFTA | C18: 2 | F18: =F85 -> 0
A19: 2. Fully | B19: a. Losses - Flat % | C19: 21 | D19: 310296 | E19: 1989624 | H19: =SUM(D19:G19) -> 2299920
A20: Tax | B20: b. Losses - Actual | C20: 22 | D20: 0 | E20: 0 | H20: =SUM(D20:G20) -> 0
A21: Exempt | B21: c. Federal | C21: 23 | D21: 54676 | E21: 109823 | H21: =SUM(D21:G21) -> 164499
B22: d. Aviation | C22: 24 | D22: 292103 | E22: 0 | H22: =SUM(D22:G22) -> 292103
B23: e. Native American | C23: 25 | D23: 0 | H23: =SUM(D23:G23) -> 0
B24: f. Assessments | C24: 26 | D24: 1710.917 | H24: =SUM(D24:G24) -> 1710.917
B25: g. | C25: 27 | H25: =SUM(D25:G25) -> 0
B26: h. | C26: 28 | H26: =SUM(D26:G26) -> 0
B27: i. | C27: 29 | H27: =SUM(D27:G27) -> 0
B28: j. Total (sum a. through e - f.) | C28: 30 | D28: =SUM(D19:D23)-D24 -> 655364.08 | E28: =SUM(E19:E23)-E24 -> 2099447 | F28: =SUM(F19:F23)-F24 -> 0 | G28: =SUM(G19:G23)-G24 -> 0 | H28: =SUM(H19:H23)-H24 -> 2754811.1
A29: 3. Gross Volume Taxed (1-2j) | C29: 40 | D29: =D14-D28 -> 12733970 | E29: =E14-E28 -> 82461191 | F29: =F14+F18-F28 -> 31923538 | G29: =G14-G28 -> 645908.7 | H29: =H14-H28 -> 1.2776461e+08
A30: 4. Fully | B30: a. Agriculture | C30: 51 | D30: 37422 | E30: 44762 | H30: =SUM(D30:G30) -> 82184
A31: Refunded | B31: b. Aviation | C31: 52 | H31: =SUM(D31:G31) -> 0
B32: c. Industrial/Commercial | C32: 53 | H32: =SUM(D32:G32) -> 0
B33: d. Construction | C33: 54 | H33: =SUM(D33:G33) -> 0
B34: e. Marine | C34: 55 | H34: =SUM(D34:G34) -> 0
B35: f. Municipal and Counties | C35: 56 | H35: =SUM(D35:G35) -> 0
B36: g. Other | C36: 57 | D36: 49578 | E36: 21667 | H36: =SUM(D36:G36) -> 71245
B37: h. | C37: 58 | H37: =SUM(D37:G37) -> 0
B38: i. | C38: 59 | H38: =SUM(D38:G38) -> 0
B39: j. | C39: 60 | H39: =SUM(D39:G39) -> 0
B40: k. | C40: 61
B41: l. | C41: 62
B42: m. | C42: 63
B43: n. | C43: 64
B44: o. | C44: 65
B45: p. | C45: 66
B46: q. | C46: 67
B47: r. Total (a. thru s.) | C47: 70 | D47: =SUM(D30:D41) -> 87000 | E47: =SUM(E30:E41) -> 66429 | F47: =SUM(F30:F41) -> 0 | G47: =SUM(G30:G41) -> 0 | H47: =SUM(H30:H41) -> 153429
A48: 5. Net | B48: a. At Full Rate | C48: 81 | D48: =D29-D47 -> 12646970 | E48: =E29-E47 -> 82394762 | F48: =F29-F47 -> 31923538 | G48: =G29-G47 -> 645908.7 | H48: =SUM(D48:G48) -> 1.2761118e+08
A49: Volume | B49: b. | C49: 82
A50: Taxed | B50: c. | C50: 83
A51: Taxed at | B51: d. | C51: 84
A52: initial lower | B52: e. | C52: 85
A53: rate, partially | B53: f. | C53: 86
A54: exempt or | B54: g. | C54: 87
A55: partially | B55: h. | C55: 88
A56: refunded | B56: i. | C56: 89
B57: j. Total (a thru i, 3-4t) | C57: 90 | D57: =SUM(D48:D56) -> 12646970 | E57: =SUM(E48:E56) -> 82394762 | F57: =SUM(F48:F56) -> 31923538 | G57: =SUM(G48:G56) -> 645908.7 | H57: =SUM(H48:H56) -> 1.2761118e+08
B58: Calendar Year Cumulation | D58: =D57+'Jan19'!D58 -> 28637529 | E58: =E57+'Jan19'!E58 -> 171068447 | F58: =F57+'Jan19'!F58 -> 67381308 | G58: =G57+'Jan19'!G58 -> 1143439.1 | H58: =H57+'Jan19'!H58 -> 2.6823072e+08
A59: 6. Source | B59: a. Agency Preparing this Report:
B60: Kansas Department of Revenue, Office of Research and Analysis
B61: b. Compiled under Direction of: | G61: c. Date
B62: Mark Burghart, Secretary of Revenue
E63: PREVIOUS EDITIONS OBSOLETE | H63: (Next Page)
E64: 1
H67: =H2 -> STATE
H68: =H3 -> Kansas
D69: NOTES AND TECHNICAL INFORMATION | H69: =H4 -> YEAR
H70: =H5 -> 2019
H71: =H6 -> MONTH OF SALE
H72: =H7 -> February
A73: 1. Rate of tax at end month, in cents-per-gallon/liter. | D73: (If tax is ad valorem, post percentage, and briefly explain application basis below.)
E74: Rate | F74: Effective Date
C75: a. Gasoline | E75: 24¢/gallon | F75: 37803
C76: b. Gasohol | E76: 24¢/gallon | F76: 37803
C77: c. Gasohol E85 | E77: 17¢/gallon | F77: 39083
C78: d. Diesel | E78: 26¢/gallon | F78: 37803
C79: e. LPG | E79: 23¢/gallon | F79: 37803
C80: f. CNG * | E80: 23¢/gallon | F80: 37803
B81: * 120 cubic feet = one gallon
A82: 2. Computation of gross volume reported (page 1, item 1). | F82: Special Fuels
E83: Gasoline and Gasohol | F83: (Diesel and LPG)
B84: Gross sales from wholesaler/retailer returns | E84: =D14+E14 -> 97949972 | F84: =(+F28+F29+G29)-(F85-F86) -> 32569447
B85: Plus: IMC fuel volume used in state | F85: =0/0.26 -> 0
B86: Less: IMC fuel volume purchased tax paid in state
B87: ="= Gross consumption in State (enter on page 1, item 1)" -> = Gross consumption in State (enter on page 1, item 1) | E87: =(E84+E85)-E86 -> 97949972 | F87: =(F84+F85)-F86 -> 32569447
E89: Interstate motor carrier (fuel use tax) fuel volume shown above covers period:
F90: Diesel | G90: LP-Gas | H90: Combined
E91: * page 1, line 1 split | F91: =F14 -> 31923538 | G91: =G14 -> 645908.7 | H91: =F91+G91 -> 32569447
A92: 3. Stratification of gasohol by blend ratio
B94: The gasohol volume on page 1 column (2) includes: | E94: (show actual/estimated volume or percentage shares)
C96: Percent Alcohol | E96: Volume | F96: Percentage Share
D97: 5.7-7.6%
D98: 7.7-9.9%
D99: 10% or more | F99: 1
A101: 4. Notes and comments
A104: Note that diesel gallons include state, county and municipal government highway use, but does not include use by
A105: school buses.
A106: Line #26 (Assessments) - Assessments, either positive or negative, can be the result of audits, amended returns or
A107: office (KS Dept. of Revenue) assessments or abatements.
A124: Form FHWA-551M (Rev. 11-93) | E124: 2

Sheet Mar19
A1: The public report burden for this information is estimated to average 5.4 hours | H1: Form Approved OMB No. 2125-0032
H2: STATE
A3: U.S. Department of | H3: Kansas
A4: Transportation | H4: YEAR
E5: MONTHLY MOTOR-FUEL CONSUMPTION | H5: 2019
H6: MONTH OF SALE
A7: Federal Highway | H7: March
A8: Administration | H8: UNITS (check one)
H9: Gallons X
H10: Liters
C11: LI | F11: PRIVATE AND COMMERCIAL
B12: ITEM | C12: NE | D12: GASOLINE | E12: GASOHOL | F12: HWY DIESEL | G12: HWY LPG | H12: TOTAL
C13: # | D13: -1 | E13: -2 | F13: -3 | G13: -4 | H13: -5
A14: 1. Gross | B14: a. Gross Volume Reported | C14: 1 | D14: =D15+D21+D22 -> 16370381 | E14: =E15+E21+E22 -> 99345753 | F14: =(F16-F17)/0.26 -> 28831077 | G14: =(G16-G17)/0.23 -> 649421.74 | H14: =SUM(D14:G14) -> 1.4519663e+08
B15: Net After Deduction | D15: 15937712 | E15: 99248196
B16: Special Fuel Tax Receipts | F16: 7724307 | G16: 149367
B17: Special Fuel Tax Refunds | F17: 228227 | G17: 0
A18: Volume | B18: b. IFTA | C18: 2 | F18: =F85 -> 12313988
A19: 2. Fully | B19: a. Losses - Flat % | C19: 21 | D19: 378179 | E19: 2335987 | H19: =SUM(D19:G19) -> 2714166
A20: Tax | B20: b. Losses - Actual | C20: 22 | D20: 0 | E20: 0 | H20: =SUM(D20:G20) -> 0
A21: Exempt | B21: c. Federal | C21: 23 | D21: 64690 | E21: 97557 | H21: =SUM(D21:G21) -> 162247
B22: d. Aviation | C22: 24 | D22: 367979 | E22: 0 | H22: =SUM(D22:G22) -> 367979
B23: e. Native American | C23: 25 | D23: 0 | H23: =SUM(D23:G23) -> 0
B24: f. Assessments | C24: 26 | D24: 51975 | H24: =SUM(D24:G24) -> 51975
B25: g. | C25: 27 | H25: =SUM(D25:G25) -> 0
B26: h. | C26: 28 | H26: =SUM(D26:G26) -> 0
B27: i. | C27: 29 | H27: =SUM(D27:G27) -> 0
B28: j. Total (sum a. through e - f.) | C28: 30 | D28: =SUM(D19:D23)-D24 -> 758873 | E28: =SUM(E19:E23)-E24 -> 2433544 | F28: =SUM(F19:F23)-F24 -> 0 | G28: =SUM(G19:G23)-G24 -> 0 | H28: =SUM(H19:H23)-H24 -> 3192417
A29: 3. Gross Volume Taxed (1-2j) | C29: 40 | D29: =D14-D28 -> 15611508 | E29: =E14-E28 -> 96912209 | F29: =F14+F18-F28 -> 41145065 | G29: =G14-G28 -> 649421.74 | H29: =H14-H28 -> 1.4200422e+08
A30: 4. Fully | B30: a. Agriculture | C30: 51 | D30: 8999 | E30: 14049 | H30: =SUM(D30:G30) -> 23048
A31: Refunded | B31: b. Aviation | C31: 52 | H31: =SUM(D31:G31) -> 0
B32: c. Industrial/Commercial | C32: 53 | H32: =SUM(D32:G32) -> 0
B33: d. Construction | C33: 54 | H33: =SUM(D33:G33) -> 0
B34: e. Marine | C34: 55 | H34: =SUM(D34:G34) -> 0
B35: f. Municipal and Counties | C35: 56 | H35: =SUM(D35:G35) -> 0
B36: g. Other | C36: 57 | D36: 28085 | E36: 1686 | H36: =SUM(D36:G36) -> 29771
B37: h. | C37: 58 | H37: =SUM(D37:G37) -> 0
B38: i. | C38: 59 | H38: =SUM(D38:G38) -> 0
B39: j. | C39: 60 | H39: =SUM(D39:G39) -> 0
B40: k. | C40: 61
B41: l. | C41: 62
B42: m. | C42: 63
B43: n. | C43: 64
B44: o. | C44: 65
B45: p. | C45: 66
B46: q. | C46: 67
B47: r. Total (a. thru s.) | C47: 70 | D47: =SUM(D30:D41) -> 37084 | E47: =SUM(E30:E41) -> 15735 | F47: =SUM(F30:F41) -> 0 | G47: =SUM(G30:G41) -> 0 | H47: =SUM(H30:H41) -> 52819
A48: 5. Net | B48: a. At Full Rate | C48: 81 | D48: =D29-D47 -> 15574424 | E48: =E29-E47 -> 96896474 | F48: =F29-F47 -> 41145065 | G48: =G29-G47 -> 649421.74 | H48: =SUM(D48:G48) -> 1.5426539e+08
A49: Volume | B49: b. | C49: 82
A50: Taxed | B50: c. | C50: 83
A51: Taxed at | B51: d. | C51: 84
A52: initial lower | B52: e. | C52: 85
A53: rate, partially | B53: f. | C53: 86
A54: exempt or | B54: g. | C54: 87
A55: partially | B55: h. | C55: 88
A56: refunded | B56: i. | C56: 89
B57: j. Total (a thru i, 3-4t) | C57: 90 | D57: =SUM(D48:D56) -> 15574424 | E57: =SUM(E48:E56) -> 96896474 | F57: =SUM(F48:F56) -> 41145065 | G57: =SUM(G48:G56) -> 649421.74 | H57: =SUM(H48:H56) -> 1.5426539e+08
B58: Calendar Year Cumulation | D58: =D57+'Feb19'!D58 -> 44211953 | E58: =E57+'Feb19'!E58 -> 267964921 | F58: =F57+'Feb19'!F58 -> 1.0852637e+08 | G58: =G57+'Feb19'!G58 -> 1792860.9 | H58: =H57+'Feb19'!H58 -> 4.2249611e+08
A59: 6. Source | B59: a. Agency Preparing this Report:
B60: Kansas Department of Revenue, Office of Research and Analysis
B61: b. Compiled under Direction of: | G61: c. Date
B62: Mark Burghart, Secretary of Revenue
E63: PREVIOUS EDITIONS OBSOLETE | H63: (Next Page)
E64: 1
H67: =H2 -> STATE
H68: =H3 -> Kansas
D69: NOTES AND TECHNICAL INFORMATION | H69: =H4 -> YEAR
H70: =H5 -> 2019
H71: =H6 -> MONTH OF SALE
H72: =H7 -> March
A73: 1. Rate of tax at end month, in cents-per-gallon/liter. | D73: (If tax is ad valorem, post percentage, and briefly explain application basis below.)
E74: Rate | F74: Effective Date
C75: a. Gasoline | E75: 24¢/gallon | F75: 37803
C76: b. Gasohol | E76: 24¢/gallon | F76: 37803
C77: c. Gasohol E85 | E77: 17¢/gallon | F77: 39083
C78: d. Diesel | E78: 26¢/gallon | F78: 37803
C79: e. LPG | E79: 23¢/gallon | F79: 37803
C80: f. CNG * | E80: 23¢/gallon | F80: 37803
B81: * 120 cubic feet = one gallon
A82: 2. Computation of gross volume reported (page 1, item 1). | F82: Special Fuels
E83: Gasoline and Gasohol | F83: (Diesel and LPG)
B84: Gross sales from wholesaler/retailer returns | E84: =D14+E14 -> 115716134 | F84: =(+F28+F29+G29)-(F85-F86) -> 29480499
B85: Plus: IMC fuel volume used in state | F85: =3201637/0.26 -> 12313988
B86: Less: IMC fuel volume purchased tax paid in state
B87: ="= Gross consumption in State (enter on page 1, item 1)" -> = Gross consumption in State (enter on page 1, item 1) | E87: =(E84+E85)-E86 -> 115716134 | F87: =(F84+F85)-F86 -> 41794487
E89: Interstate motor carrier (fuel use tax) fuel volume shown above covers period:
F90: Diesel | G90: LP-Gas | H90: Combined
E91: * page 1, line 1 split | F91: =F14 -> 28831077 | G91: =G14 -> 649421.74 | H91: =F91+G91 -> 29480499
A92: 3. Stratification of gasohol by blend ratio
B94: The gasohol volume on page 1 column (2) includes: | E94: (show actual/estimated volume or percentage shares)
C96: Percent Alcohol | E96: Volume | F96: Percentage Share
D97: 5.7-7.6%
D98: 7.7-9.9%
D99: 10% or more | F99: 1
A101: 4. Notes and comments
A104: Note that diesel gallons include state, county and municipal government highway use, but does not include use by
A105: school buses.
A106: Line #26 (Assessments) - Assessments, either positive or negative, can be the result of audits, amended returns or
A107: office (KS Dept. of Revenue) assessments or abatements.
A124: Form FHWA-551M (Rev. 11-93) | E124: 2

Sheet Apr19
A1: The public report burden for this information is estimated to average 5.4 hours | H1: Form Approved OMB No. 2125-0032
H2: STATE
A3: U.S. Department of | H3: Kansas
A4: Transportation | H4: YEAR
E5: MONTHLY MOTOR-FUEL CONSUMPTION | H5: 2019
H6: MONTH OF SALE
A7: Federal Highway | H7: April
A8: Administration | H8: UNITS (check one)
H9: Gallons X
H10: Liters
C11: LI | F11: PRIVATE AND COMMERCIAL
B12: ITEM | C12: NE | D12: GASOLINE | E12: GASOHOL | F12: HWY DIESEL | G12: HWY LPG | H12: TOTAL
C13: # | D13: -1 | E13: -2 | F13: -3 | G13: -4 | H13: -5
A14: 1. Gross | B14: a. Gross Volume Reported | C14: 1 | D14: =D15+D21+D22 -> 17403103 | E14: =E15+E21+E22 -> 99992140 | F14: =(F16-F17)/0.26 -> 32523269 | G14: =(G16-G17)/0.23 -> 627321.74 | H14: =SUM(D14:G14) -> 1.5054583e+08
B15: Net After Deduction | D15: 16782053 | E15: 99905254
B16: Special Fuel Tax Receipts | F16: 8748642 | G16: 144284
B17: Special Fuel Tax Refunds | F17: 292592 | G17: 0
A18: Volume | B18: b. IFTA | C18: 2 | F18: =F85 -> 0
A19: 2. Fully | B19: a. Losses - Flat % | C19: 21 | D19: 399661 | E19: 2351383 | H19: =SUM(D19:G19) -> 2751044
A20: Tax | B20: b. Losses - Actual | C20: 22 | D20: 0 | E20: 0 | H20: =SUM(D20:G20) -> 0
A21: Exempt | B21: c. Federal | C21: 23 | D21: 68182 | E21: 86886 | H21: =SUM(D21:G21) -> 155068
B22: d. Aviation | C22: 24 | D22: 552868 | E22: 0 | H22: =SUM(D22:G22) -> 552868
B23: e. Native American | C23: 25 | D23: 0 | H23: =SUM(D23:G23) -> 0
B24: f. Assessments | C24: 26 | D24: 36575 | H24: =SUM(D24:G24) -> 36575
B25: g. | C25: 27 | H25: =SUM(D25:G25) -> 0
B26: h. | C26: 28 | H26: =SUM(D26:G26) -> 0
B27: i. | C27: 29 | H27: =SUM(D27:G27) -> 0
B28: j. Total (sum a. through e - f.) | C28: 30 | D28: =SUM(D19:D23)-D24 -> 984136 | E28: =SUM(E19:E23)-E24 -> 2438269 | F28: =SUM(F19:F23)-F24 -> 0 | G28: =SUM(G19:G23)-G24 -> 0 | H28: =SUM(H19:H23)-H24 -> 3422405
A29: 3. Gross Volume Taxed (1-2j) | C29: 40 | D29: =D14-D28 -> 16418967 | E29: =E14-E28 -> 97553871 | F29: =F14+F18-F28 -> 32523269 | G29: =G14-G28 -> 627321.74 | H29: =H14-H28 -> 1.4712343e+08
A30: 4. Fully | B30: a. Agriculture | C30: 51 | D30: 3993 | H30: =SUM(D30:G30) -> 3993
A31: Refunded | B31: b. Aviation | C31: 52 | H31: =SUM(D31:G31) -> 0
B32: c. Industrial/Commercial | C32: 53 | H32: =SUM(D32:G32) -> 0
B33: d. Construction | C33: 54 | H33: =SUM(D33:G33) -> 0
B34: e. Marine | C34: 55 | H34: =SUM(D34:G34) -> 0
B35: f. Municipal and Counties | C35: 56 | H35: =SUM(D35:G35) -> 0
B36: g. Other | C36: 57 | D36: 6890 | E36: 16557 | H36: =SUM(D36:G36) -> 23447
B37: h. | C37: 58 | H37: =SUM(D37:G37) -> 0
B38: i. | C38: 59 | H38: =SUM(D38:G38) -> 0
B39: j. | C39: 60 | H39: =SUM(D39:G39) -> 0
B40: k. | C40: 61
B41: l. | C41: 62
B42: m. | C42: 63
B43: n. | C43: 64
B44: o. | C44: 65
B45: p. | C45: 66
B46: q. | C46: 67
B47: r. Total (a. thru s.) | C47: 70 | D47: =SUM(D30:D41) -> 10883 | E47: =SUM(E30:E41) -> 16557 | F47: =SUM(F30:F41) -> 0 | G47: =SUM(G30:G41) -> 0 | H47: =SUM(H30:H41) -> 27440
A48: 5. Net | B48: a. At Full Rate | C48: 81 | D48: =D29-D47 -> 16408084 | E48: =E29-E47 -> 97537314 | F48: =F29-F47 -> 32523269 | G48: =G29-G47 -> 627321.74 | H48: =SUM(D48:G48) -> 1.4709599e+08
A49: Volume | B49: b. | C49: 82
A50: Taxed | B50: c. | C50: 83
A51: Taxed at | B51: d. | C51: 84
A52: initial lower | B52: e. | C52: 85
A53: rate, partially | B53: f. | C53: 86
A54: exempt or | B54: g. | C54: 87
A55: partially | B55: h. | C55: 88
A56: refunded | B56: i. | C56: 89
B57: j. Total (a thru i, 3-4t) | C57: 90 | D57: =SUM(D48:D56) -> 16408084 | E57: =SUM(E48:E56) -> 97537314 | F57: =SUM(F48:F56) -> 32523269 | G57: =SUM(G48:G56) -> 627321.74 | H57: =SUM(H48:H56) -> 1.4709599e+08
B58: Calendar Year Cumulation | D58: =D57+'Mar19'!D58 -> 60620037 | E58: =E57+'Mar19'!E58 -> 365502235 | F58: =F57+'Mar19'!F58 -> 1.4104964e+08 | G58: =G57+'Mar19'!G58 -> 2420182.6 | H58: =H57+'Mar19'!H58 -> 5.695921e+08
A59: 6. Source | B59: a. Agency Preparing this Report:
B60: Kansas Department of Revenue, Office of Research and Analysis
B61: b. Compiled under Direction of: | G61: c. Date
B62: Mark Burghart, Secretary of Revenue
E63: PREVIOUS EDITIONS OBSOLETE | H63: (Next Page)
E64: 1
H67: =H2 -> STATE
H68: =H3 -> Kansas
D69: NOTES AND TECHNICAL INFORMATION | H69: =H4 -> YEAR
H70: =H5 -> 2019
H71: =H6 -> MONTH OF SALE
H72: =H7 -> April
A73: 1. Rate of tax at end month, in cents-per-gallon/liter. | D73: (If tax is ad valorem, post percentage, and briefly explain application basis below.)
E74: Rate | F74: Effective Date
C75: a. Gasoline | E75: 24¢/gallon | F75: 37803
C76: b. Gasohol | E76: 24¢/gallon | F76: 37803
C77: c. Gasohol E85 | E77: 17¢/gallon | F77: 39083
C78: d. Diesel | E78: 26¢/gallon | F78: 37803
C79: e. LPG | E79: 23¢/gallon | F79: 37803
C80: f. CNG * | E80: 23¢/gallon | F80: 37803
B81: * 120 cubic feet = one gallon
A82: 2. Computation of gross volume reported (page 1, item 1). | F82: Special Fuels
E83: Gasoline and Gasohol | F83: (Diesel and LPG)
B84: Gross sales from wholesaler/retailer returns | E84: =D14+E14 -> 117395243 | F84: =(+F28+F29+G29)-(F85-F86) -> 33150591
B85: Plus: IMC fuel volume used in state | F85: =0/0.26 -> 0
B86: Less: IMC fuel volume purchased tax paid in state
B87: ="= Gross consumption in State (enter on page 1, item 1)" -> = Gross consumption in State (enter on page 1, item 1) | E87: =(E84+E85)-E86 -> 117395243 | F87: =(F84+F85)-F86 -> 33150591
E89: Interstate motor carrier (fuel use tax) fuel volume shown above covers period:
F90: Diesel | G90: LP-Gas | H90: Combined
E91: * page 1, line 1 split | F91: =F14 -> 32523269 | G91: =G14 -> 627321.74 | H91: =F91+G91 -> 33150591
A92: 3. Stratification of gasohol by blend ratio
B94: The gasohol volume on page 1 column (2) includes: | E94: (show actual/estimated volume or percentage shares)
C96: Percent Alcohol | E96: Volume | F96: Percentage Share
D97: 5.7-7.6%
D98: 7.7-9.9%
D99: 10% or more | F99: 1
A101: 4. Notes and comments
A104: Note that diesel gallons include state, county and municipal government highway use, but does not include use by
A105: school buses.
A106: Line #26 (Assessments) - Assessments, either positive or negative, can be the result of audits, amended returns or
A107: office (KS Dept. of Revenue) assessments or abatements.
A124: Form FHWA-551M (Rev. 11-93) | E124: 2

Sheet May19
A1: The public report burden for this information is estimated to average 5.4 hours | H1: Form Approved OMB No. 2125-0032
H2: STATE
A3: U.S. Department of | H3: Kansas
A4: Transportation | H4: YEAR
E5: MONTHLY MOTOR-FUEL CONSUMPTION | H5: 2019
H6: MONTH OF SALE
A7: Federal Highway | H7: May
A8: Administration | H8: UNITS (check one)
H9: Gallons X
H10: Liters
C11: LI | F11: PRIVATE AND COMMERCIAL
B12: ITEM | C12: NE | D12: GASOLINE | E12: GASOHOL | F12: HWY DIESEL | G12: HWY LPG | H12: TOTAL
C13: # | D13: -1 | E13: -2 | F13: -3 | G13: -4 | H13: -5
A14: 1. Gross | B14: a. Gross Volume Reported | C14: 1 | D14: =D15+D21+D22 -> 17731568 | E14: =E15+E21+E22 -> 102214720 | F14: =(F16-F17)/0.26 -> 42431192 | G14: =(G16-G17)/0.23 -> 633182.61 | H14: =SUM(D14:G14) -> 1.6301066e+08
B15: Net After Deduction | D15: 17197874 | E15: 102126565
B16: Special Fuel Tax Receipts ($) | F16: 11246038 | G16: 145632
B17: Special Fuel Tax Refunds ($) | F17: 213928 | G17: 0
A18: Volume | B18: b. IFTA | C18: 2 | F18: =F85 -> 0
A19: 2. Fully | B19: a. Losses - Flat % | C19: 21 | D19: 412535 | E19: 2400398 | H19: =SUM(D19:G19) -> 2812933
A20: Tax | B20: b. Losses - Actual | C20: 22 | D20: 0 | H20: =SUM(D20:G20) -> 0
A21: Exempt | B21: c. Federal | C21: 23 | D21: 65596 | E21: 88155 | H21: =SUM(D21:G21) -> 153751
B22: d. Aviation | C22: 24 | D22: 468098 | E22: 0 | H22: =SUM(D22:G22) -> 468098
B23: e. Native American | C23: 25 | D23: 0 | H23: =SUM(D23:G23) -> 0
B24: f. Assessments | C24: 26 | D24: 99572 | H24: =SUM(D24:G24) -> 99572
B25: g. | C25: 27 | H25: =SUM(D25:G25) -> 0
B26: h. | C26: 28 | H26: =SUM(D26:G26) -> 0
B27: i. | C27: 29 | H27: =SUM(D27:G27) -> 0
B28: j. Total (sum a. through e - f.) | C28: 30 | D28: =SUM(D19:D23)-D24 -> 846657 | E28: =SUM(E19:E23)-E24 -> 2488553 | F28: =SUM(F19:F23)-F24 -> 0 | G28: =SUM(G19:G23)-G24 -> 0 | H28: =SUM(H19:H23)-H24 -> 3335210
A29: 3. Gross Volume Taxed (1-2j) | C29: 40 | D29: =D14-D28 -> 16884911 | E29: =E14-E28 -> 99726167 | F29: =F14+F18-F28 -> 42431192 | G29: =G14-G28 -> 633182.61 | H29: =H14-H28 -> 1.5967545e+08
A30: 4. Fully | B30: a. Agriculture | C30: 51 | D30: 4446 | E30: 5592 | H30: =SUM(D30:G30) -> 10038
A31: Refunded | B31: b. Aviation | C31: 52 | H31: =SUM(D31:G31) -> 0
B32: c. Industrial/Commercial | C32: 53 | H32: =SUM(D32:G32) -> 0
B33: d. Construction | C33: 54 | H33: =SUM(D33:G33) -> 0
B34: e. Marine | C34: 55 | H34: =SUM(D34:G34) -> 0
B35: f. Municipal and Counties | C35: 56 | H35: =SUM(D35:G35) -> 0
B36: g. Other | C36: 57 | D36: 4402 | E36: 4173 | H36: =SUM(D36:G36) -> 8575
B37: h. | C37: 58 | H37: =SUM(D37:G37) -> 0
B38: i. | C38: 59 | H38: =SUM(D38:G38) -> 0
B39: j. | C39: 60 | H39: =SUM(D39:G39) -> 0
B40: k. | C40: 61
B41: l. | C41: 62
B42: m. | C42: 63
B43: n. | C43: 64
B44: o. | C44: 65
B45: p. | C45: 66
B46: q. | C46: 67
B47: r. Total (a. thru s.) | C47: 70 | D47: =SUM(D30:D41) -> 8848 | E47: =SUM(E30:E41) -> 9765 | F47: =SUM(F30:F41) -> 0 | G47: =SUM(G30:G41) -> 0 | H47: =SUM(H30:H41) -> 18613
A48: 5. Net | B48: a. At Full Rate | C48: 81 | D48: =D29-D47 -> 16876063 | E48: =E29-E47 -> 99716402 | F48: =F29-F47 -> 42431192 | G48: =G29-G47 -> 633182.61 | H48: =SUM(D48:G48) -> 1.5965684e+08
A49: Volume | B49: b. | C49: 82
A50: Taxed | B50: c. | C50: 83
A51: Taxed at | B51: d. | C51: 84
A52: initial lower | B52: e. | C52: 85
A53: rate, partially | B53: f. | C53: 86
A54: exempt or | B54: g. | C54: 87
A55: partially | B55: h. | C55: 88
A56: refunded | B56: i. | C56: 89
B57: j. Total (a thru i, 3-4t) | C57: 90 | D57: =SUM(D48:D56) -> 16876063 | E57: =SUM(E48:E56) -> 99716402 | F57: =SUM(F48:F56) -> 42431192 | G57: =SUM(G48:G56) -> 633182.61 | H57: =SUM(H48:H56) -> 1.5965684e+08
B58: Calendar Year Cumulation | D58: =D57+'Apr19'!D58 -> 77496100 | E58: =E57+'Apr19'!E58 -> 465218637 | F58: =F57+'Apr19'!F58 -> 1.8348083e+08 | G58: =G57+'Apr19'!G58 -> 3053365.2 | H58: =H57+'Apr19'!H58 -> 7.2924894e+08
A59: 6. Source | B59: a. Agency Preparing this Report:
B60: Kansas Department of Revenue, Office of Research and Analysis
B61: b. Compiled under Direction of: | G61: c. Date
B62: Mark Burghart, Secretary of Revenue
E63: PREVIOUS EDITIONS OBSOLETE | H63: (Next Page)
E64: 1
H67: =H2 -> STATE
H68: =H3 -> Kansas
D69: NOTES AND TECHNICAL INFORMATION | H69: =H4 -> YEAR
H70: =H5 -> 2019
H71: =H6 -> MONTH OF SALE
H72: =H7 -> May
A73: 1. Rate of tax at end month, in cents-per-gallon/liter. | D73: (If tax is ad valorem, post percentage, and briefly explain application basis below.)
E74: Rate | F74: Effective Date
C75: a. Gasoline | E75: 24¢/gallon | F75: 37803
C76: b. Gasohol | E76: 24¢/gallon | F76: 37803
C77: c. Gasohol E85 | E77: 17¢/gallon | F77: 39083
C78: d. Diesel | E78: 26¢/gallon | F78: 37803
C79: e. LPG | E79: 23¢/gallon | F79: 37803
C80: f. CNG * | E80: 23¢/gallon | F80: 37803
B81: * 120 cubic feet = one gallon
A82: 2. Computation of gross volume reported (page 1, item 1). | F82: Special Fuels
E83: Gasoline and Gasohol | F83: (Diesel and LPG)
B84: Gross sales from wholesaler/retailer returns | E84: =D14+E14 -> 119946288 | F84: =(+F28+F29+G29)-(F85-F86) -> 43064375
B85: Plus: IMC fuel volume used in state | F85: =0/0.26 -> 0
B86: Less: IMC fuel volume purchased tax paid in state
B87: ="= Gross consumption in State (enter on page 1, item 1)" -> = Gross consumption in State (enter on page 1, item 1) | E87: =(E84+E85)-E86 -> 119946288 | F87: =(F84+F85)-F86 -> 43064375
E89: Interstate motor carrier (fuel use tax) fuel volume shown above covers period:
F90: Diesel | G90: LP-Gas | H90: Combined
E91: * page 1, line 1 split | F91: =F14 -> 42431192 | G91: =G14 -> 633182.61 | H91: =F91+G91 -> 43064375
A92: 3. Stratification of gasohol by blend ratio
B94: The gasohol volume on page 1 column (2) includes: | E94: (show actual/estimated volume or percentage shares)
C96: Percent Alcohol | E96: Volume | F96: Percentage Share
D97: 5.7-7.6%
D98: 7.7-9.9%
D99: 10% or more | F99: 1
A101: 4. Notes and comments
A104: Note that diesel gallons include state, county and municipal government highway use, but does not include use by
A105: school buses.
A106: Line #26 (Assessments) - Assessments, either positive or negative, can be the result of audits, amended returns or
A107: office (KS Dept. of Revenue) assessments or abatements.
A124: Form FHWA-551M (Rev. 11-93) | E124: 2

Sheet June19
A1: The public report burden for this information is estimated to average 5.4 hours | H1: Form Approved OMB No. 2125-0032
H2: STATE
A3: U.S. Department of | H3: Kansas
A4: Transportation | H4: YEAR
E5: MONTHLY MOTOR-FUEL CONSUMPTION | H5: 2019
H6: MONTH OF SALE
A7: Federal Highway | H7: June
A8: Administration | H8: UNITS (check one)
H9: Gallons X
H10: Liters
C11: LI | F11: PRIVATE AND COMMERCIAL
B12: ITEM | C12: NE | D12: GASOLINE | E12: GASOHOL | F12: HWY DIESEL | G12: HWY LPG | H12: TOTAL
C13: # | D13: -1 | E13: -2 | F13: -3 | G13: -4 | H13: -5
A14: 1. Gross | B14: a. Gross Volume Reported | C14: 1 | D14: =D15+D21+D22 -> 18148965 | E14: =E15+E21+E22 -> 101109956 | F14: =(F16-F17)/0.26 -> 34440338 | G14: =(G16-G17)/0.23 -> 641304.35 | H14: =SUM(D14:G14) -> 1.5434056e+08
B15: Net After Deduction | D15: 17494023 | E15: 101000207
B16: Special Fuel Tax Receipts ($) | F16: 9168790 | G16: 147500
B17: Special Fuel Tax Refunds ($) | F17: 214302 | G17: 0
A18: Volume | B18: b. IFTA | C18: 2 | F18: =F85 -> 8037723.1
A19: 2. Fully | B19: a. Losses - Flat % | C19: 21 | D19: 420522 | E19: 2373898 | H19: =SUM(D19:G19) -> 2794420
A20: Tax | B20: b. Losses - Actual | C20: 22 | H20: =SUM(D20:G20) -> 0
A21: Exempt | B21: c. Federal | C21: 23 | D21: 65279 | E21: 109749 | H21: =SUM(D21:G21) -> 175028
B22: d. Aviation | C22: 24 | D22: 589663 | E22: 0 | H22: =SUM(D22:G22) -> 589663
B23: e. Native American | C23: 25 | H23: =SUM(D23:G23) -> 0
B24: f. Assessments | C24: 26 | D24: -20047 | H24: =SUM(D24:G24) -> -20047
B25: g. | C25: 27 | H25: =SUM(D25:G25) -> 0
B26: h. | C26: 28 | H26: =SUM(D26:G26) -> 0
B27: i. | C27: 29 | H27: =SUM(D27:G27) -> 0
B28: j. Total (sum a. through e - f.) | C28: 30 | D28: =SUM(D19:D23)-D24 -> 1095511 | E28: =SUM(E19:E23)-E24 -> 2483647 | F28: =SUM(F19:F23)-F24 -> 0 | G28: =SUM(G19:G23)-G24 -> 0 | H28: =SUM(H19:H23)-H24 -> 3579158
A29: 3. Gross Volume Taxed (1-2j) | C29: 40 | D29: =D14-D28 -> 17053454 | E29: =E14-E28 -> 98626309 | F29: =F14+F18-F28 -> 42478062 | G29: =G14-G28 -> 641304.35 | H29: =H14-H28 -> 1.5076141e+08
A30: 4. Fully | B30: a. Agriculture | C30: 51 | D30: 2995 | H30: =SUM(D30:G30) -> 2995
A31: Refunded | B31: b. Aviation | C31: 52 | H31: =SUM(D31:G31) -> 0
B32: c. Industrial/Commercial | C32: 53 | H32: =SUM(D32:G32) -> 0
B33: d. Construction | C33: 54 | H33: =SUM(D33:G33) -> 0
B34: e. Marine | C34: 55 | H34: =SUM(D34:G34) -> 0
B35: f. Municipal and Counties | C35: 56 | H35: =SUM(D35:G35) -> 0
B36: g. Other | C36: 57 | D36: 38096 | E36: 13950 | H36: =SUM(D36:G36) -> 52046
B37: h. | C37: 58 | H37: =SUM(D37:G37) -> 0
B38: i. | C38: 59 | H38: =SUM(D38:G38) -> 0
B39: j. | C39: 60 | H39: =SUM(D39:G39) -> 0
B40: k. | C40: 61
B41: l. | C41: 62
B42: m. | C42: 63
B43: n. | C43: 64
B44: o. | C44: 65
B45: p. | C45: 66
B46: q. | C46: 67
B47: r. Total (a. thru s.) | C47: 70 | D47: =SUM(D30:D41) -> 41091 | E47: =SUM(E30:E41) -> 13950 | F47: =SUM(F30:F41) -> 0 | G47: =SUM(G30:G41) -> 0 | H47: =SUM(H30:H41) -> 55041
A48: 5. Net | B48: a. At Full Rate | C48: 81 | D48: =D29-D47 -> 17012363 | E48: =E29-E47 -> 98612359 | F48: =F29-F47 -> 42478062 | G48: =G29-G47 -> 641304.35 | H48: =SUM(D48:G48) -> 1.5874409e+08
A49: Volume | B49: b. | C49: 82
A50: Taxed | B50: c. | C50: 83
A51: Taxed at | B51: d. | C51: 84
A52: initial lower | B52: e. | C52: 85
A53: rate, partially | B53: f. | C53: 86
A54: exempt or | B54: g. | C54: 87
A55: partially | B55: h. | C55: 88
A56: refunded | B56: i. | C56: 89
B57: j. Total (a thru i, 3-4t) | C57: 90 | D57: =SUM(D48:D56) -> 17012363 | E57: =SUM(E48:E56) -> 98612359 | F57: =SUM(F48:F56) -> 42478062 | G57: =SUM(G48:G56) -> 641304.35 | H57: =SUM(H48:H56) -> 1.5874409e+08
B58: Calendar Year Cumulation | D58: =D57+'May19'!D58 -> 94508463 | E58: =E57+'May19'!E58 -> 563830996 | F58: =F57+'May19'!F58 -> 2.259589e+08 | G58: =G57+'May19'!G58 -> 3694669.6 | H58: =H57+'May19'!H58 -> 8.8799302e+08
A59: 6. Source | B59: a. Agency Preparing this Report:
B60: Kansas Department of Revenue, Office of Research and Analysis
B61: b. Compiled under Direction of: | G61: c. Date
B62: Mark Burghart, Secretary of Revenue
E63: PREVIOUS EDITIONS OBSOLETE | H63: (Next Page)
E64: 1
H67: =H2 -> STATE
H68: =H3 -> Kansas
D69: NOTES AND TECHNICAL INFORMATION | H69: =H4 -> YEAR
H70: =H5 -> 2019
H71: =H6 -> MONTH OF SALE
H72: =H7 -> June
A73: 1. Rate of tax at end month, in cents-per-gallon/liter. | D73: (If tax is ad valorem, post percentage, and briefly explain application basis below.)
E74: Rate | F74: Effective Date
C75: a. Gasoline | E75: 24¢/gallon | F75: 37803
C76: b. Gasohol | E76: 24¢/gallon | F76: 37803
C77: c. Gasohol E85 | E77: 17¢/gallon | F77: 39083
C78: d. Diesel | E78: 26¢/gallon | F78: 37803
C79: e. LPG | E79: 23¢/gallon | F79: 37803
C80: f. CNG * | E80: 23¢/gallon | F80: 37803
B81: * 120 cubic feet = one gallon
A82: 2. Computation of gross volume reported (page 1, item 1). | F82: Special Fuels
E83: Gasoline and Gasohol | F83: (Diesel and LPG)
B84: Gross sales from wholesaler/retailer returns | E84: =D14+E14 -> 119258921 | F84: =(+F28+F29+G29)-(F85-F86) -> 35081643
B85: Plus: IMC fuel volume used in state | F85: =2089808/0.26 -> 8037723.1
B86: Less: IMC fuel volume purchased tax paid in state
B87: ="= Gross consumption in State (enter on page 1, item 1)" -> = Gross consumption in State (enter on page 1, item 1) | E87: =(E84+E85)-E86 -> 119258921 | F87: =(F84+F85)-F86 -> 43119366
E89: Interstate motor carrier (fuel use tax) fuel volume shown above covers period:
F90: Diesel | G90: LP-Gas | H90: Combined
E91: * page 1, line 1 split | F91: =F14 -> 34440338 | G91: =G14 -> 641304.35 | H91: =F91+G91 -> 35081643
A92: 3. Stratification of gasohol by blend ratio
B94: The gasohol volume on page 1 column (2) includes: | E94: (show actual/estimated volume or percentage shares)
C96: Percent Alcohol | E96: Volume | F96: Percentage Share
D97: 5.7-7.6%
D98: 7.7-9.9%
D99: 10% or more | F99: 1
A101: 4. Notes and comments
A104: Note that diesel gallons include state, county and municipal government highway use, but does not include use by
A105: school buses.
A106: Line #26 (Assessments) - Assessments, either positive or negative, can be the result of audits, amended returns or
A107: office (KS Dept. of Revenue) assessments or abatements.
A124: Form FHWA-551M (Rev. 11-93) | E124: 2

Sheet Jul19
A1: The public report burden for this information is estimated to average 5.4 hours | H1: Form Approved OMB No. 2125-0032
H2: STATE
A3: U.S. Department of | H3: Kansas
A4: Transportation | H4: YEAR
E5: MONTHLY MOTOR-FUEL CONSUMPTION | H5: 2019
H6: MONTH OF SALE
A7: Federal Highway | H7: July
A8: Administration | H8: UNITS (check one)
H9: Gallons X
H10: Liters
C11: LI | F11: PRIVATE AND COMMERCIAL
B12: ITEM | C12: NE | D12: GASOLINE | E12: GASOHOL | F12: HWY DIESEL | G12: HWY LPG | H12: TOTAL
C13: # | D13: -1 | E13: -2 | F13: -3 | G13: -4 | H13: -5
A14: 1. Gross | B14: a. Gross Volume Reported | C14: 1 | D14: =D15+D21+D22 -> 19689524 | E14: =E15+E21+E22 -> 103327019 | F14: =(F16-F17)/0.26 -> 42591562 | G14: =(G16-G17)/0.23 -> 1132269.6 | H14: =SUM(D14:G14) -> 1.6674037e+08
B15: Net After Deduction | D15: 18840997 | E15: 103231077
B16: Special Fuel Tax Receipts ($) | F16: 11513442 | G16: 260422
B17: Special Fuel Tax Refunds ($) | F17: 439636 | G17: 0
A18: Volume | B18: b. IFTA | C18: 2 | F18: =F85 -> 0
A19: 2. Fully | B19: a. Losses - Flat % | C19: 21 | D19: 453601 | E19: 2422706 | H19: =SUM(D19:G19) -> 2876307
A20: Tax | B20: b. Losses - Actual | C20: 22 | D20: 0 | E20: 0 | H20: =SUM(D20:G20) -> 0
A21: Exempt | B21: c. Federal | C21: 23 | D21: 71721 | E21: 95942 | H21: =SUM(D21:G21) -> 167663
B22: d. Aviation | C22: 24 | D22: 776806 | E22: 0 | H22: =SUM(D22:G22) -> 776806
B23: e. Native American | C23: 25 | H23: =SUM(D23:G23) -> 0
B24: f. Assessments | C24: 26 | D24: 16861 | H24: =SUM(D24:G24) -> 16861
B25: g. | C25: 27 | H25: =SUM(D25:G25) -> 0
B26: h. | C26: 28 | H26: =SUM(D26:G26) -> 0
B27: i. | C27: 29 | H27: =SUM(D27:G27) -> 0
B28: j. Total (sum a. through e - f.) | C28: 30 | D28: =SUM(D19:D23)-D24 -> 1285267 | E28: =SUM(E19:E23)-E24 -> 2518648 | F28: =SUM(F19:F23)-F24 -> 0 | G28: =SUM(G19:G23)-G24 -> 0 | H28: =SUM(H19:H23)-H24 -> 3803915
A29: 3. Gross Volume Taxed (1-2j) | C29: 40 | D29: =D14-D28 -> 18404257 | E29: =E14-E28 -> 100808371 | F29: =F14+F18-F28 -> 42591562 | G29: =G14-G28 -> 1132269.6 | H29: =H14-H28 -> 1.6293646e+08
A30: 4. Fully | B30: a. Agriculture | C30: 51 | D30: 4433 | E30: 5763 | H30: =SUM(D30:G30) -> 10196
A31: Refunded | B31: b. Aviation | C31: 52 | H31: =SUM(D31:G31) -> 0
B32: c. Industrial/Commercial | C32: 53 | H32: =SUM(D32:G32) -> 0
B33: d. Construction | C33: 54 | H33: =SUM(D33:G33) -> 0
B34: e. Marine | C34: 55 | H34: =SUM(D34:G34) -> 0
B35: f. Municipal and Counties | C35: 56 | H35: =SUM(D35:G35) -> 0
B36: g. Other | C36: 57 | D36: 164252 | E36: 7988 | H36: =SUM(D36:G36) -> 172240
B37: h. | C37: 58 | H37: =SUM(D37:G37) -> 0
B38: i. | C38: 59 | H38: =SUM(D38:G38) -> 0
B39: j. | C39: 60 | H39: =SUM(D39:G39) -> 0
B40: k. | C40: 61
B41: l. | C41: 62
B42: m. | C42: 63
B43: n. | C43: 64
B44: o. | C44: 65
B45: p. | C45: 66
B46: q. | C46: 67
B47: r. Total (a. thru s.) | C47: 70 | D47: =SUM(D30:D41) -> 168685 | E47: =SUM(E30:E41) -> 13751 | F47: =SUM(F30:F41) -> 0 | G47: =SUM(G30:G41) -> 0 | H47: =SUM(H30:H41) -> 182436
A48: 5. Net | B48: a. At Full Rate | C48: 81 | D48: =D29-D47 -> 18235572 | E48: =E29-E47 -> 100794620 | F48: =F29-F47 -> 42591562 | G48: =G29-G47 -> 1132269.6 | H48: =SUM(D48:G48) -> 1.6275402e+08
A49: Volume | B49: b. | C49: 82
A50: Taxed | B50: c. | C50: 83
A51: Taxed at | B51: d. | C51: 84
A52: initial lower | B52: e. | C52: 85
A53: rate, partially | B53: f. | C53: 86
A54: exempt or | B54: g. | C54: 87
A55: partially | B55: h. | C55: 88
A56: refunded | B56: i. | C56: 89
B57: j. Total (a thru i, 3-4t) | C57: 90 | D57: =SUM(D48:D56) -> 18235572 | E57: =SUM(E48:E56) -> 100794620 | F57: =SUM(F48:F56) -> 42591562 | G57: =SUM(G48:G56) -> 1132269.6 | H57: =SUM(H48:H56) -> 1.6275402e+08
B58: Calendar Year Cumulation | D58: =D57+June19!D58 -> 1.1274403e+08 | E58: =E57+June19!E58 -> 664625616 | F58: =F57+June19!F58 -> 2.6855046e+08 | G58: =G57+June19!G58 -> 4826939.1 | H58: =H57+June19!H58 -> 1.050747e+09
A59: 6. Source | B59: a. Agency Preparing this Report:
B60: Kansas Department of Revenue, Office of Research and Analysis
B61: b. Compiled under Direction of: | G61: c. Date
B62: Mark Burghart, Secretary of Revenue
E63: PREVIOUS EDITIONS OBSOLETE | H63: (Next Page)
E64: 1
H67: =H2 -> STATE
H68: =H3 -> Kansas
D69: NOTES AND TECHNICAL INFORMATION | H69: =H4 -> YEAR
H70: =H5 -> 2019
H71: =H6 -> MONTH OF SALE
H72: =H7 -> July
A73: 1. Rate of tax at end month, in cents-per-gallon/liter. | D73: (If tax is ad valorem, post percentage, and briefly explain application basis below.)
E74: Rate | F74: Effective Date
C75: a. Gasoline | E75: 24¢/gallon | F75: 37803
C76: b. Gasohol | E76: 24¢/gallon | F76: 37803
C77: c. Gasohol E85 | E77: 17¢/gallon | F77: 39083
C78: d. Diesel | E78: 26¢/gallon | F78: 37803
C79: e. LPG | E79: 23¢/gallon | F79: 37803
C80: f. CNG * | E80: 23¢/gallon | F80: 37803
B81: * 120 cubic feet = one gallon
A82: 2. Computation of gross volume reported (page 1, item 1). | F82: Special Fuels
E83: Gasoline and Gasohol | F83: (Diesel and LPG)
B84: Gross sales from wholesaler/retailer returns | E84: =D14+E14 -> 123016543 | F84: =(+F28+F29+G29)-(F85-F86) -> 43723831
B85: Plus: IMC fuel volume used in state
B86: Less: IMC fuel volume purchased tax paid in state
B87: ="= Gross consumption in State (enter on page 1, item 1)" -> = Gross consumption in State (enter on page 1, item 1) | E87: =(E84+E85)-E86 -> 123016543 | F87: =(F84+F85)-F86 -> 43723831
E89: Interstate motor carrier (fuel use tax) fuel volume shown above covers period:
F90: Diesel | G90: LP-Gas | H90: Combined
E91: * page 1, line 1 split | F91: =F14 -> 42591562 | G91: =G14 -> 1132269.6 | H91: =F91+G91 -> 43723831
A92: 3. Stratification of gasohol by blend ratio
B94: The gasohol volume on page 1 column (2) includes: | E94: (show actual/estimated volume or percentage shares)
C96: Percent Alcohol | E96: Volume | F96: Percentage Share
D97: 5.7-7.6%
D98: 7.7-9.9%
D99: 10% or more | F99: 1
A101: 4. Notes and comments
A104: Note that diesel gallons include state, county and municipal government highway use, but does not include use by
A105: school buses.
A106: Line #26 (Assessments) - Assessments, either positive or negative, can be the result of audits, amended returns or
A107: office (KS Dept. of Revenue) assessments or abatements.
A124: Form FHWA-551M (Rev. 11-93) | E124: 2

Sheet Aug19
A1: The public report burden for this information is estimated to average 5.4 hours | H1: Form Approved OMB No. 2125-0032
H2: STATE
A3: U.S. Department of | H3: Kansas
A4: Transportation | H4: YEAR
E5: MONTHLY MOTOR-FUEL CONSUMPTION | H5: 2019
H6: MONTH OF SALE
A7: Federal Highway | H7: August
A8: Administration | H8: UNITS (check one)
H9: Gallons X
H10: Liters
C11: LI | F11: PRIVATE AND COMMERCIAL
B12: ITEM | C12: NE | D12: GASOLINE | E12: GASOHOL | F12: HWY DIESEL | G12: HWY LPG | H12: TOTAL
C13: # | D13: -1 | E13: -2 | F13: -3 | G13: -4 | H13: -5
A14: 1. Gross | B14: a. Gross Volume Reported | C14: 1 | D14: =D15+D21+D22 -> 18058399 | E14: =E15+E21+E22 -> 102421611 | F14: =(F16-F17)/0.26 -> 41454446 | G14: =(G16-G17)/0.23 -> 744060.87 | H14: =SUM(D14:G14) -> 1.6267852e+08
B15: Net After Deduction | D15: 17353945 | E15: 102329764
B16: Special Fuel Tax Receipts ($) | F16: 10986847 | G16: 171134
B17: Special Fuel Tax Refunds ($) | F17: 208691 | G17: 0
A18: Volume | B18: b. IFTA | C18: 2 | F18: =F85 -> 0
A19: 2. Fully | B19: a. Losses - Flat % | C19: 21 | D19: 417920 | E19: 2394817 | H19: =SUM(D19:G19) -> 2812737
A20: Tax | B20: b. Losses - Actual | C20: 22 | E20: 4874 | H20: =SUM(D20:G20) -> 4874
A21: Exempt | B21: c. Federal | C21: 23 | D21: 71010 | E21: 91847 | H21: =SUM(D21:G21) -> 162857
B22: d. Aviation | C22: 24 | D22: 633444 | E22: 0 | H22: =SUM(D22:G22) -> 633444
B23: e. Native American | C23: 25 | H23: =SUM(D23:G23) -> 0
B24: f. Assessments | C24: 26 | D24: 255.9 | H24: =SUM(D24:G24) -> 255.9
B25: g. | C25: 27 | H25: =SUM(D25:G25) -> 0
B26: h. | C26: 28 | H26: =SUM(D26:G26) -> 0
B27: i. | C27: 29 | H27: =SUM(D27:G27) -> 0
B28: j. Total (sum a. through e - f.) | C28: 30 | D28: =SUM(D19:D23)-D24 -> 1122118.1 | E28: =SUM(E19:E23)-E24 -> 2491538 | F28: =SUM(F19:F23)-F24 -> 0 | G28: =SUM(G19:G23)-G24 -> 0 | H28: =SUM(H19:H23)-H24 -> 3613656.1
A29: 3. Gross Volume Taxed (1-2j) | C29: 40 | D29: =D14-D28 -> 16936281 | E29: =E14-E28 -> 99930073 | F29: =F14+F18-F28 -> 41454446 | G29: =G14-G28 -> 744060.87 | H29: =H14-H28 -> 1.5906486e+08
A30: 4. Fully | B30: a. Agriculture | C30: 51 | D30: 4433 | E30: 5763 | H30: =SUM(D30:G30) -> 10196
A31: Refunded | B31: b. Aviation | C31: 52 | H31: =SUM(D31:G31) -> 0
B32: c. Industrial/Commercial | C32: 53 | H32: =SUM(D32:G32) -> 0
B33: d. Construction | C33: 54 | H33: =SUM(D33:G33) -> 0
B34: e. Marine | C34: 55 | H34: =SUM(D34:G34) -> 0
B35: f. Municipal and Counties | C35: 56 | H35: =SUM(D35:G35) -> 0
B36: g. Other | C36: 57 | D36: 164252 | E36: 7988 | H36: =SUM(D36:G36) -> 172240
B37: h. | C37: 58 | H37: =SUM(D37:G37) -> 0
B38: i. | C38: 59 | H38: =SUM(D38:G38) -> 0
B39: j. | C39: 60 | H39: =SUM(D39:G39) -> 0
B40: k. | C40: 61
B41: l. | C41: 62
B42: m. | C42: 63
B43: n. | C43: 64
B44: o. | C44: 65
B45: p. | C45: 66
B46: q. | C46: 67
B47: r. Total (a. thru s.) | C47: 70 | D47: =SUM(D30:D41) -> 168685 | E47: =SUM(E30:E41) -> 13751 | F47: =SUM(F30:F41) -> 0 | G47: =SUM(G30:G41) -> 0 | H47: =SUM(H30:H41) -> 182436
A48: 5. Net | B48: a. At Full Rate | C48: 81 | D48: =D29-D47 -> 16767596 | E48: =E29-E47 -> 99916322 | F48: =F29-F47 -> 41454446 | G48: =G29-G47 -> 744060.87 | H48: =SUM(D48:G48) -> 1.5888242e+08
A49: Volume | B49: b. | C49: 82
A50: Taxed | B50: c. | C50: 83
A51: Taxed at | B51: d. | C51: 84
A52: initial lower | B52: e. | C52: 85
A53: rate, partially | B53: f. | C53: 86
A54: exempt or | B54: g. | C54: 87
A55: partially | B55: h. | C55: 88
A56: refunded | B56: i. | C56: 89
B57: j. Total (a thru i, 3-4t) | C57: 90 | D57: =SUM(D48:D56) -> 16767596 | E57: =SUM(E48:E56) -> 99916322 | F57: =SUM(F48:F56) -> 41454446 | G57: =SUM(G48:G56) -> 744060.87 | H57: =SUM(H48:H56) -> 1.5888242e+08
B58: Calendar Year Cumulation | D58: =D57+'Jul19'!D58 -> 1.2951163e+08 | E58: =E57+'Jul19'!E58 -> 764541938 | F58: =F57+'Jul19'!F58 -> 3.100049e+08 | G58: =G57+'Jul19'!G58 -> 5571000 | H58: =H57+'Jul19'!H58 -> 1.2096295e+09
A59: 6. Source | B59: a. Agency Preparing this Report:
B60: Kansas Department of Revenue, Office of Research and Analysis
B61: b. Compiled under Direction of: | G61: c. Date
B62: Mark Burghart, Secretary of Revenue
E63: PREVIOUS EDITIONS OBSOLETE | H63: (Next Page)
E64: 1
H67: =H2 -> STATE
H68: =H3 -> Kansas
D69: NOTES AND TECHNICAL INFORMATION | H69: =H4 -> YEAR
H70: =H5 -> 2019
H71: =H6 -> MONTH OF SALE
H72: =H7 -> August
A73: 1. Rate of tax at end month, in cents-per-gallon/liter. | D73: (If tax is ad valorem, post percentage, and briefly explain application basis below.)
E74: Rate | F74: Effective Date
C75: a. Gasoline | E75: 24¢/gallon | F75: 37803
C76: b. Gasohol | E76: 24¢/gallon | F76: 37803
C77: c. Gasohol E85 | E77: 17¢/gallon | F77: 39083
C78: d. Diesel | E78: 26¢/gallon | F78: 37803
C79: e. LPG | E79: 23¢/gallon | F79: 37803
C80: f. CNG * | E80: 23¢/gallon | F80: 37803
B81: * 120 cubic feet = one gallon
A82: 2. Computation of gross volume reported (page 1, item 1). | F82: Special Fuels
E83: Gasoline and Gasohol | F83: (Diesel and LPG)
B84: Gross sales from wholesaler/retailer returns | E84: =D14+E14 -> 120480010 | F84: =(+F28+F29+G29)-(F85-F86) -> 42198507
B85: Plus: IMC fuel volume used in state
B86: Less: IMC fuel volume purchased tax paid in state
B87: ="= Gross consumption in State (enter on page 1, item 1)" -> = Gross consumption in State (enter on page 1, item 1) | E87: =(E84+E85)-E86 -> 120480010 | F87: =(F84+F85)-F86 -> 42198507
E89: Interstate motor carrier (fuel use tax) fuel volume shown above covers period:
F90: Diesel | G90: LP-Gas | H90: Combined
E91: * page 1, line 1 split | F91: =F14 -> 41454446 | G91: =G14 -> 744060.87 | H91: =F91+G91 -> 42198507
A92: 3. Stratification of gasohol by blend ratio
B94: The gasohol volume on page 1 column (2) includes: | E94: (show actual/estimated volume or percentage shares)
C96: Percent Alcohol | E96: Volume | F96: Percentage Share
D97: 5.7-7.6%
D98: 7.7-9.9%
D99: 10% or more | F99: 1
A101: 4. Notes and comments
A104: Note that diesel gallons include state, county and municipal government highway use, but does not include use by
A105: school buses.
A106: Line #26 (Assessments) - Assessments, either positive or negative, can be the result of audits, amended returns or
A107: office (KS Dept. of Revenue) assessments or abatements.
A124: Form FHWA-551M (Rev. 11-93) | E124: 2

Sheet Sep19
A1: The public report burden for this information is estimated to average 5.4 hours | H1: Form Approved OMB No. 2125-0032
H2: STATE
A3: U.S. Department of | H3: Kansas
A4: Transportation | H4: YEAR
E5: MONTHLY MOTOR-FUEL CONSUMPTION | H5: 2019
H6: MONTH OF SALE
A7: Federal Highway | H7: September
A8: Administration | H8: UNITS (check one)
H9: Gallons X
H10: Liters
C11: LI | F11: PRIVATE AND COMMERCIAL
B12: ITEM | C12: NE | D12: GASOLINE | E12: GASOHOL | F12: HWY DIESEL | G12: HWY LPG | H12: TOTAL
C13: # | D13: -1 | E13: -2 | F13: -3 | G13: -4 | H13: -5
A14: 1. Gross | B14: a. Gross Volume Reported | C14: 1 | D14: =D15+D21+D22 -> 17688893 | E14: =E15+E21+E22 -> 97295222 | F14: =(F16-F17)/0.26 -> 39305465 | G14: =(G16-G17)/0.23 -> 544865.22 | H14: =SUM(D14:G14) -> 1.5483445e+08
B15: Net After Deduction | D15: 16984100 | E15: 96856536
B16: Special Fuel Tax Receipts ($) | F16: 10408092 | G16: 125319
B17: Special Fuel Tax Refunds ($) | F17: 188671 | G17: 0
A18: Volume | B18: b. IFTA | C18: 2 | F18: =F85 -> 10042269
A19: 2. Fully | B19: a. Losses - Flat % | C19: 21 | D19: 408642 | E19: 2267367 | H19: =SUM(D19:G19) -> 2676009
A20: Tax | B20: b. Losses - Actual | C20: 22 | E20: 0 | H20: =SUM(D20:G20) -> 0
A21: Exempt | B21: c. Federal | C21: 23 | D21: 66854 | E21: 438686 | H21: =SUM(D21:G21) -> 505540
B22: d. Aviation | C22: 24 | D22: 637939 | E22: 0 | H22: =SUM(D22:G22) -> 637939
B23: e. Native American | C23: 25 | H23: =SUM(D23:G23) -> 0
B24: f. Assessments | C24: 26 | D24: 4971 | H24: =SUM(D24:G24) -> 4971
B25: g. | C25: 27 | H25: =SUM(D25:G25) -> 0
B26: h. | C26: 28 | H26: =SUM(D26:G26) -> 0
B27: i. | C27: 29 | H27: =SUM(D27:G27) -> 0
B28: j. Total (sum a. through e - f.) | C28: 30 | D28: =SUM(D19:D23)-D24 -> 1108464 | E28: =SUM(E19:E23)-E24 -> 2706053 | F28: =SUM(F19:F23)-F24 -> 0 | G28: =SUM(G19:G23)-G24 -> 0 | H28: =SUM(H19:H23)-H24 -> 3814517
A29: 3. Gross Volume Taxed (1-2j) | C29: 40 | D29: =D14-D28 -> 16580429 | E29: =E14-E28 -> 94589169 | F29: =F14+F18-F28 -> 49347735 | G29: =G14-G28 -> 544865.22 | H29: =H14-H28 -> 1.5101993e+08
A30: 4. Fully | B30: a. Agriculture | C30: 51 | D30: 2163 | H30: =SUM(D30:G30) -> 2163
A31: Refunded | B31: b. Aviation | C31: 52 | H31: =SUM(D31:G31) -> 0
B32: c. Industrial/Commercial | C32: 53 | H32: =SUM(D32:G32) -> 0
B33: d. Construction | C33: 54 | H33: =SUM(D33:G33) -> 0
B34: e. Marine | C34: 55 | H34: =SUM(D34:G34) -> 0
B35: f. Municipal and Counties | C35: 56 | H35: =SUM(D35:G35) -> 0
B36: g. Other | C36: 57 | D36: 18139 | E36: 326421 | H36: =SUM(D36:G36) -> 344560
B37: h. | C37: 58 | H37: =SUM(D37:G37) -> 0
B38: i. | C38: 59 | H38: =SUM(D38:G38) -> 0
B39: j. | C39: 60 | H39: =SUM(D39:G39) -> 0
B40: k. | C40: 61
B41: l. | C41: 62
B42: m. | C42: 63
B43: n. | C43: 64
B44: o. | C44: 65
B45: p. | C45: 66
B46: q. | C46: 67
B47: r. Total (a. thru s.) | C47: 70 | D47: =SUM(D30:D41) -> 20302 | E47: =SUM(E30:E41) -> 326421 | F47: =SUM(F30:F41) -> 0 | G47: =SUM(G30:G41) -> 0 | H47: =SUM(H30:H41) -> 346723
A48: 5. Net | B48: a. At Full Rate | C48: 81 | D48: =D29-D47 -> 16560127 | E48: =E29-E47 -> 94262748 | F48: =F29-F47 -> 49347735 | G48: =G29-G47 -> 544865.22 | H48: =SUM(D48:G48) -> 1.6071547e+08
A49: Volume | B49: b. | C49: 82
A50: Taxed | B50: c. | C50: 83
A51: Taxed at | B51: d. | C51: 84
A52: initial lower | B52: e. | C52: 85
A53: rate, partially | B53: f. | C53: 86
A54: exempt or | B54: g. | C54: 87
A55: partially | B55: h. | C55: 88
A56: refunded | B56: i. | C56: 89
B57: j. Total (a thru i, 3-4t) | C57: 90 | D57: =SUM(D48:D56) -> 16560127 | E57: =SUM(E48:E56) -> 94262748 | F57: =SUM(F48:F56) -> 49347735 | G57: =SUM(G48:G56) -> 544865.22 | H57: =SUM(H48:H56) -> 1.6071547e+08
B58: Calendar Year Cumulation | D58: =D57+'Aug19'!D58 -> 1.4607176e+08 | E58: =E57+'Aug19'!E58 -> 858804686 | F58: =F57+'Aug19'!F58 -> 3.5935264e+08 | G58: =G57+'Aug19'!G58 -> 6115865.2 | H58: =H57+'Aug19'!H58 -> 1.3703449e+09
A59: 6. Source | B59: a. Agency Preparing this Report:
B60: Kansas Department of Revenue, Office of Research and Analysis
B61: b. Compiled under Direction of: | G61: c. Date
B62: Mark Burghart, Secretary of Revenue
E63: PREVIOUS EDITIONS OBSOLETE | H63: (Next Page)
E64: 1
H67: =H2 -> STATE
H68: =H3 -> Kansas
D69: NOTES AND TECHNICAL INFORMATION | H69: =H4 -> YEAR
H70: =H5 -> 2019
H71: =H6 -> MONTH OF SALE
H72: =H7 -> September
A73: 1. Rate of tax at end month, in cents-per-gallon/liter. | D73: (If tax is ad valorem, post percentage, and briefly explain application basis below.)
E74: Rate | F74: Effective Date
C75: a. Gasoline | E75: 24¢/gallon | F75: 37803
C76: b. Gasohol | E76: 24¢/gallon | F76: 37803
C77: c. Gasohol E85 | E77: 17¢/gallon | F77: 39083
C78: d. Diesel | E78: 26¢/gallon | F78: 37803
C79: e. LPG | E79: 23¢/gallon | F79: 37803
C80: f. CNG * | E80: 23¢/gallon | F80: 37803
B81: * 120 cubic feet = one gallon
A82: 2. Computation of gross volume reported (page 1, item 1). | F82: Special Fuels
E83: Gasoline and Gasohol | F83: (Diesel and LPG)
B84: Gross sales from wholesaler/retailer returns | E84: =D14+E14 -> 114984115 | F84: =(+F28+F29+G29)-(F85-F86) -> 39850331
B85: Plus: IMC fuel volume used in state | F85: =2610990/0.26 -> 10042269
B86: Less: IMC fuel volume purchased tax paid in state
B87: ="= Gross consumption in State (enter on page 1, item 1)" -> = Gross consumption in State (enter on page 1, item 1) | E87: =(E84+E85)-E86 -> 114984115 | F87: =(F84+F85)-F86 -> 49892600
E89: Interstate motor carrier (fuel use tax) fuel volume shown above covers period:
F90: Diesel | G90: LP-Gas | H90: Combined
E91: * page 1, line 1 split | F91: =F14 -> 39305465 | G91: =G14 -> 544865.22 | H91: =F91+G91 -> 39850331
A92: 3. Stratification of gasohol by blend ratio
B94: The gasohol volume on page 1 column (2) includes: | E94: (show actual/estimated volume or percentage shares)
C96: Percent Alcohol | E96: Volume | F96: Percentage Share
D97: 5.7-7.6%
D98: 7.7-9.9%
D99: 10% or more | F99: 1
A101: 4. Notes and comments
A104: Note that diesel gallons include state, county and municipal government highway use, but does not include use by
A105: school buses.
A106: Line #26 (Assessments) - Assessments, either positive or negative, can be the result of audits, amended returns or
A107: office (KS Dept. of Revenue) assessments or abatements.
A124: Form FHWA-551M (Rev. 11-93) | E124: 2

Sheet Oct19
A1: The public report burden for this information is estimated to average 5.4 hours | H1: Form Approved OMB No. 2125-0032
H2: STATE
A3: U.S. Department of | H3: Kansas
A4: Transportation | H4: YEAR
E5: MONTHLY MOTOR-FUEL CONSUMPTION | H5: 2019
H6: MONTH OF SALE
A7: Federal Highway | H7: October
A8: Administration | H8: UNITS (check one)
H9: Gallons X
H10: Liters
C11: LI | F11: PRIVATE AND COMMERCIAL
B12: ITEM | C12: NE | D12: GASOLINE | E12: GASOHOL | F12: HWY DIESEL | G12: HWY LPG | H12: TOTAL
C13: # | D13: -1 | E13: -2 | F13: -3 | G13: -4 | H13: -5
A14: 1. Gross | B14: a. Gross Volume Reported | C14: 1 | D14: =D15+D21+D22 -> 18344144 | E14: =E15+E21+E22 -> 102163679 | F14: =(F16-F17)/0.26 -> 40701554 | G14: =(G16-G17)/0.23 -> 692765.22 | H14: =SUM(D14:G14) -> 1.6190214e+08
B15: Net After Deduction | D15: 17770437 | E15: 102059506
B16: Special Fuel Tax Receipts ($) | F16: 10725939 | G16: 159336
B17: Special Fuel Tax Refunds ($) | F17: 143535 | G17: 0
A18: Volume | B18: b. IFTA | C18: 2 | F18: =F85 -> 0
A19: 2. Fully | B19: a. Losses - Flat % | C19: 21 | D19: 428418 | E19: 2388735 | H19: =SUM(D19:G19) -> 2817153
A20: Tax | B20: b. Losses - Actual | C20: 22 | E20: 0 | H20: =SUM(D20:G20) -> 0
A21: Exempt | B21: c. Federal | C21: 23 | D21: 63749 | E21: 104173 | H21: =SUM(D21:G21) -> 167922
B22: d. Aviation | C22: 24 | D22: 509958 | E22: 0 | H22: =SUM(D22:G22) -> 509958
B23: e. Native American | C23: 25 | H23: =SUM(D23:G23) -> 0
B24: f. Assessments | C24: 26 | D24: -14453 | H24: =SUM(D24:G24) -> -14453
B25: g. | C25: 27 | H25: =SUM(D25:G25) -> 0
B26: h. | C26: 28 | H26: =SUM(D26:G26) -> 0
B27: i. | C27: 29 | H27: =SUM(D27:G27) -> 0
B28: j. Total (sum a. through e - f.) | C28: 30 | D28: =SUM(D19:D23)-D24 -> 1016578 | E28: =SUM(E19:E23)-E24 -> 2492908 | F28: =SUM(F19:F23)-F24 -> 0 | G28: =SUM(G19:G23)-G24 -> 0 | H28: =SUM(H19:H23)-H24 -> 3509486
A29: 3. Gross Volume Taxed (1-2j) | C29: 40 | D29: =D14-D28 -> 17327566 | E29: =E14-E28 -> 99670771 | F29: =F14+F18-F28 -> 40701554 | G29: =G14-G28 -> 692765.22 | H29: =H14-H28 -> 1.5839266e+08
A30: 4. Fully | B30: a. Agriculture | C30: 51 | D30: 11771 | E30: 3679 | H30: =SUM(D30:G30) -> 15450
A31: Refunded | B31: b. Aviation | C31: 52 | H31: =SUM(D31:G31) -> 0
B32: c. Industrial/Commercial | C32: 53 | H32: =SUM(D32:G32) -> 0
B33: d. Construction | C33: 54 | H33: =SUM(D33:G33) -> 0
B34: e. Marine | C34: 55 | H34: =SUM(D34:G34) -> 0
B35: f. Municipal and Counties | C35: 56 | H35: =SUM(D35:G35) -> 0
B36: g. Other | C36: 57 | D36: 69034 | E36: 1631 | H36: =SUM(D36:G36) -> 70665
B37: h. | C37: 58 | H37: =SUM(D37:G37) -> 0
B38: i. | C38: 59 | H38: =SUM(D38:G38) -> 0
B39: j. | C39: 60 | H39: =SUM(D39:G39) -> 0
B40: k. | C40: 61
B41: l. | C41: 62
B42: m. | C42: 63
B43: n. | C43: 64
B44: o. | C44: 65
B45: p. | C45: 66
B46: q. | C46: 67
B47: r. Total (a. thru s.) | C47: 70 | D47: =SUM(D30:D41) -> 80805 | E47: =SUM(E30:E41) -> 5310 | F47: =SUM(F30:F41) -> 0 | G47: =SUM(G30:G41) -> 0 | H47: =SUM(H30:H41) -> 86115
A48: 5. Net | B48: a. At Full Rate | C48: 81 | D48: =D29-D47 -> 17246761 | E48: =E29-E47 -> 99665461 | F48: =F29-F47 -> 40701554 | G48: =G29-G47 -> 692765.22 | H48: =SUM(D48:G48) -> 1.5830654e+08
A49: Volume | B49: b. | C49: 82
A50: Taxed | B50: c. | C50: 83
A51: Taxed at | B51: d. | C51: 84
A52: initial lower | B52: e. | C52: 85
A53: rate, partially | B53: f. | C53: 86
A54: exempt or | B54: g. | C54: 87
A55: partially | B55: h. | C55: 88
A56: refunded | B56: i. | C56: 89
B57: j. Total (a thru i, 3-4t) | C57: 90 | D57: =SUM(D48:D56) -> 17246761 | E57: =SUM(E48:E56) -> 99665461 | F57: =SUM(F48:F56) -> 40701554 | G57: =SUM(G48:G56) -> 692765.22 | H57: =SUM(H48:H56) -> 1.5830654e+08
B58: Calendar Year Cumulation | D58: =D57+'Sep19'!D58 -> 1.6331852e+08 | E58: =E57+'Sep19'!E58 -> 958470147 | F58: =F57+'Sep19'!F58 -> 4.0005419e+08 | G58: =G57+'Sep19'!G58 -> 6808630.4 | H58: =H57+'Sep19'!H58 -> 1.5286515e+09
A59: 6. Source | B59: a. Agency Preparing this Report:
B60: Kansas Department of Revenue, Office of Research and Analysis
B61: b. Compiled under Direction of: | G61: c. Date
B62: Mark Burghart, Secretary of Revenue
E63: PREVIOUS EDITIONS OBSOLETE | H63: (Next Page)
E64: 1
H67: =H2 -> STATE
H68: =H3 -> Kansas
D69: NOTES AND TECHNICAL INFORMATION | H69: =H4 -> YEAR
H70: =H5 -> 2019
H71: =H6 -> MONTH OF SALE
H72: =H7 -> October
A73: 1. Rate of tax at end month, in cents-per-gallon/liter. | D73: (If tax is ad valorem, post percentage, and briefly explain application basis below.)
E74: Rate | F74: Effective Date
C75: a. Gasoline | E75: 24¢/gallon | F75: 37803
C76: b. Gasohol | E76: 24¢/gallon | F76: 37803
C77: c. Gasohol E85 | E77: 17¢/gallon | F77: 39083
C78: d. Diesel | E78: 26¢/gallon | F78: 37803
C79: e. LPG | E79: 23¢/gallon | F79: 37803
C80: f. CNG * | E80: 23¢/gallon | F80: 37803
B81: * 120 cubic feet = one gallon
A82: 2. Computation of gross volume reported (page 1, item 1). | F82: Special Fuels
E83: Gasoline and Gasohol | F83: (Diesel and LPG)
B84: Gross sales from wholesaler/retailer returns | E84: =D14+E14 -> 120507823 | F84: =(+F28+F29+G29)-(F85-F86) -> 41394319
B85: Plus: IMC fuel volume used in state
B86: Less: IMC fuel volume purchased tax paid in state
B87: ="= Gross consumption in State (enter on page 1, item 1)" -> = Gross consumption in State (enter on page 1, item 1) | E87: =(E84+E85)-E86 -> 120507823 | F87: =(F84+F85)-F86 -> 41394319
E89: Interstate motor carrier (fuel use tax) fuel volume shown above covers period:
F90: Diesel | G90: LP-Gas | H90: Combined
E91: * page 1, line 1 split | F91: =F14 -> 40701554 | G91: =G14 -> 692765.22 | H91: =F91+G91 -> 41394319
A92: 3. Stratification of gasohol by blend ratio
B94: The gasohol volume on page 1 column (2) includes: | E94: (show actual/estimated volume or percentage shares)
C96: Percent Alcohol | E96: Volume | F96: Percentage Share
D97: 5.7-7.6%
D98: 7.7-9.9%
D99: 10% or more | F99: 1
A101: 4. Notes and comments
A104: Note that diesel gallons include state, county and municipal government highway use, but does not include use by
A105: school buses.
A106: Line #26 (Assessments) - Assessments, either positive or negative, can be the result of audits, amended returns or
A107: office (KS Dept. of Revenue) assessments or abatements.
A124: Form FHWA-551M (Rev. 11-93) | E124: 2

Sheet Nov19
A1: The public report burden for this information is estimated to average 5.4 hours | H1: Form Approved OMB No. 2125-0032
H2: STATE
A3: U.S. Department of | H3: Kansas
A4: Transportation | H4: YEAR
E5: MONTHLY MOTOR-FUEL CONSUMPTION | H5: 2019
H6: MONTH OF SALE
A7: Federal Highway | H7: November
A8: Administration | H8: UNITS (check one)
H9: Gallons X
H10: Liters
C11: LI | F11: PRIVATE AND COMMERCIAL
B12: ITEM | C12: NE | D12: GASOLINE | E12: GASOHOL | F12: HWY DIESEL | G12: HWY LPG | H12: TOTAL
C13: # | D13: -1 | E13: -2 | F13: -3 | G13: -4 | H13: -5
A14: 1. Gross | B14: a. Gross Volume Reported | C14: 1 | D14: =D15+D21+D22 -> 17250583 | E14: =E15+E21+E22 -> 97021853 | F14: =(F16-F17)/0.26 -> 38080077 | G14: =(G16-G17)/0.23 -> 574921.74 | H14: =SUM(D14:G14) -> 1.5292743e+08
B15: Net After Deduction | D15: 16731297 | E15: 96920992
B16: Special Fuel Tax Receipts ($) | F16: 10102742 | G16: 132232
B17: Special Fuel Tax Refunds ($) | F17: 201922 | G17: 0
A18: Volume | B18: b. IFTA | C18: 2 | F18: =F85 -> 0
A19: 2. Fully | B19: a. Losses - Flat % | C19: 21 | D19: 401302 | E19: 2269984 | H19: =SUM(D19:G19) -> 2671286
A20: Tax | B20: b. Losses - Actual | C20: 22 | E20: 0 | H20: =SUM(D20:G20) -> 0
A21: Exempt | B21: c. Federal | C21: 23 | D21: 57984 | E21: 100861 | H21: =SUM(D21:G21) -> 158845
B22: d. Aviation | C22: 24 | D22: 461302 | E22: 0 | H22: =SUM(D22:G22) -> 461302
B23: e. Native American | C23: 25 | H23: =SUM(D23:G23) -> 0
B24: f. Assessments | C24: 26 | D24: -1896 | H24: =SUM(D24:G24) -> -1896
B25: g. | C25: 27 | H25: =SUM(D25:G25) -> 0
B26: h. | C26: 28 | H26: =SUM(D26:G26) -> 0
B27: i. | C27: 29 | H27: =SUM(D27:G27) -> 0
B28: j. Total (sum a. through e - f.) | C28: 30 | D28: =SUM(D19:D23)-D24 -> 922484 | E28: =SUM(E19:E23)-E24 -> 2370845 | F28: =SUM(F19:F23)-F24 -> 0 | G28: =SUM(G19:G23)-G24 -> 0 | H28: =SUM(H19:H23)-H24 -> 3293329
A29: 3. Gross Volume Taxed (1-2j) | C29: 40 | D29: =D14-D28 -> 16328099 | E29: =E14-E28 -> 94651008 | F29: =F14+F18-F28 -> 38080077 | G29: =G14-G28 -> 574921.74 | H29: =H14-H28 -> 1.4963411e+08
A30: 4. Fully | B30: a. Agriculture | C30: 51 | D30: 17385 | E30: 20550 | H30: =SUM(D30:G30) -> 37935
A31: Refunded | B31: b. Aviation | C31: 52 | H31: =SUM(D31:G31) -> 0
B32: c. Industrial/Commercial | C32: 53 | H32: =SUM(D32:G32) -> 0
B33: d. Construction | C33: 54 | H33: =SUM(D33:G33) -> 0
B34: e. Marine | C34: 55 | H34: =SUM(D34:G34) -> 0
B35: f. Municipal and Counties | C35: 56 | H35: =SUM(D35:G35) -> 0
B36: g. Other | C36: 57 | D36: 1342 | E36: 49 | H36: =SUM(D36:G36) -> 1391
B37: h. | C37: 58 | H37: =SUM(D37:G37) -> 0
B38: i. | C38: 59 | H38: =SUM(D38:G38) -> 0
B39: j. | C39: 60 | H39: =SUM(D39:G39) -> 0
B40: k. | C40: 61
B41: l. | C41: 62
B42: m. | C42: 63
B43: n. | C43: 64
B44: o. | C44: 65
B45: p. | C45: 66
B46: q. | C46: 67
B47: r. Total (a. thru s.) | C47: 70 | D47: =SUM(D30:D41) -> 18727 | E47: =SUM(E30:E41) -> 20599 | F47: =SUM(F30:F41) -> 0 | G47: =SUM(G30:G41) -> 0 | H47: =SUM(H30:H41) -> 39326
A48: 5. Net | B48: a. At Full Rate | C48: 81 | D48: =D29-D47 -> 16309372 | E48: =E29-E47 -> 94630409 | F48: =F29-F47 -> 38080077 | G48: =G29-G47 -> 574921.74 | H48: =SUM(D48:G48) -> 1.4959478e+08
A49: Volume | B49: b. | C49: 82
A50: Taxed | B50: c. | C50: 83
A51: Taxed at | B51: d. | C51: 84
A52: initial lower | B52: e. | C52: 85
A53: rate, partially | B53: f. | C53: 86
A54: exempt or | B54: g. | C54: 87
A55: partially | B55: h. | C55: 88
A56: refunded | B56: i. | C56: 89
B57: j. Total (a thru i, 3-4t) | C57: 90 | D57: =SUM(D48:D56) -> 16309372 | E57: =SUM(E48:E56) -> 94630409 | F57: =SUM(F48:F56) -> 38080077 | G57: =SUM(G48:G56) -> 574921.74 | H57: =SUM(H48:H56) -> 1.4959478e+08
B58: Calendar Year Cumulation | D58: =D57+'Oct19'!D58 -> 1.7962789e+08 | E58: =E57+'Oct19'!E58 -> 1053100556 | F58: =F57+'Oct19'!F58 -> 4.3813427e+08 | G58: =G57+'Oct19'!G58 -> 7383552.2 | H58: =H57+'Oct19'!H58 -> 1.6782463e+09
A59: 6. Source | B59: a. Agency Preparing this Report:
B60: Kansas Department of Revenue, Office of Research and Analysis
B61: b. Compiled under Direction of: | G61: c. Date
B62: Mark Burghart, Secretary of Revenue
E63: PREVIOUS EDITIONS OBSOLETE | H63: (Next Page)
E64: 1
H67: =H2 -> STATE
H68: =H3 -> Kansas
D69: NOTES AND TECHNICAL INFORMATION | H69: =H4 -> YEAR
H70: =H5 -> 2019
H71: =H6 -> MONTH OF SALE
H72: =H7 -> November
A73: 1. Rate of tax at end month, in cents-per-gallon/liter. | D73: (If tax is ad valorem, post percentage, and briefly explain application basis below.)
E74: Rate | F74: Effective Date
C75: a. Gasoline | E75: 24¢/gallon | F75: 37803
C76: b. Gasohol | E76: 24¢/gallon | F76: 37803
C77: c. Gasohol E85 | E77: 17¢/gallon | F77: 39083
C78: d. Diesel | E78: 26¢/gallon | F78: 37803
C79: e. LPG | E79: 23¢/gallon | F79: 37803
C80: f. CNG * | E80: 23¢/gallon | F80: 37803
B81: * 120 cubic feet = one gallon
A82: 2. Computation of gross volume reported (page 1, item 1). | F82: Special Fuels
E83: Gasoline and Gasohol | F83: (Diesel and LPG)
B84: Gross sales from wholesaler/retailer returns | E84: =D14+E14 -> 114272436 | F84: =(+F28+F29+G29)-(F85-F86) -> 38654999
B85: Plus: IMC fuel volume used in state
B86: Less: IMC fuel volume purchased tax paid in state
B87: ="= Gross consumption in State (enter on page 1, item 1)" -> = Gross consumption in State (enter on page 1, item 1) | E87: =(E84+E85)-E86 -> 114272436 | F87: =(F84+F85)-F86 -> 38654999
E89: Interstate motor carrier (fuel use tax) fuel volume shown above covers period:
F90: Diesel | G90: LP-Gas | H90: Combined
E91: * page 1, line 1 split | F91: =F14 -> 38080077 | G91: =G14 -> 574921.74 | H91: =F91+G91 -> 38654999
A92: 3. Stratification of gasohol by blend ratio
B94: The gasohol volume on page 1 column (2) includes: | E94: (show actual/estimated volume or percentage shares)
C96: Percent Alcohol | E96: Volume | F96: Percentage Share
D97: 5.7-7.6%
D98: 7.7-9.9%
D99: 10% or more | F99: 1
A101: 4. Notes and comments
A104: Note that diesel gallons include state, county and municipal government highway use, but does not include use by
A105: school buses.
A106: Line #26 (Assessments) - Assessments, either positive or negative, can be the result of audits, amended returns or
A107: office (KS Dept. of Revenue) assessments or abatements.
A124: Form FHWA-551M (Rev. 11-93) | E124: 2

Sheet Dec19
A1: The public report burden for this information is estimated to average 5.4 hours | H1: Form Approved OMB No. 2125-0032
H2: STATE
A3: U.S. Department of | H3: Kansas
A4: Transportation | H4: YEAR
E5: MONTHLY MOTOR-FUEL CONSUMPTION | H5: 2019
H6: MONTH OF SALE
A7: Federal Highway | H7: December
A8: Administration | H8: UNITS (check one)
H9: Gallons X
H10: Liters
C11: LI | F11: PRIVATE AND COMMERCIAL
B12: ITEM | C12: NE | D12: GASOLINE | E12: GASOHOL | F12: HWY DIESEL | G12: HWY LPG | H12: TOTAL
C13: # | D13: -1 | E13: -2 | F13: -3 | G13: -4 | H13: -5
A14: 1. Gross | B14: a. Gross Volume Reported | C14: 1 | D14: =D15+D21+D22 -> 15913850 | E14: =E15+E21+E22 -> 98929901 | F14: =(F16-F17)/0.26 -> 46306296 | G14: =(G16-G17)/0.23 -> 1557826.1 | H14: =SUM(D14:G14) -> 1.6270787e+08
B15: Net After Deduction | D15: 15365665 | E15: 98815109
B16: Special Fuel Tax Receipts ($) | F16: 12216688 | G16: 358300
B17: Special Fuel Tax Refunds ($) | F17: 177051 | G17: 0
A18: Volume | B18: b. IFTA | C18: 2 | F18: =F85 -> 9288165.4
A19: 2. Fully | B19: a. Losses - Flat % | C19: 21 | D19: 370321 | E19: 2313635 | H19: =SUM(D19:G19) -> 2683956
A20: Tax | B20: b. Losses - Actual | C20: 22 | D20: 299 | E20: 0 | H20: =SUM(D20:G20) -> 299
A21: Exempt | B21: c. Federal | C21: 23 | D21: 78672 | E21: 114792 | H21: =SUM(D21:G21) -> 193464
B22: d. Aviation | C22: 24 | D22: 469513 | E22: 0 | H22: =SUM(D22:G22) -> 469513
B23: e. Native American | C23: 25 | H23: =SUM(D23:G23) -> 0
B24: f. Assessments | C24: 26 | D24: 127800 | H24: =SUM(D24:G24) -> 127800
B25: g. | C25: 27 | H25: =SUM(D25:G25) -> 0
B26: h. | C26: 28 | H26: =SUM(D26:G26) -> 0
B27: i. | C27: 29 | H27: =SUM(D27:G27) -> 0
B28: j. Total (sum a. through e - f.) | C28: 30 | D28: =SUM(D19:D23)-D24 -> 791005 | E28: =SUM(E19:E23)-E24 -> 2428427 | F28: =SUM(F19:F23)-F24 -> 0 | G28: =SUM(G19:G23)-G24 -> 0 | H28: =SUM(H19:H23)-H24 -> 3219432
A29: 3. Gross Volume Taxed (1-2j) | C29: 40 | D29: =D14-D28 -> 15122845 | E29: =E14-E28 -> 96501474 | F29: =F14+F18-F28 -> 55594462 | G29: =G14-G28 -> 1557826.1 | H29: =H14-H28 -> 1.5948844e+08
A30: 4. Fully | B30: a. Agriculture | C30: 51 | D30: 21474 | E30: 19518 | H30: =SUM(D30:G30) -> 40992
A31: Refunded | B31: b. Aviation | C31: 52 | H31: =SUM(D31:G31) -> 0
B32: c. Industrial/Commercial | C32: 53 | H32: =SUM(D32:G32) -> 0
B33: d. Construction | C33: 54 | H33: =SUM(D33:G33) -> 0
B34: e. Marine | C34: 55 | H34: =SUM(D34:G34) -> 0
B35: f. Municipal and Counties | C35: 56 | H35: =SUM(D35:G35) -> 0
B36: g. Other | C36: 57 | D36: 13017 | E36: 20930 | H36: =SUM(D36:G36) -> 33947
B37: h. | C37: 58 | H37: =SUM(D37:G37) -> 0
B38: i. | C38: 59 | H38: =SUM(D38:G38) -> 0
B39: j. | C39: 60 | H39: =SUM(D39:G39) -> 0
B40: k. | C40: 61
B41: l. | C41: 62
B42: m. | C42: 63
B43: n. | C43: 64
B44: o. | C44: 65
B45: p. | C45: 66
B46: q. | C46: 67
B47: r. Total (a. thru s.) | C47: 70 | D47: =SUM(D30:D41) -> 34491 | E47: =SUM(E30:E41) -> 40448 | F47: =SUM(F30:F41) -> 0 | G47: =SUM(G30:G41) -> 0 | H47: =SUM(H30:H41) -> 74939
A48: 5. Net | B48: a. At Full Rate | C48: 81 | D48: =D29-D47 -> 15088354 | E48: =E29-E47 -> 96461026 | F48: =F29-F47 -> 55594462 | G48: =G29-G47 -> 1557826.1 | H48: =SUM(D48:G48) -> 1.6870167e+08
A49: Volume | B49: b. | C49: 82
A50: Taxed | B50: c. | C50: 83
A51: Taxed at | B51: d. | C51: 84
A52: initial lower | B52: e. | C52: 85
A53: rate, partially | B53: f. | C53: 86
A54: exempt or | B54: g. | C54: 87
A55: partially | B55: h. | C55: 88
A56: refunded | B56: i. | C56: 89
B57: j. Total (a thru i, 3-4t) | C57: 90 | D57: =SUM(D48:D56) -> 15088354 | E57: =SUM(E48:E56) -> 96461026 | F57: =SUM(F48:F56) -> 55594462 | G57: =SUM(G48:G56) -> 1557826.1 | H57: =SUM(H48:H56) -> 1.6870167e+08
B58: Calendar Year Cumulation | D58: =D57+'Nov19'!D58 -> 1.9471624e+08 | E58: =E57+'Nov19'!E58 -> 1149561582 | F58: =F57+'Nov19'!F58 -> 4.9372873e+08 | G58: =G57+'Nov19'!G58 -> 8941378.3 | H58: =H57+'Nov19'!H58 -> 1.8469479e+09
A59: 6. Source | B59: a. Agency Preparing this Report:
B60: Kansas Department of Revenue, Office of Research and Analysis
B61: b. Compiled under Direction of: | G61: c. Date
B62: Mark Burghart, Secretary of Revenue
E63: PREVIOUS EDITIONS OBSOLETE | H63: (Next Page)
E64: 1
H67: =H2 -> STATE
H68: =H3 -> Kansas
D69: NOTES AND TECHNICAL INFORMATION | H69: =H4 -> YEAR
H70: =H5 -> 2019
H71: =H6 -> MONTH OF SALE
H72: =H7 -> December
A73: 1. Rate of tax at end month, in cents-per-gallon/liter. | D73: (If tax is ad valorem, post percentage, and briefly explain application basis below.)
E74: Rate | F74: Effective Date
C75: a. Gasoline | E75: 24¢/gallon | F75: 37803
C76: b. Gasohol | E76: 24¢/gallon | F76: 37803
C77: c. Gasohol E85 | E77: 17¢/gallon | F77: 39083
C78: d. Diesel | E78: 26¢/gallon | F78: 37803
C79: e. LPG | E79: 23¢/gallon | F79: 37803
C80: f. CNG * | E80: 23¢/gallon | F80: 37803
B81: * 120 cubic feet = one gallon
A82: 2. Computation of gross volume reported (page 1, item 1). | F82: Special Fuels
E83: Gasoline and Gasohol | F83: (Diesel and LPG)
B84: Gross sales from wholesaler/retailer returns | E84: =D14+E14 -> 114843751 | F84: =(+F28+F29+G29)-(F85-F86) -> 47864122
B85: Plus: IMC fuel volume used in state | F85: =2414923/0.26 -> 9288165.4
B86: Less: IMC fuel volume purchased tax paid in state
B87: ="= Gross consumption in State (enter on page 1, item 1)" -> = Gross consumption in State (enter on page 1, item 1) | E87: =(E84+E85)-E86 -> 114843751 | F87: =(F84+F85)-F86 -> 57152288
E89: Interstate motor carrier (fuel use tax) fuel volume shown above covers period:
F90: Diesel | G90: LP-Gas | H90: Combined
E91: * page 1, line 1 split | F91: =F14 -> 46306296 | G91: =G14 -> 1557826.1 | H91: =F91+G91 -> 47864122
A92: 3. Stratification of gasohol by blend ratio
B94: The gasohol volume on page 1 column (2) includes: | E94: (show actual/estimated volume or percentage shares)
C96: Percent Alcohol | E96: Volume | F96: Percentage Share
D97: 5.7-7.6%
D98: 7.7-9.9%
D99: 10% or more | F99: 1
A101: 4. Notes and comments
A104: Note that diesel gallons include state, county and municipal government highway use, but does not include use by
A105: school buses.
A106: Line #26 (Assessments) - Assessments, either positive or negative, can be the result of audits, amended returns or
A107: office (KS Dept. of Revenue) assessments or abatements.
A124: Form FHWA-551M (Rev. 11-93) | E124: 2

Sheet 551m2019
A1: The public report burden for this information is estimated to average 5.4 hours | H1: Form Approved OMB No. 2125-0032
H2: STATE
A3: U.S. Department of | H3: Kansas
A4: Transportation | H4: YEAR
E5: MONTHLY MOTOR-FUEL CONSUMPTION | H5: 2019
H6: MONTH OF SALE
A7: Federal Highway | H7: December
A8: Administration | H8: UNITS (check one)
H9: Gallons X
H10: Liters
C11: LI | F11: PRIVATE AND COMMERCIAL
B12: ITEM | C12: NE | D12: GASOLINE | E12: GASOHOL | F12: HWY DIESEL | G12: HWY LPG | H12: TOTAL
C13: # | D13: -1 | E13: -2 | F13: -3 | G13: -4 | H13: -5
A14: 1. Gross | B14: a. Gross Volume Reported | C14: 1 | D14: ='Jan19'!D14+'Feb19'!D14+'Mar19'!D14+'Apr19'!D14+'May19'!D14+June19!D14+'Jul19'!D14+'Aug19'!D14+'Sep19'!D14+'Oct19'!D14+'Nov19'!D14+'Dec19'!D14 -> 206935545 | E14: ='Jan19'!E14+'Feb19'!E14+'Mar19'!E14+'Apr19'!E14+'May19'!E14+June19!E14+'Jul19'!E14+'Aug19'!E14+'Sep19'!E14+'Oct19'!E14+'Nov19'!E14+'Dec19'!E14 -> 1179299698 | F14: ='Jan19'!F14+'Feb19'!F14+'Mar19'!F14+'Apr19'!F14+'May19'!F14+June19!F14+'Jul19'!F14+'Aug19'!F14+'Sep19'!F14+'Oct19'!F14+'Nov19'!F14+'Dec19'!F14 -> 4.5404658e+08 | G14: ='Jan19'!G14+'Feb19'!G14+'Mar19'!G14+'Apr19'!G14+'May19'!G14+June19!G14+'Jul19'!G14+'Aug19'!G14+'Sep19'!G14+'Oct19'!G14+'Nov19'!G14+'Dec19'!G14 -> 8941378.3 | H14: ='Jan19'!H14+'Feb19'!H14+'Mar19'!H14+'Apr19'!H14+'May19'!H14+June19!H14+'Jul19'!H14+'Aug19'!H14+'Sep19'!H14+'Oct19'!H14+'Nov19'!H14+'Dec19'!H14 -> 1.8492232e+09
B15: Net After Deduction | D15: ='Jan19'!D15+'Feb19'!D15+'Mar19'!D15+'Apr19'!D15+'May19'!D15+June19!D15+'Jul19'!D15+'Aug19'!D15+'Sep19'!D15+'Oct19'!D15+'Nov19'!D15+'Dec19'!D15 -> 199964219 | E15: ='Jan19'!E15+'Feb19'!E15+'Mar19'!E15+'Apr19'!E15+'May19'!E15+June19!E15+'Jul19'!E15+'Aug19'!E15+'Sep19'!E15+'Oct19'!E15+'Nov19'!E15+'Dec19'!E15 -> 1177776955 | F15: ='Jan19'!F15+'Feb19'!F15+'Mar19'!F15+'Apr19'!F15+'May19'!F15+June19!F15+'Jul19'!F15+'Aug19'!F15+'Sep19'!F15+'Oct19'!F15+'Nov19'!F15+'Dec19'!F15 -> 0 | G15: ='Jan19'!G15+'Feb19'!G15+'Mar19'!G15+'Apr19'!G15+'May19'!G15+June19!G15+'Jul19'!G15+'Aug19'!G15+'Sep19'!G15+'Oct19'!G15+'Nov19'!G15+'Dec19'!G15 -> 0 | H15: ='Jan19'!H15+'Feb19'!H15+'Mar19'!H15+'Apr19'!H15+'May19'!H15+June19!H15+'Jul19'!H15+'Aug19'!H15+'Sep19'!H15+'Oct19'!H15+'Nov19'!H15+'Dec19'!H15 -> 0
B16: Special Fuel Tax Receipts ($) | D16: ='Jan19'!D16+'Feb19'!D16+'Mar19'!D16+'Apr19'!D16+'May19'!D16+June19!D16+'Jul19'!D16+'Aug19'!D16+'Sep19'!D16+'Oct19'!D16+'Nov19'!D16+'Dec19'!D16 -> 0 | E16: ='Jan19'!E16+'Feb19'!E16+'Mar19'!E16+'Apr19'!E16+'May19'!E16+June19!E16+'Jul19'!E16+'Aug19'!E16+'Sep19'!E16+'Oct19'!E16+'Nov19'!E16+'Dec19'!E16 -> 0 | F16: ='Jan19'!F16+'Feb19'!F16+'Mar19'!F16+'Apr19'!F16+'May19'!F16+June19!F16+'Jul19'!F16+'Aug19'!F16+'Sep19'!F16+'Oct19'!F16+'Nov19'!F16+'Dec19'!F16 -> 120966319 | G16: ='Jan19'!G16+'Feb19'!G16+'Mar19'!G16+'Apr19'!G16+'May19'!G16+June19!G16+'Jul19'!G16+'Aug19'!G16+'Sep19'!G16+'Oct19'!G16+'Nov19'!G16+'Dec19'!G16 -> 2056517 | H16: ='Jan19'!H16+'Feb19'!H16+'Mar19'!H16+'Apr19'!H16+'May19'!H16+June19!H16+'Jul19'!H16+'Aug19'!H16+'Sep19'!H16+'Oct19'!H16+'Nov19'!H16+'Dec19'!H16 -> 0
B17: Special Fuel Tax Refunds ($) | D17: ='Jan19'!D17+'Feb19'!D17+'Mar19'!D17+'Apr19'!D17+'May19'!D17+June19!D17+'Jul19'!D17+'Aug19'!D17+'Sep19'!D17+'Oct19'!D17+'Nov19'!D17+'Dec19'!D17 -> 0 | E17: ='Jan19'!E17+'Feb19'!E17+'Mar19'!E17+'Apr19'!E17+'May19'!E17+June19!E17+'Jul19'!E17+'Aug19'!E17+'Sep19'!E17+'Oct19'!E17+'Nov19'!E17+'Dec19'!E17 -> 0 | F17: ='Jan19'!F17+'Feb19'!F17+'Mar19'!F17+'Apr19'!F17+'May19'!F17+June19!F17+'Jul19'!F17+'Aug19'!F17+'Sep19'!F17+'Oct19'!F17+'Nov19'!F17+'Dec19'!F17 -> 2914207 | G17: ='Jan19'!G17+'Feb19'!G17+'Mar19'!G17+'Apr19'!G17+'May19'!G17+June19!G17+'Jul19'!G17+'Aug19'!G17+'Sep19'!G17+'Oct19'!G17+'Nov19'!G17+'Dec19'!G17 -> 0 | H17: ='Jan19'!H17+'Feb19'!H17+'Mar19'!H17+'Apr19'!H17+'May19'!H17+June19!H17+'Jul19'!H17+'Aug19'!H17+'Sep19'!H17+'Oct19'!H17+'Nov19'!H17+'Dec19'!H17 -> 0
A18: Volume | B18: b. IFTA | C18: 2 | D18: ='Jan19'!D18+'Feb19'!D18+'Mar19'!D18+'Apr19'!D18+'May19'!D18+June19!D18+'Jul19'!D18+'Aug19'!D18+'Sep19'!D18+'Oct19'!D18+'Nov19'!D18+'Dec19'!D18 -> 0 | E18: ='Jan19'!E18+'Feb19'!E18+'Mar19'!E18+'Apr19'!E18+'May19'!E18+June19!E18+'Jul19'!E18+'Aug19'!E18+'Sep19'!E18+'Oct19'!E18+'Nov19'!E18+'Dec19'!E18 -> 0 | F18: ='Jan19'!F18+'Feb19'!F18+'Mar19'!F18+'Apr19'!F18+'May19'!F18+June19!F18+'Jul19'!F18+'Aug19'!F18+'Sep19'!F18+'Oct19'!F18+'Nov19'!F18+'Dec19'!F18 -> 39682146 | G18: ='Jan19'!G18+'Feb19'!G18+'Mar19'!G18+'Apr19'!G18+'May19'!G18+June19!G18+'Jul19'!G18+'Aug19'!G18+'Sep19'!G18+'Oct19'!G18+'Nov19'!G18+'Dec19'!G18 -> 0 | H18: ='Jan19'!H18+'Feb19'!H18+'Mar19'!H18+'Apr19'!H18+'May19'!H18+June19!H18+'Jul19'!H18+'Aug19'!H18+'Sep19'!H18+'Oct19'!H18+'Nov19'!H18+'Dec19'!H18 -> 0
A19: 2. Fully | B19: a. Losses - Flat % | C19: 21 | D19: ='Jan19'!D19+'Feb19'!D19+'Mar19'!D19+'Apr19'!D19+'May19'!D19+June19!D19+'Jul19'!D19+'Aug19'!D19+'Sep19'!D19+'Oct19'!D19+'Nov19'!D19+'Dec19'!D19 -> 4796124 | E19: ='Jan19'!E19+'Feb19'!E19+'Mar19'!E19+'Apr19'!E19+'May19'!E19+June19!E19+'Jul19'!E19+'Aug19'!E19+'Sep19'!E19+'Oct19'!E19+'Nov19'!E19+'Dec19'!E19 -> 27649844 | F19: ='Jan19'!F19+'Feb19'!F19+'Mar19'!F19+'Apr19'!F19+'May19'!F19+June19!F19+'Jul19'!F19+'Aug19'!F19+'Sep19'!F19+'Oct19'!F19+'Nov19'!F19+'Dec19'!F19 -> 0 | G19: ='Jan19'!G19+'Feb19'!G19+'Mar19'!G19+'Apr19'!G19+'May19'!G19+June19!G19+'Jul19'!G19+'Aug19'!G19+'Sep19'!G19+'Oct19'!G19+'Nov19'!G19+'Dec19'!G19 -> 0 | H19: ='Jan19'!H19+'Feb19'!H19+'Mar19'!H19+'Apr19'!H19+'May19'!H19+June19!H19+'Jul19'!H19+'Aug19'!H19+'Sep19'!H19+'Oct19'!H19+'Nov19'!H19+'Dec19'!H19 -> 32445968
A20: Tax | B20: b. Losses - Actual | C20: 22 | D20: ='Jan19'!D20+'Feb19'!D20+'Mar19'!D20+'Apr19'!D20+'May19'!D20+June19!D20+'Jul19'!D20+'Aug19'!D20+'Sep19'!D20+'Oct19'!D20+'Nov19'!D20+'Dec19'!D20 -> 1124 | E20: ='Jan19'!E20+'Feb19'!E20+'Mar19'!E20+'Apr19'!E20+'May19'!E20+June19!E20+'Jul19'!E20+'Aug19'!E20+'Sep19'!E20+'Oct19'!E20+'Nov19'!E20+'Dec19'!E20 -> 4874 | F20: ='Jan19'!F20+'Feb19'!F20+'Mar19'!F20+'Apr19'!F20+'May19'!F20+June19!F20+'Jul19'!F20+'Aug19'!F20+'Sep19'!F20+'Oct19'!F20+'Nov19'!F20+'Dec19'!F20 -> 0 | G20: ='Jan19'!G20+'Feb19'!G20+'Mar19'!G20+'Apr19'!G20+'May19'!G20+June19!G20+'Jul19'!G20+'Aug19'!G20+'Sep19'!G20+'Oct19'!G20+'Nov19'!G20+'Dec19'!G20 -> 0 | H20: ='Jan19'!H20+'Feb19'!H20+'Mar19'!H20+'Apr19'!H20+'May19'!H20+June19!H20+'Jul19'!H20+'Aug19'!H20+'Sep19'!H20+'Oct19'!H20+'Nov19'!H20+'Dec19'!H20 -> 5998
A21: Exempt | B21: c. Federal | C21: 23 | D21: ='Jan19'!D21+'Feb19'!D21+'Mar19'!D21+'Apr19'!D21+'May19'!D21+June19!D21+'Jul19'!D21+'Aug19'!D21+'Sep19'!D21+'Oct19'!D21+'Nov19'!D21+'Dec19'!D21 -> 806329 | E21: ='Jan19'!E21+'Feb19'!E21+'Mar19'!E21+'Apr19'!E21+'May19'!E21+June19!E21+'Jul19'!E21+'Aug19'!E21+'Sep19'!E21+'Oct19'!E21+'Nov19'!E21+'Dec19'!E21 -> 1522743 | F21: ='Jan19'!F21+'Feb19'!F21+'Mar19'!F21+'Apr19'!F21+'May19'!F21+June19!F21+'Jul19'!F21+'Aug19'!F21+'Sep19'!F21+'Oct19'!F21+'Nov19'!F21+'Dec19'!F21 -> 0 | G21: ='Jan19'!G21+'Feb19'!G21+'Mar19'!G21+'Apr19'!G21+'May19'!G21+June19!G21+'Jul19'!G21+'Aug19'!G21+'Sep19'!G21+'Oct19'!G21+'Nov19'!G21+'Dec19'!G21 -> 0 | H21: ='Jan19'!H21+'Feb19'!H21+'Mar19'!H21+'Apr19'!H21+'May19'!H21+June19!H21+'Jul19'!H21+'Aug19'!H21+'Sep19'!H21+'Oct19'!H21+'Nov19'!H21+'Dec19'!H21 -> 2329072
B22: d. Aviation | C22: 24 | D22: ='Jan19'!D22+'Feb19'!D22+'Mar19'!D22+'Apr19'!D22+'May19'!D22+June19!D22+'Jul19'!D22+'Aug19'!D22+'Sep19'!D22+'Oct19'!D22+'Nov19'!D22+'Dec19'!D22 -> 6164997 | E22: ='Jan19'!E22+'Feb19'!E22+'Mar19'!E22+'Apr19'!E22+'May19'!E22+June19!E22+'Jul19'!E22+'Aug19'!E22+'Sep19'!E22+'Oct19'!E22+'Nov19'!E22+'Dec19'!E22 -> 0 | F22: ='Jan19'!F22+'Feb19'!F22+'Mar19'!F22+'Apr19'!F22+'May19'!F22+June19!F22+'Jul19'!F22+'Aug19'!F22+'Sep19'!F22+'Oct19'!F22+'Nov19'!F22+'Dec19'!F22 -> 0 | G22: ='Jan19'!G22+'Feb19'!G22+'Mar19'!G22+'Apr19'!G22+'May19'!G22+June19!G22+'Jul19'!G22+'Aug19'!G22+'Sep19'!G22+'Oct19'!G22+'Nov19'!G22+'Dec19'!G22 -> 0 | H22: ='Jan19'!H22+'Feb19'!H22+'Mar19'!H22+'Apr19'!H22+'May19'!H22+June19!H22+'Jul19'!H22+'Aug19'!H22+'Sep19'!H22+'Oct19'!H22+'Nov19'!H22+'Dec19'!H22 -> 6164997
B23: e. Native American | C23: 25 | D23: ='Jan19'!D23+'Feb19'!D23+'Mar19'!D23+'Apr19'!D23+'May19'!D23+June19!D23+'Jul19'!D23+'Aug19'!D23+'Sep19'!D23+'Oct19'!D23+'Nov19'!D23+'Dec19'!D23 -> 0 | E23: ='Jan19'!E23+'Feb19'!E23+'Mar19'!E23+'Apr19'!E23+'May19'!E23+June19!E23+'Jul19'!E23+'Aug19'!E23+'Sep19'!E23+'Oct19'!E23+'Nov19'!E23+'Dec19'!E23 -> 0 | F23: ='Jan19'!F23+'Feb19'!F23+'Mar19'!F23+'Apr19'!F23+'May19'!F23+June19!F23+'Jul19'!F23+'Aug19'!F23+'Sep19'!F23+'Oct19'!F23+'Nov19'!F23+'Dec19'!F23 -> 0 | G23: ='Jan19'!G23+'Feb19'!G23+'Mar19'!G23+'Apr19'!G23+'May19'!G23+June19!G23+'Jul19'!G23+'Aug19'!G23+'Sep19'!G23+'Oct19'!G23+'Nov19'!G23+'Dec19'!G23 -> 0 | H23: ='Jan19'!H23+'Feb19'!H23+'Mar19'!H23+'Apr19'!H23+'May19'!H23+June19!H23+'Jul19'!H23+'Aug19'!H23+'Sep19'!H23+'Oct19'!H23+'Nov19'!H23+'Dec19'!H23 -> 0
B24: f. Assessments | C24: 26 | D24: ='Jan19'!D24+'Feb19'!D24+'Mar19'!D24+'Apr19'!D24+'May19'!D24+June19!D24+'Jul19'!D24+'Aug19'!D24+'Sep19'!D24+'Oct19'!D24+'Nov19'!D24+'Dec19'!D24 -> 302808.82 | E24: ='Jan19'!E24+'Feb19'!E24+'Mar19'!E24+'Apr19'!E24+'May19'!E24+June19!E24+'Jul19'!E24+'Aug19'!E24+'Sep19'!E24+'Oct19'!E24+'Nov19'!E24+'Dec19'!E24 -> 0 | F24: ='Jan19'!F24+'Feb19'!F24+'Mar19'!F24+'Apr19'!F24+'May19'!F24+June19!F24+'Jul19'!F24+'Aug19'!F24+'Sep19'!F24+'Oct19'!F24+'Nov19'!F24+'Dec19'!F24 -> 0 | G24: ='Jan19'!G24+'Feb19'!G24+'Mar19'!G24+'Apr19'!G24+'May19'!G24+June19!G24+'Jul19'!G24+'Aug19'!G24+'Sep19'!G24+'Oct19'!G24+'Nov19'!G24+'Dec19'!G24 -> 0 | H24: ='Jan19'!H24+'Feb19'!H24+'Mar19'!H24+'Apr19'!H24+'May19'!H24+June19!H24+'Jul19'!H24+'Aug19'!H24+'Sep19'!H24+'Oct19'!H24+'Nov19'!H24+'Dec19'!H24 -> 302808.82
B25: g. | C25: 27
B26: h. | C26: 28
B27: i. | C27: 29
B28: j. Total (sum a. through e - f.) | C28: 30 | D28: ='Jan19'!D28+'Feb19'!D28+'Mar19'!D28+'Apr19'!D28+'May19'!D28+June19!D28+'Jul19'!D28+'Aug19'!D28+'Sep19'!D28+'Oct19'!D28+'Nov19'!D28+'Dec19'!D28 -> 11465765 | E28: ='Jan19'!E28+'Feb19'!E28+'Mar19'!E28+'Apr19'!E28+'May19'!E28+June19!E28+'Jul19'!E28+'Aug19'!E28+'Sep19'!E28+'Oct19'!E28+'Nov19'!E28+'Dec19'!E28 -> 29177461 | F28: ='Jan19'!F28+'Feb19'!F28+'Mar19'!F28+'Apr19'!F28+'May19'!F28+June19!F28+'Jul19'!F28+'Aug19'!F28+'Sep19'!F28+'Oct19'!F28+'Nov19'!F28+'Dec19'!F28 -> 0 | G28: ='Jan19'!G28+'Feb19'!G28+'Mar19'!G28+'Apr19'!G28+'May19'!G28+June19!G28+'Jul19'!G28+'Aug19'!G28+'Sep19'!G28+'Oct19'!G28+'Nov19'!G28+'Dec19'!G28 -> 0 | H28: ='Jan19'!H28+'Feb19'!H28+'Mar19'!H28+'Apr19'!H28+'May19'!H28+June19!H28+'Jul19'!H28+'Aug19'!H28+'Sep19'!H28+'Oct19'!H28+'Nov19'!H28+'Dec19'!H28 -> 40643226
A29: 3. Gross Volume Taxed (1-2j) | C29: 40 | D29: ='Jan19'!D29+'Feb19'!D29+'Mar19'!D29+'Apr19'!D29+'May19'!D29+June19!D29+'Jul19'!D29+'Aug19'!D29+'Sep19'!D29+'Oct19'!D29+'Nov19'!D29+'Dec19'!D29 -> 1.9546978e+08 | E29: ='Jan19'!E29+'Feb19'!E29+'Mar19'!E29+'Apr19'!E29+'May19'!E29+June19!E29+'Jul19'!E29+'Aug19'!E29+'Sep19'!E29+'Oct19'!E29+'Nov19'!E29+'Dec19'!E29 -> 1150122237 | F29: ='Jan19'!F29+'Feb19'!F29+'Mar19'!F29+'Apr19'!F29+'May19'!F29+June19!F29+'Jul19'!F29+'Aug19'!F29+'Sep19'!F29+'Oct19'!F29+'Nov19'!F29+'Dec19'!F29 -> 4.9372873e+08 | G29: ='Jan19'!G29+'Feb19'!G29+'Mar19'!G29+'Apr19'!G29+'May19'!G29+June19!G29+'Jul19'!G29+'Aug19'!G29+'Sep19'!G29+'Oct19'!G29+'Nov19'!G29+'Dec19'!G29 -> 8941378.3 | H29: ='Jan19'!H29+'Feb19'!H29+'Mar19'!H29+'Apr19'!H29+'May19'!H29+June19!H29+'Jul19'!H29+'Aug19'!H29+'Sep19'!H29+'Oct19'!H29+'Nov19'!H29+'Dec19'!H29 -> 1.80858e+09
A30: 4. Fully | B30: a. Agriculture | C30: 51 | D30: ='Jan19'!D30+'Feb19'!D30+'Mar19'!D30+'Apr19'!D30+'May19'!D30+June19!D30+'Jul19'!D30+'Aug19'!D30+'Sep19'!D30+'Oct19'!D30+'Nov19'!D30+'Dec19'!D30 -> 147664 | E30: ='Jan19'!E30+'Feb19'!E30+'Mar19'!E30+'Apr19'!E30+'May19'!E30+June19!E30+'Jul19'!E30+'Aug19'!E30+'Sep19'!E30+'Oct19'!E30+'Nov19'!E30+'Dec19'!E30 -> 124367 | F30: ='Jan19'!F30+'Feb19'!F30+'Mar19'!F30+'Apr19'!F30+'May19'!F30+June19!F30+'Jul19'!F30+'Aug19'!F30+'Sep19'!F30+'Oct19'!F30+'Nov19'!F30+'Dec19'!F30 -> 0 | G30: ='Jan19'!G30+'Feb19'!G30+'Mar19'!G30+'Apr19'!G30+'May19'!G30+June19!G30+'Jul19'!G30+'Aug19'!G30+'Sep19'!G30+'Oct19'!G30+'Nov19'!G30+'Dec19'!G30 -> 0 | H30: ='Jan19'!H30+'Feb19'!H30+'Mar19'!H30+'Apr19'!H30+'May19'!H30+June19!H30+'Jul19'!H30+'Aug19'!H30+'Sep19'!H30+'Oct19'!H30+'Nov19'!H30+'Dec19'!H30 -> 272031
A31: Refunded | B31: b. Aviation | C31: 52 | D31: ='Jan19'!D31+'Feb19'!D31+'Mar19'!D31+'Apr19'!D31+'May19'!D31+June19!D31+'Jul19'!D31+'Aug19'!D31+'Sep19'!D31+'Oct19'!D31+'Nov19'!D31+'Dec19'!D31 -> 0 | E31: ='Jan19'!E31+'Feb19'!E31+'Mar19'!E31+'Apr19'!E31+'May19'!E31+June19!E31+'Jul19'!E31+'Aug19'!E31+'Sep19'!E31+'Oct19'!E31+'Nov19'!E31+'Dec19'!E31 -> 0 | F31: ='Jan19'!F31+'Feb19'!F31+'Mar19'!F31+'Apr19'!F31+'May19'!F31+June19!F31+'Jul19'!F31+'Aug19'!F31+'Sep19'!F31+'Oct19'!F31+'Nov19'!F31+'Dec19'!F31 -> 0 | G31: ='Jan19'!G31+'Feb19'!G31+'Mar19'!G31+'Apr19'!G31+'May19'!G31+June19!G31+'Jul19'!G31+'Aug19'!G31+'Sep19'!G31+'Oct19'!G31+'Nov19'!G31+'Dec19'!G31 -> 0 | H31: ='Jan19'!H31+'Feb19'!H31+'Mar19'!H31+'Apr19'!H31+'May19'!H31+June19!H31+'Jul19'!H31+'Aug19'!H31+'Sep19'!H31+'Oct19'!H31+'Nov19'!H31+'Dec19'!H31 -> 0
B32: c. Industrial/Commercial | C32: 53 | D32: ='Jan19'!D32+'Feb19'!D32+'Mar19'!D32+'Apr19'!D32+'May19'!D32+June19!D32+'Jul19'!D32+'Aug19'!D32+'Sep19'!D32+'Oct19'!D32+'Nov19'!D32+'Dec19'!D32 -> 0 | E32: ='Jan19'!E32+'Feb19'!E32+'Mar19'!E32+'Apr19'!E32+'May19'!E32+June19!E32+'Jul19'!E32+'Aug19'!E32+'Sep19'!E32+'Oct19'!E32+'Nov19'!E32+'Dec19'!E32 -> 0 | F32: ='Jan19'!F32+'Feb19'!F32+'Mar19'!F32+'Apr19'!F32+'May19'!F32+June19!F32+'Jul19'!F32+'Aug19'!F32+'Sep19'!F32+'Oct19'!F32+'Nov19'!F32+'Dec19'!F32 -> 0 | G32: ='Jan19'!G32+'Feb19'!G32+'Mar19'!G32+'Apr19'!G32+'May19'!G32+June19!G32+'Jul19'!G32+'Aug19'!G32+'Sep19'!G32+'Oct19'!G32+'Nov19'!G32+'Dec19'!G32 -> 0 | H32: ='Jan19'!H32+'Feb19'!H32+'Mar19'!H32+'Apr19'!H32+'May19'!H32+June19!H32+'Jul19'!H32+'Aug19'!H32+'Sep19'!H32+'Oct19'!H32+'Nov19'!H32+'Dec19'!H32 -> 0
B33: d. Construction | C33: 54 | D33: ='Jan19'!D33+'Feb19'!D33+'Mar19'!D33+'Apr19'!D33+'May19'!D33+June19!D33+'Jul19'!D33+'Aug19'!D33+'Sep19'!D33+'Oct19'!D33+'Nov19'!D33+'Dec19'!D33 -> 0 | E33: ='Jan19'!E33+'Feb19'!E33+'Mar19'!E33+'Apr19'!E33+'May19'!E33+June19!E33+'Jul19'!E33+'Aug19'!E33+'Sep19'!E33+'Oct19'!E33+'Nov19'!E33+'Dec19'!E33 -> 0 | F33: ='Jan19'!F33+'Feb19'!F33+'Mar19'!F33+'Apr19'!F33+'May19'!F33+June19!F33+'Jul19'!F33+'Aug19'!F33+'Sep19'!F33+'Oct19'!F33+'Nov19'!F33+'Dec19'!F33 -> 0 | G33: ='Jan19'!G33+'Feb19'!G33+'Mar19'!G33+'Apr19'!G33+'May19'!G33+June19!G33+'Jul19'!G33+'Aug19'!G33+'Sep19'!G33+'Oct19'!G33+'Nov19'!G33+'Dec19'!G33 -> 0 | H33: ='Jan19'!H33+'Feb19'!H33+'Mar19'!H33+'Apr19'!H33+'May19'!H33+June19!H33+'Jul19'!H33+'Aug19'!H33+'Sep19'!H33+'Oct19'!H33+'Nov19'!H33+'Dec19'!H33 -> 0
B34: e. Marine | C34: 55 | D34: ='Jan19'!D34+'Feb19'!D34+'Mar19'!D34+'Apr19'!D34+'May19'!D34+June19!D34+'Jul19'!D34+'Aug19'!D34+'Sep19'!D34+'Oct19'!D34+'Nov19'!D34+'Dec19'!D34 -> 0 | E34: ='Jan19'!E34+'Feb19'!E34+'Mar19'!E34+'Apr19'!E34+'May19'!E34+June19!E34+'Jul19'!E34+'Aug19'!E34+'Sep19'!E34+'Oct19'!E34+'Nov19'!E34+'Dec19'!E34 -> 0 | F34: ='Jan19'!F34+'Feb19'!F34+'Mar19'!F34+'Apr19'!F34+'May19'!F34+June19!F34+'Jul19'!F34+'Aug19'!F34+'Sep19'!F34+'Oct19'!F34+'Nov19'!F34+'Dec19'!F34 -> 0 | G34: ='Jan19'!G34+'Feb19'!G34+'Mar19'!G34+'Apr19'!G34+'May19'!G34+June19!G34+'Jul19'!G34+'Aug19'!G34+'Sep19'!G34+'Oct19'!G34+'Nov19'!G34+'Dec19'!G34 -> 0 | H34: ='Jan19'!H34+'Feb19'!H34+'Mar19'!H34+'Apr19'!H34+'May19'!H34+June19!H34+'Jul19'!H34+'Aug19'!H34+'Sep19'!H34+'Oct19'!H34+'Nov19'!H34+'Dec19'!H34 -> 0
B35: f. Municipal and Counties | C35: 56 | D35: ='Jan19'!D35+'Feb19'!D35+'Mar19'!D35+'Apr19'!D35+'May19'!D35+June19!D35+'Jul19'!D35+'Aug19'!D35+'Sep19'!D35+'Oct19'!D35+'Nov19'!D35+'Dec19'!D35 -> 0 | E35: ='Jan19'!E35+'Feb19'!E35+'Mar19'!E35+'Apr19'!E35+'May19'!E35+June19!E35+'Jul19'!E35+'Aug19'!E35+'Sep19'!E35+'Oct19'!E35+'Nov19'!E35+'Dec19'!E35 -> 0 | F35: ='Jan19'!F35+'Feb19'!F35+'Mar19'!F35+'Apr19'!F35+'May19'!F35+June19!F35+'Jul19'!F35+'Aug19'!F35+'Sep19'!F35+'Oct19'!F35+'Nov19'!F35+'Dec19'!F35 -> 0 | G35: ='Jan19'!G35+'Feb19'!G35+'Mar19'!G35+'Apr19'!G35+'May19'!G35+June19!G35+'Jul19'!G35+'Aug19'!G35+'Sep19'!G35+'Oct19'!G35+'Nov19'!G35+'Dec19'!G35 -> 0 | H35: ='Jan19'!H35+'Feb19'!H35+'Mar19'!H35+'Apr19'!H35+'May19'!H35+June19!H35+'Jul19'!H35+'Aug19'!H35+'Sep19'!H35+'Oct19'!H35+'Nov19'!H35+'Dec19'!H35 -> 0
B36: g. Other | C36: 57 | D36: ='Jan19'!D36+'Feb19'!D36+'Mar19'!D36+'Apr19'!D36+'May19'!D36+June19!D36+'Jul19'!D36+'Aug19'!D36+'Sep19'!D36+'Oct19'!D36+'Nov19'!D36+'Dec19'!D36 -> 605871 | E36: ='Jan19'!E36+'Feb19'!E36+'Mar19'!E36+'Apr19'!E36+'May19'!E36+June19!E36+'Jul19'!E36+'Aug19'!E36+'Sep19'!E36+'Oct19'!E36+'Nov19'!E36+'Dec19'!E36 -> 436288 | F36: ='Jan19'!F36+'Feb19'!F36+'Mar19'!F36+'Apr19'!F36+'May19'!F36+June19!F36+'Jul19'!F36+'Aug19'!F36+'Sep19'!F36+'Oct19'!F36+'Nov19'!F36+'Dec19'!F36 -> 0 | G36: ='Jan19'!G36+'Feb19'!G36+'Mar19'!G36+'Apr19'!G36+'May19'!G36+June19!G36+'Jul19'!G36+'Aug19'!G36+'Sep19'!G36+'Oct19'!G36+'Nov19'!G36+'Dec19'!G36 -> 0 | H36: ='Jan19'!H36+'Feb19'!H36+'Mar19'!H36+'Apr19'!H36+'May19'!H36+June19!H36+'Jul19'!H36+'Aug19'!H36+'Sep19'!H36+'Oct19'!H36+'Nov19'!H36+'Dec19'!H36 -> 1042159
B37: h. | C37: 58
B38: i. | C38: 59
B39: j. | C39: 60
B40: k. | C40: 61
B41: l. | C41: 62
B42: m. | C42: 63
B43: n. | C43: 64
B44: o. | C44: 65
B45: p. | C45: 66
B46: q. | C46: 67
B47: r. Total (a. thru s.) | C47: 70 | D47: ='Jan19'!D47+'Feb19'!D47+'Mar19'!D47+'Apr19'!D47+'May19'!D47+June19!D47+'Jul19'!D47+'Aug19'!D47+'Sep19'!D47+'Oct19'!D47+'Nov19'!D47+'Dec19'!D47 -> 753535 | E47: ='Jan19'!E47+'Feb19'!E47+'Mar19'!E47+'Apr19'!E47+'May19'!E47+June19!E47+'Jul19'!E47+'Aug19'!E47+'Sep19'!E47+'Oct19'!E47+'Nov19'!E47+'Dec19'!E47 -> 560655 | F47: ='Jan19'!F47+'Feb19'!F47+'Mar19'!F47+'Apr19'!F47+'May19'!F47+June19!F47+'Jul19'!F47+'Aug19'!F47+'Sep19'!F47+'Oct19'!F47+'Nov19'!F47+'Dec19'!F47 -> 0 | G47: ='Jan19'!G47+'Feb19'!G47+'Mar19'!G47+'Apr19'!G47+'May19'!G47+June19!G47+'Jul19'!G47+'Aug19'!G47+'Sep19'!G47+'Oct19'!G47+'Nov19'!G47+'Dec19'!G47 -> 0 | H47: ='Jan19'!H47+'Feb19'!H47+'Mar19'!H47+'Apr19'!H47+'May19'!H47+June19!H47+'Jul19'!H47+'Aug19'!H47+'Sep19'!H47+'Oct19'!H47+'Nov19'!H47+'Dec19'!H47 -> 1314190
A48: 5. Net | B48: a. At Full Rate | D48: ='Jan19'!D48+'Feb19'!D48+'Mar19'!D48+'Apr19'!D48+'May19'!D48+June19!D48+'Jul19'!D48+'Aug19'!D48+'Sep19'!D48+'Oct19'!D48+'Nov19'!D48+'Dec19'!D48 -> 1.9471624e+08 | E48: ='Jan19'!E48+'Feb19'!E48+'Mar19'!E48+'Apr19'!E48+'May19'!E48+June19!E48+'Jul19'!E48+'Aug19'!E48+'Sep19'!E48+'Oct19'!E48+'Nov19'!E48+'Dec19'!E48 -> 1149561582 | F48: ='Jan19'!F48+'Feb19'!F48+'Mar19'!F48+'Apr19'!F48+'May19'!F48+June19!F48+'Jul19'!F48+'Aug19'!F48+'Sep19'!F48+'Oct19'!F48+'Nov19'!F48+'Dec19'!F48 -> 4.9372873e+08 | G48: ='Jan19'!G48+'Feb19'!G48+'Mar19'!G48+'Apr19'!G48+'May19'!G48+June19!G48+'Jul19'!G48+'Aug19'!G48+'Sep19'!G48+'Oct19'!G48+'Nov19'!G48+'Dec19'!G48 -> 8941378.3 | H48: ='Jan19'!H48+'Feb19'!H48+'Mar19'!H48+'Apr19'!H48+'May19'!H48+June19!H48+'Jul19'!H48+'Aug19'!H48+'Sep19'!H48+'Oct19'!H48+'Nov19'!H48+'Dec19'!H48 -> 1.8469479e+09
A49: Volume
A50: Taxed | B50: IMC fuel volume used in state | F50: =F18 -> 39682146
B51: IMC fuel volume purchased in state | F51: 0
B52: Net IMC | F52: =F50-F51 -> 39682146
